BEGIN:VCALENDAR
VERSION:2.0
CALSCALE:GREGORIAN
PRODID:adamgibbons/ics
METHOD:PUBLISH
X-PUBLISHED-TTL:PT1H
BEGIN:VEVENT
UID:376@keepkarlsruheboring.org
SUMMARY:Das DA DA – FEST
DTSTAMP:20260423T102133Z
DTSTART:20250913T200000Z
DESCRIPTION:Das DA DA – FEST steht vor der Tür! 🔥\n\nAm 13. & 14. September
	 2025 öffnen sich unsere Ateliers in der Oststadt und\nverwandeln sich in 
	ein dadaistisches Paralleluniversum! 🌌\n\n🖼️ Ausstellung mit Arbeiten von: 
	Luna Labenz\, Felix Wagner\, Franka Lau\, Janika\nKungl\, Jannis Burkhardt
	\, Francis Karat & Suna Freytag\n\n🎭 Live-Programm: Jujuuuz\, Carla Bock\,
	 Finn Baygan\, Isabelle Konrad\, Luise\nPeschko\, Francis Karat & Sophie R
	eißfelder\n\n🍹 Bar & am 14.09. vegane Bratwürste 🌭\n\n📍 Atelier im Hinterz
	immer\n\n⏰ 16:00 – 23:00 Uhr\n\n🎟️ Eintritt frei\n\nUnd 13.09.\, ab 22:00 U
	hr: DADA-Exzess im Studio Francis Karat! 🔥\n\nDJ-Sets von Hada Hido & dem 
	Sauna Kollektiv – Tanzt bis die Füße glühen! 🕺\n\n📍 Studio Francis Karat\,
	 Degenfeldstraße 15 \n\n⏰ 22:00 – 02:00 Uhr\n\n🎟️ Eintritt frei\n\nKommt vo
	rbei\, staunt\, lacht\, tanzt\, lasst euch treiben – Da? Da! 🎉\n\nPlakat D
	esign von Lara Last <3
URL:https://keepkarlsruheboring.org/event/das-da-da-fest
GEO:49.007;8.42086
LOCATION:Studio Francis Karat - 15\, Degenfeldstraße\, Oststadt Westlicher 
	Teil\, Oststadt\, Karlsruhe\, Baden-Württemberg\, 76131\, Deutschland
STATUS:CONFIRMED
CATEGORIES:Art,Concert,Festival
X-ALT-DESC;FMTTYPE=text/html:<p>Das DA DA – FEST steht vor der Tür! 🔥</p><p
	>Am <strong>13. &amp; 14. September 2025</strong> öffnen sich unsere Ateli
	ers in der Oststadt und verwandeln sich in ein dadaistisches Parallelunive
	rsum! 🌌</p><p>🖼️ Ausstellung mit Arbeiten von: Luna Labenz, Felix Wagner, F
	ranka Lau, Janika Kungl, Jannis Burkhardt, Francis Karat &amp; Suna Freyta
	g</p><p>🎭 Live-Programm: Jujuuuz, Carla Bock, Finn Baygan, Isabelle Konrad
	, Luise Peschko, Francis Karat &amp; Sophie Reißfelder</p><p>🍹 Bar &amp; a
	m 14.09. vegane Bratwürste 🌭</p><p>📍 Atelier im Hinterzimmer</p><p>⏰ 16:00
	 – 23:00 Uhr</p><p>🎟️ Eintritt frei</p><p><strong>Und 13.09., ab 22:00 Uhr:
	 DADA-Exzess im Studio Francis Karat! 🔥</strong></p><p><strong>DJ-Sets von
	 Hada Hido &amp; dem Sauna Kollektiv – Tanzt bis die Füße glühen! 🕺</stron
	g></p><p>📍 Studio Francis Karat, Degenfeldstraße 15&nbsp;</p><p>⏰ 22:00 – 
	02:00 Uhr</p><p>🎟️ Eintritt frei</p><p>Kommt vorbei, staunt, lacht, tanzt, 
	lasst euch treiben – Da? Da! 🎉</p><p>Plakat Design von Lara Last &lt;3</p>
BEGIN:VALARM
ACTION:DISPLAY
DESCRIPTION:Das DA DA – FEST
TRIGGER:-PT1H
END:VALARM
END:VEVENT
END:VCALENDAR
