BEGIN:VCALENDAR
VERSION:2.0
CALSCALE:GREGORIAN
PRODID:adamgibbons/ics
METHOD:PUBLISH
X-PUBLISHED-TTL:PT1H
BEGIN:VEVENT
UID:1232@keepkarlsruheboring.org
SUMMARY:Data Not Found? Neue (Infra-)Strukturen mit und in der Nationalen F
	orschungsdateninfrastruktur (NFDI)
DTSTAMP:20260423T105018Z
DTSTART:20260314T190000Z
DTEND:20260314T200000Z
DESCRIPTION:2019 hat die DFG angefangen\, verschiedene Projekte mit fast ei
	ner Milliarde Euro\nzu fördern\, das unter dem Titel „Nationale Forschungs
	dateninfrastruktur“. Das\nZiel dahinter: Daten in der Forschung einfacher 
	auffindbar nutzbar zu machen.\nWeg vom Server in der Ecke des Lehrstuhlbür
	os „mit dieser einen Exceldatei“\,\nwelche nur wenige umfassend verstehen 
	hin zu einheitlichen\, einfach nutzbaren\nInterfaces. Bei dem Talk soll es
	 nicht um Buzzwords wie „Datenschatz“ gehen\,\nsondern um die Struktur\, d
	en Zustand und die Zukunft der NFDI. Was für Daten\nsind wie verfügbar\, w
	ie soll die Situation verbessert werden\, vielleicht sogar:\nWas für inter
	essante Software wird in diesem Kontext entwickelt?\n\nMehr Informationen 
	über unser Open Sessions Format findet ihr hier:\nhttps://entropia.de/Open
	_Sessions [https://entropia.de/Open_Sessions]
URL:https://keepkarlsruheboring.org/event/data-not-found-neue-infra-struktu
	ren-mit-und-in-der-nationalen-forschungsdateninfrastruktur-nfdi
GEO:49.0063;8.40722
LOCATION:Entropia - Gewerbehof Steinstraße 23 76133 Karlsruhe
STATUS:CONFIRMED
CATEGORIES:Technology,Vortrag
X-ALT-DESC;FMTTYPE=text/html:<p>2019 hat die DFG angefangen, verschiedene P
	rojekte mit fast einer Milliarde Euro zu fördern, das unter dem Titel „Nat
	ionale Forschungsdateninfrastruktur“. Das Ziel dahinter: Daten in der Fors
	chung einfacher auffindbar nutzbar zu machen. Weg vom Server in der Ecke d
	es Lehrstuhlbüros „mit dieser einen Exceldatei“, welche nur wenige umfasse
	nd verstehen hin zu einheitlichen, einfach nutzbaren Interfaces. Bei dem T
	alk soll es nicht um Buzzwords wie „Datenschatz“ gehen, sondern um die Str
	uktur, den Zustand und die Zukunft der NFDI. Was für Daten sind wie verfüg
	bar, wie soll die Situation verbessert werden, vielleicht sogar: Was für i
	nteressante Software wird in diesem Kontext entwickelt?</p><p>Mehr Informa
	tionen über unser Open Sessions Format findet ihr hier: <a href="https://e
	ntropia.de/Open_Sessions" target="_blank">https://entropia.de/Open_Session
	s</a></p>
BEGIN:VALARM
ACTION:DISPLAY
DESCRIPTION:Data Not Found? Neue (Infra-)Strukturen mit und in der National
	en Forschungsdateninfrastruktur (NFDI)
TRIGGER:-PT1H
END:VALARM
END:VEVENT
END:VCALENDAR
