BEGIN:VCALENDAR
VERSION:2.0
CALSCALE:GREGORIAN
PRODID:adamgibbons/ics
METHOD:PUBLISH
X-PUBLISHED-TTL:PT1H
BEGIN:VEVENT
UID:561@keepkarlsruheboring.org
SUMMARY:Dazwischen
DTSTAMP:20260423T102045Z
DTSTART:20251119T170000Z
DTEND:20251122T225900Z
DESCRIPTION:Am Mittwoch den 19. November 2025 eröffnen unsere Bachelors des
	 WS25/26 ihre\nAusstellung.\n\nMit dabei:\nTessa Baldszus\nMarlene Hütter\
	nAlexander Johl\nLilly Oehler\nLinus Schmitt
URL:https://keepkarlsruheboring.org/event/dazwischen
GEO:49.013;8.38736
LOCATION:Staatliche Akademie der Bildenden Künste Karlsruhe - 67\, Reinhold
	-Frank-Straße\, Innenstadt-West Westlicher Teil\, Innenstadt-West\, Karlsr
	uhe\, Baden-Württemberg\, 76133\, Deutschland
STATUS:CONFIRMED
CATEGORIES:Art,Exhibition,Kunstakademie Karlsruhe
X-ALT-DESC;FMTTYPE=text/html:<p>Am Mittwoch den 19. November 2025 eröffnen 
	unsere Bachelors des WS25/26 ihre Ausstellung.</p><p>Mit dabei:<br>Tessa B
	aldszus<br>Marlene Hütter<br>Alexander Johl<br>Lilly Oehler<br>Linus Schmi
	tt</p>
BEGIN:VALARM
ACTION:DISPLAY
DESCRIPTION:Dazwischen
TRIGGER:-PT1H
END:VALARM
END:VEVENT
END:VCALENDAR
