BEGIN:VCALENDAR
VERSION:2.0
CALSCALE:GREGORIAN
PRODID:adamgibbons/ics
METHOD:PUBLISH
X-PUBLISHED-TTL:PT1H
BEGIN:VEVENT
UID:1114@keepkarlsruheboring.org
SUMMARY:Debanking Stoppen! Perspektiven auf eine gar nicht mal so neue Repr
	essionsform
DTSTAMP:20260423T104910Z
DTSTART:20260303T173000Z
DESCRIPTION:Liebe GenossInnen\,\n\nseit Ende letzten Jahres hat die Rote Hi
	lfe e.V. mti einer un(v)erhofften\nÜberraschung zu tun: Alle Ortsgruppenko
	nten sowie das RH-Geschäftskonto sollen\nzum 28.2.2026 gekündigt werden. A
	ls linke Organisation sind wir aber nicht\nallein betroffen.\n\nWährend se
	ither alle Hebel in Bewegung gesetzt werden\, um das Schlimmste\nabzuwende
	n\, wollen wir nicht verpassen\, euch mittels Hintergrundrecherche\,\nvers
	chiedener Perspektiven und versuchter Strategien immerhin einen Überblick 
	zu\nverschaffen.\n\nDarum laden wir euch am Dienstag\, den 3. März um 18:3
	0 Uhr\, herzlich ein zu\nunserem Info-Event: Debanking Stoppen! Perspektiv
	en auf eine gar nicht mal so\nneue Repressionsform im DGB-Haus in der Ettl
	inger Straße 3a.\n\nLasst uns gemeinsam überlegen und diskutieren. Am Aben
	d wird es wie immer\nGelegenheit geben\, einen Mitgliedsbeitrag auszufülle
	n 😉
URL:https://keepkarlsruheboring.org/event/debanking-stoppen-perspektiven-au
	f-eine-gar-nicht-mal-so-neue-repressionsform
GEO:49.003;8.40367
LOCATION:DGB-Haus - 3a\, Ettlinger Straße\, Südstadt Nördlicher Teil\, Süds
	tadt\, Karlsruhe\, Baden-Württemberg\, 76137\, Deutschland
STATUS:CONFIRMED
CATEGORIES:Lecture,Politics,Rote Hilfe,Solidarity
X-ALT-DESC;FMTTYPE=text/html:<p>Liebe GenossInnen,</p><p>seit Ende letzten 
	Jahres hat die Rote Hilfe e.V. mti einer un(v)erhofften Überraschung zu tu
	n: Alle Ortsgruppenkonten sowie das RH-Geschäftskonto sollen zum 28.2.2026
	 gekündigt werden. Als linke Organisation sind wir aber nicht allein betro
	ffen.</p><p>Während seither alle Hebel in Bewegung gesetzt werden, um das 
	Schlimmste abzuwenden, wollen wir nicht verpassen, euch mittels Hintergrun
	drecherche, verschiedener Perspektiven und versuchter Strategien immerhin 
	einen Überblick zu verschaffen.</p><p>Darum laden wir euch am Dienstag, de
	n 3. März um 18:30 Uhr, herzlich ein zu unserem Info-Event: Debanking Stop
	pen! Perspektiven auf eine gar nicht mal so neue Repressionsform im DGB-Ha
	us in der Ettlinger Straße 3a.</p><p>Lasst uns gemeinsam überlegen und dis
	kutieren. Am Abend wird es wie immer Gelegenheit geben, einen Mitgliedsbei
	trag auszufüllen 😉</p>
BEGIN:VALARM
ACTION:DISPLAY
DESCRIPTION:Debanking Stoppen! Perspektiven auf eine gar nicht mal so neue 
	Repressionsform
TRIGGER:-PT1H
END:VALARM
END:VEVENT
END:VCALENDAR
