BEGIN:VCALENDAR
VERSION:2.0
CALSCALE:GREGORIAN
PRODID:adamgibbons/ics
METHOD:PUBLISH
X-PUBLISHED-TTL:PT1H
BEGIN:VEVENT
UID:555@keepkarlsruheboring.org
SUMMARY:Delta Sessions
DTSTAMP:20260423T102036Z
DTSTART:20251127T170000Z
DESCRIPTION:[ ↓↓ Englsih version Below ↓↓ ]]\n\nFür Chiharu Koda [https://w
	ww.cityofmediaarts.de/de/kuenstler/chiharu-koda/]\nsind Räume keine starre
	n Hüllen\, sondern lebendige Prozesse: Sie fließen\,\nverdichten sich\, lö
	sen sich auf und entstehen neu. Bewegungen\, Geschichte und\nBegegnungen f
	ormen sie. Was aber passiert\, wenn Raum nicht statisch gedacht\nwird\, so
	ndern wie ein Fluss – geformt von äußeren Kräften und ständig im Wandel?\n
	\nWährend ihres zehnmonatigen Aufenthalts im studio hö beschrieb sie den S
	tandort\nals „Delta“ – eine Flussgabelung\, an der soziale und kulturelle 
	Strömungen der\nStadt zusammenfließen. Aus dieser Perspektive entstanden d
	rei Projekte zum Thema\nRaum und Wasser.\n\nDas abschließende Projekt Delt
	a überträgt die Dynamik eines Flussdeltas auf den\nurbanen Kontext. Das ge
	samte Studio wird zur interaktiven Installation: Sensoren\nerfassen die Be
	wegungen der Besuchenden\, während Module aus Holz\, Biokunststoff\naus de
	m Rhein\, 3D-Druck und Keramik motorisch reagieren. Algorithmen verarbeite
	n\ndie Daten in Echtzeit und schaffen so ein „urbanes Delta“ – einen\nviel
	schichtigen\, sich ständig wandelnden Raum\, der nicht nur Architektur\nsi
	chtbar macht\, sondern auch die Bewegungen\, Begegnungen und Strömungen ei
	ner\nStadt erfahrbar werden lässt.\n\nEröffnung\nDonnerstag\, 27.11.2025\,
	 18 Uhr\nBegrüßung: Norina Quinte\n\n> Veranstaltung: Delta sessions\n> Sa
	mstag\, 29.11.2025\n> 14:00 Uhr – Artist Talk: Chiharu Koda × Antonia Mart
	en\n> 15:10 Uhr – Musik: Moe Fukuda\n> 15:30 Uhr – Media Art Circle\n\n> Ö
	ffnungszeiten:\n> Mo: 1.12 & 8.12.2025 → 10–12 Uhr / 14–16 Uhr\n> Di: 2.12
	. & 9.12.2025 → 17–19 Uhr\n> Do: 4.12. & 11.12.2025 → 10–12 Uhr / 14–16 Uh
	r\n> So: 14.12.2025 → 15–18 Uhr\n\n\n\n/-/-/\n\nFor Chiharu Koda [https://
	www.cityofmediaarts.de/en/kuenstler/chiharu-koda/]\,\nspaces are not rigid
	 shells but living processes: they flow\, condense\, dissolve\,\nand emerg
	e anew. Movements\, history\, and encounters shape them. But what happens\
	nwhen space is not thought of as static\, but like a river – shaped by ext
	ernal\nforces and constantly changing?\n\nDuring her ten-month residency a
	t studio hö\, she described the location as a\n“Delta” – a river fork wher
	e the social and cultural currents of the city\nconverge. From this perspe
	ctive\, three projects on the theme of space and water\nwere developed.\n\
	nThe final project\, Delta\, transfers the dynamics of a river delta to an
	 urban\ncontext. The entire studio becomes an interactive installation: se
	nsors track\nvisitors’ movements\, while modules made of wood\, bioplastic
	 from the Rhine\,\n3D-printed elements\, and ceramics respond mechanically
	. Algorithms process the\ndata in real time\, creating an “urban delta” – 
	a layered\, constantly changing\nspace that not only reveals architecture 
	but also makes the movements\,\nencounters\, and currents of a city tangib
	le.\n\nOpening\nThursday\, 27.11.2025\, 6 PM\nWelcome: Norina Quinte\n\nEv
	ent: Delta Sessions\nSaturday\, 29.11.2025\n\n> 2:00 p.m. – Artist Talk: C
	hiharu Koda × Antonia Marten\n> 3:10 p.m. – Music: Moe Fukuda\n> 3:30 p.m.
	 – Media Art Circle\n\n> Opening Hours\n> Mon\, 1 & 8 Dec 2025 → 10 a.m.–1
	2 p.m./ 2–4 p.m.\n> Tue\, 2 & 9 Dec 2025 → 5–7 p.m.\n> Thu\, 4 & 11 Dec 20
	25 → 10 a.m.–12 p.m./ 2–4 p.m.\n> Sun\, 14 Dec 2025 → 3–6 p.m.\n\n\n
URL:https://keepkarlsruheboring.org/event/delta-1
GEO:49.0089;8.41586
LOCATION:Studio Hö - 3\, Kaiserstraße\, Innenstadt-Ost Südwestlicher Teil\,
	 Innenstadt-Ost\, Karlsruhe\, Baden-Württemberg\, 76131\, Deutschland
STATUS:CONFIRMED
CATEGORIES:Art,Exhibition,Opening,Urban
X-ALT-DESC;FMTTYPE=text/html:<p>[ ↓↓ Englsih version Below ↓↓ ]]</p><p>Für 
	<a href="https://www.cityofmediaarts.de/de/kuenstler/chiharu-koda/" target
	="_blank">Chiharu Koda</a><strong> </strong>sind Räume keine starren Hülle
	n, sondern lebendige Prozesse: Sie fließen, verdichten sich, lösen sich au
	f und entstehen neu. Bewegungen, Geschichte und Begegnungen formen sie. Wa
	s aber passiert, wenn Raum nicht statisch gedacht wird, sondern wie ein Fl
	uss – geformt von äußeren Kräften und ständig im Wandel?</p><p>Während ihr
	es zehnmonatigen Aufenthalts im <strong>studio hö</strong> beschrieb sie d
	en Standort als „Delta“ – eine Flussgabelung, an der soziale und kulturell
	e Strömungen der Stadt zusammenfließen. Aus dieser Perspektive entstanden 
	drei Projekte zum Thema Raum und Wasser.</p><p>Das abschließende Projekt <
	em>Delta </em>überträgt die Dynamik eines Flussdeltas auf den urbanen Kont
	ext. Das gesamte Studio wird zur interaktiven Installation: Sensoren erfas
	sen die Bewegungen der Besuchenden, während Module aus Holz, Biokunststoff
	 aus dem Rhein, 3D-Druck und Keramik motorisch reagieren. Algorithmen vera
	rbeiten die Daten in Echtzeit und schaffen so ein „urbanes Delta“ – einen 
	vielschichtigen, sich ständig wandelnden Raum, der nicht nur Architektur s
	ichtbar macht, sondern auch die Bewegungen, Begegnungen und Strömungen ein
	er Stadt erfahrbar werden lässt.</p><p><strong>Eröffnung</strong><br>Donne
	rstag, 27.11.2025, 18 Uhr<br>Begrüßung: Norina Quinte</p><blockquote><p><s
	trong>Veranstaltung: Delta sessions<br></strong>Samstag, 29.11.2025<br>14:
	00 Uhr – Artist Talk: Chiharu Koda × Antonia Marten<br>15:10 Uhr – Musik: 
	Moe Fukuda<br>15:30 Uhr – Media Art Circle</p></blockquote><blockquote><p>
	<strong>Öffnungszeiten:</strong><br>Mo: 1.12 &amp; 8.12.2025 → 10–12 Uhr /
	 14–16 Uhr<br>Di: 2.12. &amp; 9.12.2025 → 17–19 Uhr<br>Do: 4.12. &amp; 11.
	12.2025 → 10–12 Uhr / 14–16 Uhr<br>So: 14.12.2025 → 15–18 Uhr</p></blockqu
	ote><p></p><p>/-/-/</p><p>For<strong> </strong><a href="https://www.cityof
	mediaarts.de/en/kuenstler/chiharu-koda/" target="_blank">Chiharu Koda</a>,
	 spaces are not rigid shells but living processes: they flow, condense, di
	ssolve, and emerge anew. Movements, history, and encounters shape them. Bu
	t what happens when space is not thought of as static, but like a river – 
	shaped by external forces and constantly changing?</p><p>During her ten-mo
	nth residency at <strong>studio hö</strong>, she described the location as
	 a “Delta” – a river fork where the social and cultural currents of the ci
	ty converge. From this perspective, three projects on the theme of space a
	nd water were developed.</p><p>The final project, <em>Delta</em>, transfer
	s the dynamics of a river delta to an urban context. The entire studio bec
	omes an interactive installation: sensors track visitors’ movements, while
	 modules made of wood, bioplastic from the Rhine, 3D-printed elements, and
	 ceramics respond mechanically. Algorithms process the data in real time, 
	creating an “urban delta” – a layered, constantly changing space that not 
	only reveals architecture but also makes the movements, encounters, and cu
	rrents of a city tangible.</p><p><strong>Opening</strong><br>Thursday, 27.
	11.2025, 6 PM<br>Welcome: Norina Quinte</p><p><strong>Event: Delta Session
	s</strong><br>Saturday, 29.11.2025</p><blockquote><p>2:00 p.m. – Artist Ta
	lk: Chiharu Koda × Antonia Marten<br>3:10 p.m. – Music: Moe Fukuda<br>3:30
	 p.m. – Media Art Circle</p></blockquote><blockquote><p><strong>Opening Ho
	urs</strong><br>Mon, 1 &amp; 8 Dec 2025 → 10 a.m.–12 p.m./ 2–4 p.m.<br>Tue
	, 2 &amp; 9 Dec 2025 → 5–7 p.m.<br>Thu, 4 &amp; 11 Dec 2025 → 10 a.m.–12 p
	.m./ 2–4 p.m.<br>Sun, 14 Dec 2025 → 3–6 p.m.</p></blockquote><h3></h3>
BEGIN:VALARM
ACTION:DISPLAY
DESCRIPTION:Delta Sessions
TRIGGER:-PT1H
END:VALARM
END:VEVENT
END:VCALENDAR
