BEGIN:VCALENDAR
VERSION:2.0
CALSCALE:GREGORIAN
PRODID:adamgibbons/ics
METHOD:PUBLISH
X-PUBLISHED-TTL:PT1H
BEGIN:VEVENT
UID:566@keepkarlsruheboring.org
SUMMARY:Demo gegen Gewalt an Frauen
DTSTAMP:20260423T104737Z
DTSTART:20251125T163000Z
DTEND:20251125T180000Z
DESCRIPTION:Patriarchale Gewalt hat System - Frauen wehrt euch!\n\nKommt am
	 25.11. auf die Straße zum Tag gegen Gewalt an Frauen!\n\n📌 17.30 Uhr - St
	ephanplatz - Karlsruhe
URL:https://keepkarlsruheboring.org/event/demo-gegen-gewalt-an-frauen
GEO:49.0084;8.39416
LOCATION:Stephanplatz\, Karlsruhe - Stephanplatz\, 76133 Karlsruhe
STATUS:CONFIRMED
CATEGORIES:Demonstration,Queerfeminismus
X-ALT-DESC;FMTTYPE=text/html:<p>Patriarchale Gewalt hat System - Frauen weh
	rt euch!</p><p>Kommt am 25.11. auf die Straße zum Tag gegen Gewalt an Frau
	en!</p><p>📌 17.30 Uhr - Stephanplatz - Karlsruhe</p>
BEGIN:VALARM
ACTION:DISPLAY
DESCRIPTION:Demo gegen Gewalt an Frauen
TRIGGER:-PT1H
END:VALARM
END:VEVENT
END:VCALENDAR
