BEGIN:VCALENDAR
VERSION:2.0
CALSCALE:GREGORIAN
PRODID:adamgibbons/ics
METHOD:PUBLISH
X-PUBLISHED-TTL:PT1H
BEGIN:VEVENT
UID:450@keepkarlsruheboring.org
SUMMARY:Demo: No Palantir
DTSTAMP:20260423T114933Z
DTSTART:20251102T130000Z
DESCRIPTION:Am Sonntag 02. November um 14:00 Uhr versammeln wir uns in Stut
	tgart gemeinsam\nauf dem Rotebühl-Platz\, um ein klares Zeichen zu setzen:
	 Keinen Fuß in die Türe\nfür die Polizeisoftware von Palantir in Baden-Wür
	ttemberg! Nicht jetzt\, nicht\nspäter. Unsere Innere Sicherheit und kritis
	che Infrastruktur darf nicht abhängig\nvon solch zwielichtigen Firmen werd
	en.\n\nDie Landesregierung plant\, mit Palantir ein System einzuführen\, d
	as tief in die\nPrivatsphäre der Bürgerschaft eingreift. Damit wird ein ge
	fährlicher\nPräzedenzfall geschaffen.\nWir sagen: Grundrechte schützen sta
	tt Überwachung ausbauen!\n\n\n\n\nSEI DABEI – UND MOBILISIERE IN DEINEN NE
	TZWERKEN!\n\nUnsere Socials für Aufrufe und aktuelle Infos: Instagram\n[ht
	tps://www.instagram.com/kein_palantir_bw/]\, Signal\n[https://signal.group
	/#CjQKIDPylSA1zmZ0vJ6ZO8xs8qxxJA3K00Q9wQWdgI-cj7quEhDvphyokhkWMoA1QWQjg6uO
	]\,\nMastodon [https://sueden.social/@kein_palantir_bw]\n\n\nWARUM ES WICH
	TIG IST:\n\n * Palantir steht weltweit für Überwachung\, Kontrolle und int
	ransparente\n   Machtstrukturen.\n\n * Ein Einsatz in Baden-Württemberg ge
	fährdet die Souveränität der Bürgerschaft\n   und öffnet Tür und Tor für M
	issbrauch.\n\n * Wir wollen ein freies\, demokratisches Land\, in dem Grun
	drechte nicht durch\n   Sicherheitsfantasien ausgehöhlt werden.\n\nAlso: K
	omm nach Stuttgart\, bring Leute mit\, teile den Aufruf in deinen Kanälen 
	–\nzusammen sind wir stark!\n\nIn unserer Mediathek [https://media.kein-pa
	lantir-bw.org/]findest du die\nAufnahmen der vergangenen Veranstaltung.\n\
	n\n\nMehr Infos auf kein.palantir-bw.org [https://kein-palantir-bw.org/]
URL:https://keepkarlsruheboring.org/event/demo-no-palantir
GEO:48.7725;9.16028
LOCATION:Rotebühl-Platz [Stuttgart] - Rotebühl\, Stuttgart\, Baden-Württemb
	erg\, 70176\, Deutschland
STATUS:CONFIRMED
CATEGORIES:Civil Rights,Demonstration,Stuttgart,Technology
X-ALT-DESC;FMTTYPE=text/html:<p>Am <strong>Sonntag 02. November um 14:00 Uh
	r</strong> versammeln wir uns in <strong>Stuttgart</strong> gemeinsam auf 
	dem Rotebühl-Platz, um ein klares Zeichen zu setzen: <strong>Keinen Fuß in
	 die Türe für die Polizeisoftware von Palantir in Baden-Württemberg! Nicht
	 jetzt, nicht später. Unsere Innere Sicherheit und kritische Infrastruktur
	 darf nicht abhängig von solch zwielichtigen Firmen werden.</strong></p><p
	>Die Landesregierung plant, mit Palantir ein System einzuführen, das tief 
	in die Privatsphäre der Bürgerschaft eingreift. Damit wird ein gefährliche
	r Präzedenzfall geschaffen. <br>Wir sagen:<strong> Grundrechte schützen st
	att Überwachung ausbauen!</strong></p><p></p><h2>Sei dabei – und mobilisie
	re in deinen Netzwerken!</h2><p>Unsere Socials für Aufrufe und aktuelle In
	fos: <a href="https://www.instagram.com/kein_palantir_bw/" target="_blank"
	>Instagram</a>, <a href="https://signal.group/#CjQKIDPylSA1zmZ0vJ6ZO8xs8qx
	xJA3K00Q9wQWdgI-cj7quEhDvphyokhkWMoA1QWQjg6uO" target="_blank">Signal</a>,
	 <a href="https://sueden.social/@kein_palantir_bw" target="_blank">Mastodo
	n</a></p><h3>Warum es wichtig ist:</h3><ul><li><p>Palantir steht weltweit 
	für <strong>Überwachung, Kontrolle und intransparente Machtstrukturen</str
	ong>.</p></li></ul><ul><li><p>Ein Einsatz in Baden-Württemberg gefährdet d
	ie <strong>Souveränität der Bürgerschaft</strong> und öffnet Tür und Tor f
	ür Missbrauch.</p></li><li><p>Wir wollen ein <strong>freies, demokratische
	s Land</strong>, in dem Grundrechte nicht durch Sicherheitsfantasien ausge
	höhlt werden.</p></li></ul><p><strong>Also: Komm nach Stuttgart, bring Leu
	te mit, teile den Aufruf in deinen Kanälen – zusammen sind wir stark!</str
	ong></p><p>In unserer <a href="https://media.kein-palantir-bw.org/" target
	="_blank">Mediathek </a>findest du die Aufnahmen der vergangenen Veranstal
	tung.</p><p></p><p><a href="https://kein-palantir-bw.org/" target="_blank"
	>Mehr Infos auf kein.palantir-bw.org</a></p>
BEGIN:VALARM
ACTION:DISPLAY
DESCRIPTION:Demo: No Palantir
TRIGGER:-PT1H
END:VALARM
END:VEVENT
END:VCALENDAR
