BEGIN:VCALENDAR
VERSION:2.0
CALSCALE:GREGORIAN
PRODID:adamgibbons/ics
METHOD:PUBLISH
X-PUBLISHED-TTL:PT1H
BEGIN:VEVENT
UID:164@keepkarlsruheboring.org
SUMMARY:Demo- und Aktionstraining
DTSTAMP:20260423T102218Z
DTSTART:20250817T093000Z
DTEND:20250817T140000Z
DESCRIPTION:Egal\, ob du zu deiner ersten Demo willst oder schon einige Erf
	ahrung mit\nAktionen zivilen Ungehorsams hast – beim Demo- & Aktionstraini
	ng beantworten wir\ndeine wichtigsten Fragen und üben an praktischen Beisp
	ielen: Welche Rechte habe\nich auf Demos und Aktionen? Was sollte ich auf 
	Aktionen mitnehmen und was lasse\nich besser zu Hause? Wie verhalte ich mi
	ch im Umgang mit der Polizei? Was ist\neine Bezugsgruppe und wie koordinie
	ren sich Bezugsgruppen in einer Aktion? Was\nist ziviler Ungehorsam und we
	lche praktischen Formen gibt es? Ziel des Trainings\nist es\, unsere gemei
	nsame Handlungsfähigkeit bei Aktionen auf der Straße zu\nerhöhen. Kommt bi
	tte pünktlich und nehmt Euch für die gesamte Dauer des\nTrainings Zeit. Da
	s Training findet drinnen und draußen statt\, zieht Euch\nbequeme Kleidung
	 und je nach Wetter passend an.
URL:https://keepkarlsruheboring.org/event/demo-und-aktionstraining
GEO:49.0066;8.40738
LOCATION:Rote Stern - 23\, Steinstraße\, Innenstadt-Ost Südwestlicher Teil\
	, Innenstadt-Ost\, Karlsruhe\, Baden-Württemberg\, 76133\, Deutschland
STATUS:CONFIRMED
CATEGORIES:Politics,Workshop
X-ALT-DESC;FMTTYPE=text/html:Egal, ob du zu deiner ersten Demo willst oder 
	schon einige Erfahrung mit Aktionen zivilen Ungehorsams hast – beim Demo- 
	& Aktionstraining beantworten wir deine wichtigsten Fragen und üben an pra
	ktischen Beispielen:<br>Welche Rechte habe ich auf Demos und Aktionen? Was
	 sollte ich auf Aktionen mitnehmen und was lasse ich besser zu Hause? Wie 
	verhalte ich mich im Umgang mit der Polizei? Was ist eine Bezugsgruppe und
	 wie koordinieren sich Bezugsgruppen in einer Aktion? Was ist ziviler Unge
	horsam und welche praktischen Formen gibt es?<br>Ziel des Trainings ist es
	, unsere gemeinsame Handlungsfähigkeit bei Aktionen auf der Straße zu erhö
	hen.<br>Kommt bitte pünktlich und nehmt Euch für die gesamte Dauer des Tra
	inings Zeit. Das Training findet drinnen und draußen statt, zieht Euch beq
	ueme Kleidung und je nach Wetter passend an.
BEGIN:VALARM
ACTION:DISPLAY
DESCRIPTION:Demo- und Aktionstraining
TRIGGER:-PT1H
END:VALARM
END:VEVENT
END:VCALENDAR
