BEGIN:VCALENDAR
VERSION:2.0
CALSCALE:GREGORIAN
PRODID:adamgibbons/ics
METHOD:PUBLISH
X-PUBLISHED-TTL:PT1H
BEGIN:VEVENT
UID:70@keepkarlsruheboring.org
SUMMARY:Demo zum Erhalt des Geschwisterkinderzuschuss
DTSTAMP:20260423T090748Z
DTSTART:20250527T130000Z
DESCRIPTION:Am Dienstag\, den 27. Mai 2025 hätte der Gemeinderat der Stadt 
	Karlsruhe über\nsehr weitreichende Einsparungen im städtischen Haushalt en
	tschieden.\n\nUm ein Haushaltsloch in Höhe von 15 Millionen Euro zu schlie
	ßen\, sollen alle\nstädtischen Bereichen ihren Beitrag leisten.\n\nAls ein
	e Maßnahme\, um das städtische Defizit auszugleichen\, sieht die\nVerwaltu
	ngsspitze die Streichung des bisher gewährten Geschwisterrabatts für die\n
	Kindertagesbetreuung zum 01.09.2025 vor. Gleichzeitig tritt eine neue\nGeb
	ührenordnung in Kraft. Für Familien bedeutet dies eine extreme monatliche\
	nMehrbelastung für eine unumgängliche Kindertagesbetreuung. Auf Grund von\
	nmassivem Druck wurde nun der Punkt von der Tagesordnung gestrichen und so
	ll bei\neiner anderen Sitzung beschlossen werden.\n\nDer Gesamtelternbeira
	t der Karlsruher Kindertageseinrichtungen ruft daher in\nKooperation mit d
	em Aktion Vorschulkind e.V. zu einer Demo auf.\n\nDenn: Familie ist keine 
	Privatsache. Sie betrifft uns alle – als Kolleg*innen\,\nals Teil dieser G
	esellschaft\, die nur mit sozialem Zusammenhalt funktionieren\nkann.\n\nWa
	s\, wann\, wo?\nDienstag\, 27. Mai – 15:00 Uhr Friedrichsplatz\, Karlsruhe
	 \n\nWarum wir dabei sind:\n\n * Kein Sozialer Kahlschlag\, keine Einsparu
	ng bei\n   Sozialleistungen/Familienfördernden Maßnahmen\, die Mitte der G
	esellschaft\n   darf nicht weiter über Gebühr belastet werden\n\n * Weil s
	oziale Gerechtigkeit kein Bonusprogramm ist\, sondern ein Grundrecht.\n\n 
	* Weil man nicht arbeiten gehen können muss\, um sich Arbeit leisten zu kö
	nnen.\n\n * Weil wir den sozialen Frieden nicht dem Rotstift opfern dürfen
	.\n\n * Weil wir den Preis zahlen – als Gesellschaft\, wenn wir jetzt nich
	ts tun.\n\n * Weil Prävention keine Sparmaßnahme ist. Wer heute bei Famili
	en spart\,\n   riskiert morgen den sozialen Frieden – und das ist unser we
	rtvollstes\n   Kapital.\n\n * Und weil es\, wie so oft\, wieder die trifft
	\, die schon jetzt wenig\n   haben: Familien mit niedrigem Einkommen\, All
	einerziehende\, Menschen mit\n   Migrationsgeschichte oder mit Behinderung
	. Inklusion und Teilhabe dürfen\n   keine Modeerscheinung sein. Das ist di
	e Grundlage für eine demokratische\,\n   gerechte Gesellschaft. Bildung mu
	ss umsonst sein\, für Alle!\n\nBringt gern Kolleg*innen mit\, vielleicht e
	in selbstgemaltes Plakat\, gute Laune\nund eine klare Haltung.\n\nDenn: Wi
	r sind viele. Wir sind wichtig. Und wir können etwas bewegen – wenn wir\ns
	ichtbar sind.\n\nSolidarische Grüße\n\nDGB Karlsruhe
URL:https://keepkarlsruheboring.org/event/demo-zum-erhalt-des-geschwisterki
	nderzuschuss
GEO:49.0079;8.40076
LOCATION:Friedrichsplatz - Innenstadt-West\, Karlsruhe\, Baden-Württemberg\
	, 76133\, Deutschland
STATUS:CONFIRMED
CATEGORIES:Demonstration,Politics
X-ALT-DESC;FMTTYPE=text/html:<p>Am Dienstag, den 27. Mai 2025 hätte der Gem
	einderat der Stadt Karlsruhe über sehr weitreichende Einsparungen im städt
	ischen Haushalt entschieden.</p><p>Um ein Haushaltsloch in Höhe von&nbsp;<
	strong>15 Millionen Euro</strong>&nbsp;zu schließen, sollen alle städtisch
	en Bereichen ihren Beitrag leisten.</p><p>Als eine Maßnahme, um das städti
	sche Defizit auszugleichen, sieht die Verwaltungsspitze die Streichung des
	 bisher gewährten Geschwisterrabatts für die Kindertagesbetreuung zum 01.0
	9.2025 vor. Gleichzeitig tritt eine neue Gebührenordnung in Kraft. Für Fam
	ilien bedeutet dies eine extreme monatliche Mehrbelastung für eine unumgän
	gliche Kindertagesbetreuung. Auf Grund von massivem Druck wurde nun der Pu
	nkt von der Tagesordnung gestrichen und soll bei einer anderen Sitzung bes
	chlossen werden.</p><p><strong>Der Gesamtelternbeirat der Karlsruher Kinde
	rtageseinrichtungen ruft daher in Kooperation mit dem Aktion Vorschulkind 
	e.V. zu einer Demo auf.</strong></p><p><strong>Denn: Familie ist keine Pri
	vatsache. Sie betrifft uns alle – als Kolleg*innen, als Teil dieser Gesell
	schaft, die nur mit sozialem Zusammenhalt funktionieren kann.</strong></p>
	<p><strong>Was, wann, wo?<br>Dienstag, 27. Mai – 15:00 Uhr Friedrichsplatz
	, Karlsruhe&nbsp;</strong></p><p><strong>Warum wir dabei sind:</strong></p
	><ul><li><p>Kein Sozialer Kahlschlag, keine Einsparung bei Sozialleistunge
	n/Familienfördernden Maßnahmen, die Mitte der Gesellschaft darf nicht weit
	er über Gebühr belastet werden</p></li><li><p>Weil soziale Gerechtigkeit k
	ein Bonusprogramm ist, sondern ein Grundrecht.</p></li><li><p>Weil man nic
	ht arbeiten gehen können&nbsp;<strong>muss</strong>, um sich Arbeit&nbsp;<
	strong>leisten</strong>&nbsp;zu können.</p></li><li><p>Weil wir den sozial
	en Frieden nicht dem Rotstift opfern dürfen.</p></li><li><p>Weil wir den P
	reis zahlen – als Gesellschaft, wenn wir jetzt nichts tun.</p></li><li><p>
	<strong>Weil Prävention keine Sparmaßnahme ist.</strong>&nbsp;Wer heute be
	i Familien spart, riskiert morgen den sozialen Frieden – und das ist unser
	 wertvollstes Kapital.</p></li><li><p>Und weil es, wie so oft,&nbsp;<stron
	g>wieder die trifft, die schon jetzt wenig haben:</strong>&nbsp;Familien m
	it niedrigem Einkommen, Alleinerziehende, Menschen mit Migrationsgeschicht
	e oder mit Behinderung.&nbsp;<strong>Inklusion und Teilhabe dürfen keine M
	odeerscheinung sein. </strong>Das ist die Grundlage für eine demokratische
	, gerechte Gesellschaft. Bildung muss umsonst sein, für Alle!</p></li></ul
	><p>Bringt gern Kolleg*innen mit, vielleicht ein selbstgemaltes Plakat, gu
	te Laune und eine klare Haltung.</p><p>Denn: <strong>Wir sind viele. Wir s
	ind wichtig. Und wir können etwas bewegen – wenn wir sichtbar sind</strong
	>.</p><p><strong>Solidarische Grüße</strong></p><p><strong>DGB Karlsruhe</
	strong></p>
BEGIN:VALARM
ACTION:DISPLAY
DESCRIPTION:Demo zum Erhalt des Geschwisterkinderzuschuss
TRIGGER:-PT1H
END:VALARM
END:VEVENT
END:VCALENDAR
