BEGIN:VCALENDAR
VERSION:2.0
CALSCALE:GREGORIAN
PRODID:adamgibbons/ics
METHOD:PUBLISH
X-PUBLISHED-TTL:PT1H
BEGIN:VEVENT
UID:366@keepkarlsruheboring.org
SUMMARY:Denise presents: GoodVibes im Q Club Pforzheim [18 €]
DTSTAMP:20260423T105009Z
DTSTART:20250920T210000Z
DESCRIPTION:Special Guest Artit from Jamaica\n\nDJ Knowledge\n\nImperiorsou
	nd\n\n\n\nDancehall | Afrobeats | Hip Hop
URL:https://keepkarlsruheboring.org/event/denise-presents-goodvibes-im-q-cl
	ub-pforzheim-18-euro
GEO:48.8927;8.70266
LOCATION:Q Club Pforzheim - 15-17\, Schloßberg\, Nordstadt\, Innenstadt\, P
	forzheim\, Baden-Württemberg\, 75175\, Deutschland
STATUS:CONFIRMED
CATEGORIES:Afrobeats,Concert,Dancehall,Hip Hop,Music,Pforzheim,Ticket
X-ALT-DESC;FMTTYPE=text/html:<p>Special Guest Artit from Jamaica</p><p><str
	ong>DJ Knowledge</strong></p><p><strong>Imperiorsound</strong></p><p></p><
	p>Dancehall | Afrobeats | Hip Hop</p>
BEGIN:VALARM
ACTION:DISPLAY
DESCRIPTION:Denise presents: GoodVibes im Q Club Pforzheim [18 €]
TRIGGER:-PT1H
END:VALARM
END:VEVENT
END:VCALENDAR
