BEGIN:VCALENDAR
VERSION:2.0
CALSCALE:GREGORIAN
PRODID:adamgibbons/ics
METHOD:PUBLISH
X-PUBLISHED-TTL:PT1H
BEGIN:VEVENT
UID:532@keepkarlsruheboring.org
SUMMARY:Dialoginseln zu den Orange Days 2025 in Karlsruhe: GEDOK Karlsruhe 
	in Kooperation mit den Grünen
DTSTAMP:20260423T105018Z
DTSTART:20251125T130000Z
DTEND:20251125T160000Z
DESCRIPTION:Dialoginseln zu den Orange Days 2025 in Karlsruhe\nGEDOK Karlsr
	uhe in Kooperation mit den Grünen\n\nDatum: Dienstag\, 25.11.2025\, 14:00–
	17:00 Uhr\nOrt: GEDOK Künstlerinnenforum\, Markgrafenstr. 14\, 76131 Karls
	ruhe\n\nDie Orange Days (25. November bis 10. Dezember) machen jedes Jahr 
	auf Gewalt\ngegen Frauen und Mädchen aufmerksam. In diesem Jahr planen die
	 Arbeitskreise\nFrauen- und Genderpolitik und QueerGrün vom Bündnis 90/Die
	 Grünen\, mit\nBürgerinnen der Stadt Karlsruhe ins Gespräch zu kommen. Sie
	 stellen Passantinnen\ndie Frage: „An welchen Orten in Karlsruhe möchte ic
	h mich sicherer fühlen?“ Die\nGespräche finden an sechs „Dialoginseln“ in 
	verschiedenen Stadtteilen Karlsruhes\nstatt. Den Auftakt bildet am 25.11.2
	5 von 14:00 bis 17:00 Uhr die Dialoginsel im\nKünstlerinnenforum der GEDOK
	 in der Markgrafenstr. 14. Die Ergebnisse der\nGespräche werden auf Antwor
	tkarten festgehalten. Sie gehen weiter an die\nfrauenpolitischen Sprecheri
	nnen der grünen Fraktion im Gemeinderat.\n\nKriminalitätsdaten deuten dara
	uf hin\, dass Deutschland in den vergangenen 20\nJahren sicherer geworden 
	ist\, und zwar gerade auf öffentlichen Straßen und\nPlätzen. (Die meiste G
	ewalt erfahren Frauen und Kinder im häuslichen Bereich.)\nDennoch geben vi
	ele Menschen an\, sich im öffentlichen Raum unsicher zu fühlen.\nWir wolle
	n mit unseren Gesprächen eine Idee davon bekommen\, wie es um das\nSicherh
	eitsgefühl von Frauen (FLINTA) in Karlsruhe steht\, ob sich „kritische\nOr
	te“ ausmachen lassen und wie sich das z. B. durch eine geschickte Stadtpla
	nung\nverbessern ließe.\n\nAls Frauenorganisation zeigt sich die GEDOK Kar
	lsruhe solidarisch mit den\nAktionstagen und dokumentiert das mit orangefa
	rbenen Fahnen vor dem Haus. Das\nKünstlerinnenforum bietet in seinen Räume
	n\, in denen aktuell die Ausstellung\n„Migration – Verlust oder Freiheit? 
	Zeitgenössische Druckgrafik von 11\npolnischen Künstler:innen“ zu sehen is
	t\, eine Dialoginsel an und möchte damit\ndie Initiative der Grünen unters
	tützen.\n\nInformationen zu den Orange Days: Historie zum 25. November\, G
	ewalt gegen Frauen\n– Meilensteine\, Aktionen in Karlsruhe\, das neue Gewa
	lthilfegesetz 2025 …:\nhttps://www.karlsruhe.de/themen/orange-days\n[https
	://www.karlsruhe.de/themen/orange-days]\n\nGEDOK Künstlerinnenforum Karlsr
	uhe\nMarkgrafenstr.14 (Ecke Fritz-Erler-Str.)\, 76131 Karlsruhe\, Halteste
	lle:\nKronenplatz\nwww.gedok-karlsruhe.de [http://www.gedok-karlsruhe.de] 
	/\ngedok-karlsruhe@online.de / Fon: +49 (0) 721 / 37 41 37\n\nFoto: GEDOK 
	Galerieräume von außen\, Foto: GEDOK
URL:https://keepkarlsruheboring.org/event/dialoginseln-zu-den-orange-days-2
	025-in-karlsruhe-gedok-karlsruhe-in-kooperation-mit-den-grunen
GEO:49.0079;8.41049
LOCATION:GEDOK Künstlerinnenforum - Markgrafenstr. 14\, 76131 Karlsruhe
STATUS:CONFIRMED
CATEGORIES:Politics
X-ALT-DESC;FMTTYPE=text/html:<p><strong>Dialoginseln zu den Orange Days 202
	5 in Karlsruhe<br>GEDOK Karlsruhe in Kooperation mit den Grünen<br></stron
	g><br><strong>Datum:</strong> Dienstag, 25.11.2025, 14:00–17:00 Uhr<br><st
	rong>Ort:</strong> GEDOK Künstlerinnenforum, Markgrafenstr. 14, 76131 Karl
	sruhe</p><p>Die Orange Days (25. November bis 10. Dezember) machen jedes J
	ahr auf Gewalt gegen Frauen und Mädchen aufmerksam. In diesem Jahr planen 
	die <strong>Arbeitskreise Frauen- und Genderpolitik</strong> und <strong>Q
	ueerGrün vom Bündnis 90/Die Grünen</strong>, mit Bürger<em>innen der Stadt
	 Karlsruhe ins Gespräch zu kommen. Sie stellen Passant</em>innen die Frage
	: „An welchen Orten in Karlsruhe möchte ich mich sicherer fühlen?“ Die Ges
	präche finden an sechs <strong>„Dialoginseln“</strong> in verschiedenen St
	adtteilen Karlsruhes statt. Den Auftakt bildet am 25.11.25 von 14:00 bis 1
	7:00 Uhr die Dialoginsel im <strong>Künstlerinnenforum der GEDOK</strong> 
	in der Markgrafenstr. 14. Die Ergebnisse der Gespräche werden auf Antwortk
	arten festgehalten. Sie gehen weiter an die frauenpolitischen Sprecherinne
	n der grünen Fraktion im Gemeinderat.</p><p>Kriminalitätsdaten deuten dara
	uf hin, dass Deutschland in den vergangenen 20 Jahren sicherer geworden is
	t, und zwar gerade auf öffentlichen Straßen und Plätzen. (Die meiste Gewal
	t erfahren Frauen und Kinder im häuslichen Bereich.) Dennoch geben viele M
	enschen an, sich im öffentlichen Raum unsicher zu fühlen. Wir wollen mit u
	nseren Gesprächen eine Idee davon bekommen, wie es um das Sicherheitsgefüh
	l von Frauen (FLINTA) in Karlsruhe steht, ob sich „kritische Orte“ ausmach
	en lassen und wie sich das z. B. durch eine geschickte Stadtplanung verbes
	sern ließe.</p><p>Als Frauenorganisation zeigt sich die <strong>GEDOK Karl
	sruhe</strong> solidarisch mit den Aktionstagen und dokumentiert das mit o
	rangefarbenen Fahnen vor dem Haus. Das Künstlerinnenforum bietet in seinen
	 Räumen, in denen aktuell die Ausstellung <strong>„Migration – Verlust ode
	r Freiheit? Zeitgenössische Druckgrafik von 11 polnischen Künstler:innen“<
	/strong> zu sehen ist, eine <strong>Dialoginsel </strong>an und möchte dam
	it die Initiative der Grünen unterstützen.</p><p>Informationen zu den Oran
	ge Days: Historie zum 25. November, Gewalt gegen Frauen – Meilensteine, Ak
	tionen in Karlsruhe, das neue Gewalthilfegesetz 2025 …:<br><a href="https:
	//www.karlsruhe.de/themen/orange-days" target="_blank">https://www.karlsru
	he.de/themen/orange-days</a></p><p>GEDOK Künstlerinnenforum Karlsruhe<br>M
	arkgrafenstr.14 (Ecke Fritz-Erler-Str.), 76131 Karlsruhe, Haltestelle: Kro
	nenplatz<br><a href="http://www.gedok-karlsruhe.de" target="_blank">www.ge
	dok-karlsruhe.de</a> / gedok-karlsruhe@online.de / Fon: +49 (0) 721 / 37 4
	1 37</p><p>Foto: GEDOK Galerieräume von außen, Foto: GEDOK</p>
BEGIN:VALARM
ACTION:DISPLAY
DESCRIPTION:Dialoginseln zu den Orange Days 2025 in Karlsruhe: GEDOK Karlsr
	uhe in Kooperation mit den Grünen
TRIGGER:-PT1H
END:VALARM
END:VEVENT
END:VCALENDAR
