BEGIN:VCALENDAR
VERSION:2.0
CALSCALE:GREGORIAN
PRODID:adamgibbons/ics
METHOD:PUBLISH
X-PUBLISHED-TTL:PT1H
BEGIN:VEVENT
UID:1225@keepkarlsruheboring.org
SUMMARY:„Die angespannte Mitte“ – Vorstellung der FES Mitte-Studie 2025
DTSTAMP:20260423T104539Z
DTSTART:20260320T170000Z
DTEND:20260320T203000Z
DESCRIPTION:[↓↓Deutsche Version unten ↓↓]\n\n“The Tense Middle” – Presentat
	ion of the FES Middle Study 2025 by Prof. Dr.\nBeate Küpper\, co-author\n\
	nWhat is the state of the middle class in Germany? What attitudes shape it
	 – and\nhow stable are the democratic convictions that are supposed to und
	erpin our\nsociety? The new "Middle Class Study 2024/2025: The Tense Middl
	e Class" provides\nanswers to these questions. It shows that societal pola
	rization\, distrust of\ninstitutions\, and right-wing extremist attitudes 
	are no longer fringe phenomena.\n\nFor almost two decades\, the "Center St
	udies" series\, commissioned by the\nFriedrich Ebert Foundation\, has regu
	larly examined political attitudes in\nGermany – thus offering a unique lo
	ng-term perspective on the state of our\ndemocracy. The current survey mak
	es it clear: The center of society is under\npressure. It is uncertain\, i
	n some cases exhausted\, searching for guidance – yet\nit remains crucial 
	for the survival of democratic values.\n\nThe presentation of the new stud
	y invites a joint discussion of the findings:\nWhat still holds society to
	gether? Where are the fault lines – and what\nperspectives emerge for a po
	licy that strengthens trust\, justice and\nparticipation?\n\nOrganizers: F
	riedrich-Ebert-Stiftung eV\, Baden-Württemberg State Office in\ncooperatio
	n with AWO Karlsruhe\, DGB-Bezirk Baden-Württemberg/Region Nordbaden\,\nth
	e Stadtjugendauschuss eV Karlsruhe (Coordination and Specialist Office for
	\nPartnerships for Democracy)\, the NaturFreunde Baden Local Group Karlsru
	he\, the\nCatholic Workers' Movement (KAB) Karlsruhe and Karlsruher Kind\n
	\n/-/-/\n\n„Die angespannte Mitte“ – Vorstellung der FES Mitte-Studie 2025
	 durch\nProf.Dr.Beate Küpper\, Co-Autorin\n\nWie steht es um die gesellsch
	aftliche Mitte in Deutschland? Welche Einstellungen\nprägen sie – und wie 
	stabil sind die demokratischen Überzeugungen\, die unser\nZusammenleben tr
	agen sollen? Die neue „Mitte-Studie 2024/2025: Die angespannte\nMitte“ lie
	fert Antworten auf diese Fragen. Sie zeigt\, dass gesellschaftliche\nPolar
	isierungen\, Misstrauen gegenüber Institutionen und rechtsextreme\nEinstel
	lungen längst keine Randphänomene mehr sind.\n\nSeit fast zwei Jahrzehnten
	 untersucht die Mitte-Studienreihe im Auftrag der\nFriedrich-Ebert-Stiftun
	g regelmäßig politische Einstellungen in Deutschland –\nund bietet damit e
	inen einzigartigen Langzeitblick auf die Verfasstheit unserer\nDemokratie.
	 Die aktuelle Erhebung macht deutlich: Die gesellschaftliche Mitte\nsteht 
	unter Druck. Sie ist verunsichert\, teilweise erschöpft\, sucht Orientieru
	ng\n– und bleibt doch entscheidend dafür\, ob sich demokratische Werte beh
	aupten.\n\nDie Vorstellung der neuen Studie lädt dazu ein\, die Befunde ge
	meinsam zu\ndiskutieren: Was hält die Gesellschaft noch zusammen? Wo liege
	n Bruchlinien –\nund welche Perspektiven ergeben sich für eine Politik\, d
	ie Vertrauen\,\nGerechtigkeit und Teilhabe stärkt?\n\nVeranstalter: Friedr
	ich-Ebert-Stiftung e.V\, Landesbüro Baden-Württemberg in\nKooperation mit 
	AWO Karlsruhe\, DGB-Bezirk Baden-Württemberg/Region Nordbaden\,\ndem Stadt
	jugendauschuss e.V. Karlsruhe(Koordinierung- und Fachstelle\nPartnerschaft
	en für Demokratie)\, den NaturFreunden Baden Ortsgruppe Karlsruhe\,\nder K
	atholischen Arbeitnehmerbewegung(KAB) Karlsruhe sowie Karlsruher Kind
URL:https://keepkarlsruheboring.org/event/die-angespannte-mitte-vorstellung
	-der-fes-mitte-studie-2025
GEO:49.0044;8.43171
LOCATION:Tollhaus - 35\, Alter Schlachthof\, Oststadt Südlicher Teil\, Osts
	tadt\, Karlsruhe\, Baden-Württemberg\, 76131\, Deutschland
STATUS:CONFIRMED
CATEGORIES:Internationalen Wochen gegen Rassismus,Lecture,Politics
X-ALT-DESC;FMTTYPE=text/html:<p>[↓↓Deutsche Version unten ↓↓]</p><p><strong
	>“The Tense Middle” – Presentation of the FES Middle Study 2025 by Prof. D
	r. Beate Küpper, co-author</strong></p><p>What is the state of the middle 
	class in Germany? What attitudes shape it – and how stable are the democra
	tic convictions that are supposed to underpin our society? The new "Middle
	 Class Study 2024/2025: The Tense Middle Class" provides answers to these 
	questions. It shows that societal polarization, distrust of institutions, 
	and right-wing extremist attitudes are no longer fringe phenomena.</p><p>F
	or almost two decades, the "Center Studies" series, commissioned by the Fr
	iedrich Ebert Foundation, has regularly examined political attitudes in Ge
	rmany – thus offering a unique long-term perspective on the state of our d
	emocracy. The current survey makes it clear: The center of society is unde
	r pressure. It is uncertain, in some cases exhausted, searching for guidan
	ce – yet it remains crucial for the survival of democratic values.</p><p>T
	he presentation of the new study invites a joint discussion of the finding
	s: What still holds society together? Where are the fault lines – and what
	 perspectives emerge for a policy that strengthens trust, justice and part
	icipation?</p><p>Organizers: Friedrich-Ebert-Stiftung eV, Baden-Württember
	g State Office in cooperation with AWO Karlsruhe, DGB-Bezirk Baden-Württem
	berg/Region Nordbaden, the Stadtjugendauschuss eV Karlsruhe (Coordination 
	and Specialist Office for Partnerships for Democracy), the NaturFreunde Ba
	den Local Group Karlsruhe, the Catholic Workers' Movement (KAB) Karlsruhe 
	and Karlsruher Kind</p><p>/-/-/</p><p><strong>„Die angespannte Mitte“ – Vo
	rstellung der FES Mitte-Studie 2025 durch Prof.Dr.Beate Küpper, Co-Autorin
	</strong></p><p>Wie steht es um die gesellschaftliche Mitte in Deutschland
	? Welche Einstellungen prägen sie – und wie stabil sind die demokratischen
	 Überzeugungen, die unser Zusammenleben tragen sollen? Die neue „Mitte-Stu
	die 2024/2025: Die angespannte Mitte“ liefert Antworten auf diese Fragen. 
	Sie zeigt, dass gesellschaftliche Polarisierungen, Misstrauen gegenüber In
	stitutionen und rechtsextreme Einstellungen längst keine Randphänomene meh
	r sind.</p><p>Seit fast zwei Jahrzehnten untersucht die Mitte-Studienreihe
	 im Auftrag der Friedrich-Ebert-Stiftung regelmäßig politische Einstellung
	en in Deutschland – und bietet damit einen einzigartigen Langzeitblick auf
	 die Verfasstheit unserer Demokratie. Die aktuelle Erhebung macht deutlich
	: Die gesellschaftliche Mitte steht unter Druck. Sie ist verunsichert, tei
	lweise erschöpft, sucht Orientierung – und bleibt doch entscheidend dafür,
	 ob sich demokratische Werte behaupten.</p><p>Die Vorstellung der neuen St
	udie lädt dazu ein, die Befunde gemeinsam zu diskutieren: Was hält die Ges
	ellschaft noch zusammen? Wo liegen Bruchlinien – und welche Perspektiven e
	rgeben sich für eine Politik, die Vertrauen, Gerechtigkeit und Teilhabe st
	ärkt?</p><p>Veranstalter: Friedrich-Ebert-Stiftung e.V, Landesbüro Baden-W
	ürttemberg in Kooperation mit AWO Karlsruhe, DGB-Bezirk Baden-Württemberg/
	Region Nordbaden, dem Stadtjugendauschuss e.V. Karlsruhe(Koordinierung- un
	d Fachstelle Partnerschaften für Demokratie), den NaturFreunden Baden Orts
	gruppe Karlsruhe, der Katholischen Arbeitnehmerbewegung(KAB) Karlsruhe sow
	ie Karlsruher Kind</p>
BEGIN:VALARM
ACTION:DISPLAY
DESCRIPTION:„Die angespannte Mitte“ – Vorstellung der FES Mitte-Studie 2025
TRIGGER:-PT1H
END:VALARM
END:VEVENT
END:VCALENDAR
