BEGIN:VCALENDAR
VERSION:2.0
CALSCALE:GREGORIAN
PRODID:adamgibbons/ics
METHOD:PUBLISH
X-PUBLISHED-TTL:PT1H
BEGIN:VEVENT
UID:522@keepkarlsruheboring.org
SUMMARY:Die Große Rhytmusshow - Queerfunk Bermudafunk
DTSTAMP:20260423T102256Z
DTSTART:20251107T190000Z
DTEND:20251107T200000Z
DESCRIPTION:die große rhythmusshow. schöne musik. mittelmäßige moderation.\
	n\n\n\nPlaylist: das lief letztes mal\n[http://www.rhythmusshow.de/playlis
	ts/2025/24-10-25.htm]\n\nSendungen anhören auf Mixcloud [https://www.mixcl
	oud.com/rhythmusshow/reposts]
URL:https://keepkarlsruheboring.org/event/die-grosse-rhytmusshow-queerfunk-
	bermudafunk
GEO:49.0042;8.4097
LOCATION:Erdbeermund - Baumeisterstr. 54
STATUS:CONFIRMED
CATEGORIES:Party,Queerfunk
X-ALT-DESC;FMTTYPE=text/html:<p>die große rhythmusshow. schöne musik. mitte
	lmäßige moderation.</p><p></p><p><a href="http://www.rhythmusshow.de/playl
	ists/2025/24-10-25.htm" target="_blank">Playlist: das lief letztes mal</a>
	</p><p><a href="https://www.mixcloud.com/rhythmusshow/reposts" target="_bl
	ank">Sendungen anhören auf Mixcloud</a></p>
BEGIN:VALARM
ACTION:DISPLAY
DESCRIPTION:Die Große Rhytmusshow - Queerfunk Bermudafunk
TRIGGER:-PT1H
END:VALARM
END:VEVENT
END:VCALENDAR
