BEGIN:VCALENDAR
VERSION:2.0
CALSCALE:GREGORIAN
PRODID:adamgibbons/ics
METHOD:PUBLISH
X-PUBLISHED-TTL:PT1H
BEGIN:VEVENT
UID:863@keepkarlsruheboring.org
SUMMARY:Konzert: DIRTY SOUND MAGNET -Tour 2026 [16 - 28€]
DTSTAMP:20260423T104738Z
DTSTART:20260313T190000Z
DTEND:20260313T210000Z
DESCRIPTION:Sound of Liberation and P8² present:\n\nDirty Sound Magnet ist 
	ein Psychedelic Rock-Power-Trio aus der Schweiz\, das seit\n2017 die Musik
	welt im Sturm erobert. Mit über 500 Shows in Europa\,\nGroßbritannien und 
	Mexiko haben sie sich als unaufhaltsame Kraft des Rock\netabliert. Ihr Sou
	nd verschmilzt die Energie von Led Zeppelin\, die Mystik von\nThe Doors un
	d moderne Einflüsse wie Tame Impala zu einer einzigartigen Mischung\naus P
	sychedelic\, Progressive und Blues Rock. Die Band\, bestehend aus Stavros\
	nDzodzos (Gitarre\, Gesang)\, Marco Mottolini (Bass) und Maxime Cosandey\n
	(Schlagzeug)\, ist bekannt für ihre hypnotisierenden Live-Performances mit
	\nschamanischer Bühnenpräsenz und instrumentaler Virtuosität. Ihr aktuelle
	s Album\n„Dreaming in Dystopia“ (2023) setzt ihre musikalische Evolution f
	ort\, die sie\nmit Alben wie „Western Lies“ (2017) und „DSM-III“ (2022) be
	gonnen haben. Dirty\nSound Magnet verspricht eine unvorhersehbare Show vol
	ler Charisma\, poetischem\nGesang und mitreißender Dynamik – ein Muss für 
	Fans von kreativem\,\ngrenzüberschreitendem Rock.\n\nInstagram: https://ww
	w.instagram.com/dirtysoundmagnet/\n[https://www.instagram.com/dirtysoundma
	gnet/] Facebook:\nhttps://www.facebook.com/dirtysoundmagnet\n[https://www.
	facebook.com/dirtysoundmagnet] Website:\nhttps://dirtysoundmagnet.com/ [ht
	tps://dirtysoundmagnet.com/] YouTube:\nhttps://www.youtube.com/user/DirtyS
	oundMagnet\n[https://www.youtube.com/user/DirtySoundMagnet] Spotify:\nhttp
	s://open.spotify.com/intl-de/artist/4xRdcudb8V909KuVer6gko\n[https://open.
	spotify.com/intl-de/artist/4xRdcudb8V909KuVer6gko]\n\nZum bereits 3.Mal be
	i uns\, und jedes Konzert war ein neues Highlight!!\n\nTickets hier: https
	://tickets.p-acht.org/DSM26/\n[https://tickets.p-acht.org/DSM26/]
URL:https://keepkarlsruheboring.org/event/dirty-sound-magnet-tour-2026-
GEO:48.989;8.37185
LOCATION:P8 - Schauenburgstraße 5\, 76135 Karlsruhe
STATUS:CONFIRMED
CATEGORIES:Blues Rock,Music,Progressive Rock,Psychedelic Rock,Ticket
X-ALT-DESC;FMTTYPE=text/html:<p>Sound of Liberation and P8² present:</p><p>
	<strong>Dirty Sound Magnet ist ein Psychedelic Rock-Power-Trio </strong>au
	s der Schweiz, das seit 2017 die Musikwelt im Sturm erobert. Mit über 500 
	Shows in Europa, Großbritannien und Mexiko haben sie sich als unaufhaltsam
	e Kraft des Rock etabliert. Ihr Sound verschmilzt die Energie von Led Zepp
	elin, die Mystik von The Doors und moderne Einflüsse wie Tame Impala zu ei
	ner einzigartigen Mischung aus Psychedelic, Progressive und Blues Rock. Di
	e Band, bestehend aus Stavros Dzodzos (Gitarre, Gesang), Marco Mottolini (
	Bass) und Maxime Cosandey (Schlagzeug), ist bekannt für ihre hypnotisieren
	den Live-Performances mit schamanischer Bühnenpräsenz und instrumentaler V
	irtuosität. Ihr aktuelles Album „Dreaming in Dystopia“ (2023) setzt ihre m
	usikalische Evolution fort, die sie mit Alben wie „Western Lies“ (2017) un
	d „DSM-III“ (2022) begonnen haben. Dirty Sound Magnet verspricht eine unvo
	rhersehbare Show voller Charisma, poetischem Gesang und mitreißender Dynam
	ik – ein Muss für Fans von kreativem, grenzüberschreitendem Rock.</p><p>In
	stagram: <a href="https://www.instagram.com/dirtysoundmagnet/" target="_bl
	ank">https://www.instagram.com/dirtysoundmagnet/</a> Facebook: <a href="ht
	tps://www.facebook.com/dirtysoundmagnet" target="_blank">https://www.faceb
	ook.com/dirtysoundmagnet</a> Website: <a href="https://dirtysoundmagnet.co
	m/" target="_blank">https://dirtysoundmagnet.com/</a> YouTube: <a href="ht
	tps://www.youtube.com/user/DirtySoundMagnet" target="_blank">https://www.y
	outube.com/user/DirtySoundMagnet</a> Spotify: <a href="https://open.spotif
	y.com/intl-de/artist/4xRdcudb8V909KuVer6gko" target="_blank">https://open.
	spotify.com/intl-de/artist/4xRdcudb8V909KuVer6gko</a></p><p><strong>Zum be
	reits 3.Mal bei uns, und jedes Konzert war ein neues Highlight!!</strong><
	/p><p>Tickets hier: <a href="https://tickets.p-acht.org/DSM26/" target="_b
	lank">https://tickets.p-acht.org/DSM26/</a></p>
BEGIN:VALARM
ACTION:DISPLAY
DESCRIPTION:Konzert: DIRTY SOUND MAGNET -Tour 2026 [16 - 28€]
TRIGGER:-PT1H
END:VALARM
END:VEVENT
END:VCALENDAR
