BEGIN:VCALENDAR
VERSION:2.0
CALSCALE:GREGORIAN
PRODID:adamgibbons/ics
METHOD:PUBLISH
X-PUBLISHED-TTL:PT1H
BEGIN:VEVENT
UID:411@keepkarlsruheboring.org
SUMMARY:Diskoperle @ C2 Ost
DTSTAMP:20260423T101918Z
DTSTART:20251002T210000Z
DTEND:20251003T030000Z
DESCRIPTION:Boogie down\, Baby!\n\nDie Diskoperle öffnet ihre Muschel und e
	rfüllt den Ozean mit Glitzer\, Glanz und\nGroove – mit Sounds von Jazz-Fun
	k über Italo bis HiNRG. Eine Nacht mit Disco so\nfacettenreich wie Koralle
	nriffe und einer Magie die direkt ins Herz geht. Zieh\ndein schillerndstes
	 Outfit an und let’s get physical – wir tanzen bis zum\nMorgengrauen!\n\n@
	boogie_balou [https://www.instagram.com/boogie_balou/]\n@idrathernot42 [ht
	tps://www.instagram.com/idrathernot42/]
URL:https://keepkarlsruheboring.org/event/diskoperle-c2-ost
GEO:49.0104;8.42478
LOCATION:C2Ost - Essenweinstraße 9\, 76131 Karlsruhe
STATUS:CONFIRMED
CATEGORIES:Party
X-ALT-DESC;FMTTYPE=text/html:<p>Boogie down, Baby!</p><p>Die Diskoperle öff
	net ihre Muschel und erfüllt den Ozean mit Glitzer, Glanz und Groove – mit
	 Sounds von Jazz-Funk über Italo bis HiNRG. Eine Nacht mit Disco so facett
	enreich wie Korallenriffe und einer Magie die direkt ins Herz geht. Zieh d
	ein schillerndstes Outfit an und let’s get physical – wir tanzen bis zum M
	orgengrauen!</p><p><a href="https://www.instagram.com/boogie_balou/" targe
	t="_blank">@boogie_balou</a><br><a href="https://www.instagram.com/idrathe
	rnot42/" target="_blank">@idrathernot42</a></p>
BEGIN:VALARM
ACTION:DISPLAY
DESCRIPTION:Diskoperle @ C2 Ost
TRIGGER:-PT1H
END:VALARM
END:VEVENT
END:VCALENDAR
