BEGIN:VCALENDAR
VERSION:2.0
CALSCALE:GREGORIAN
PRODID:adamgibbons/ics
METHOD:PUBLISH
X-PUBLISHED-TTL:PT1H
BEGIN:VEVENT
UID:1493@keepkarlsruheboring.org
SUMMARY:dokka Festival
DTSTAMP:20260423T102405Z
DTSTART:20260513T170000Z
DTEND:20260517T215900Z
DESCRIPTION:Das dokKa-Festival präsentiert aktuelle Dokumentarfilme und Hör
	dokumentationen\nmit vielen Gästen im Kino. Am Mittwoch\, den 13. Mai\, um
	 19 Uhr eröffnet dokKa in\nder Kinemathek. Über den Feiertag (Do.) hinweg 
	läuft das Festival bis Sonntag\nund präsentiert ein vielfältiges Programm 
	aus Dokumentarfilmen und\nHördokumentationen. Zu allen Programmpunkten fin
	den im Foyer Gespräche mit\nFilmemacherinnen und Hörautoren statt. Weitere
	 Höhepunkte wie das\ndokKa-Frühstück\, die Filmschool Picks der HfG\, die 
	Festivalparty sowie der\nBranchentreff mit der AG DOK Südwest machen dokKa
	 zu einem einzigartigen\nErlebnis.
URL:https://keepkarlsruheboring.org/event/dokka-festival
LOCATION:Karlsruhe [different locations] - Karlsruhe [different locations]
STATUS:CONFIRMED
CATEGORIES:DokumnetarFilm,Festival,Film,Hördokumentation,Ticket
X-ALT-DESC;FMTTYPE=text/html:<p>Das dokKa-Festival präsentiert aktuelle Dok
	umentarfilme und Hördokumentationen mit vielen Gästen im Kino. Am Mittwoch
	, den 13. Mai, um 19 Uhr eröffnet dokKa in der Kinemathek. Über den Feiert
	ag (Do.) hinweg läuft das Festival bis Sonntag und präsentiert ein vielfäl
	tiges Programm aus Dokumentarfilmen und Hördokumentationen. Zu allen Progr
	ammpunkten finden im Foyer Gespräche mit Filmemacherinnen und Hörautoren s
	tatt. Weitere Höhepunkte wie das dokKa-Frühstück, die Filmschool Picks der
	 HfG, die Festivalparty sowie der Branchentreff mit der AG DOK Südwest mac
	hen dokKa zu einem einzigartigen Erlebnis.</p>
BEGIN:VALARM
ACTION:DISPLAY
DESCRIPTION:dokka Festival
TRIGGER:-PT1H
END:VALARM
END:VEVENT
END:VCALENDAR
