BEGIN:VCALENDAR
VERSION:2.0
CALSCALE:GREGORIAN
PRODID:adamgibbons/ics
METHOD:PUBLISH
X-PUBLISHED-TTL:PT1H
BEGIN:VEVENT
UID:785@keepkarlsruheboring.org
SUMMARY:Dosenbierkonzert 2026
DTSTAMP:20260423T102254Z
DTSTART:20260214T190000Z
DTEND:20260214T210000Z
DESCRIPTION:Endlich schlechte Musik - Schienenersatzverkehr - Siffon - Sitt
	endezernat -
URL:https://keepkarlsruheboring.org/event/dosenbierkonzert-2026
GEO:48.989;8.37185
LOCATION:P8 - Schauenburgstraße 5\, 76135 Karlsruhe
STATUS:CONFIRMED
CATEGORIES:karlsrunruhe,test
X-ALT-DESC;FMTTYPE=text/html:<br>Endlich schlechte Musik -<br>Schienenersat
	zverkehr -<br>Siffon -<br>Sittendezernat -
BEGIN:VALARM
ACTION:DISPLAY
DESCRIPTION:Dosenbierkonzert 2026
TRIGGER:-PT1H
END:VALARM
END:VEVENT
END:VCALENDAR
