BEGIN:VCALENDAR
VERSION:2.0
CALSCALE:GREGORIAN
PRODID:adamgibbons/ics
METHOD:PUBLISH
X-PUBLISHED-TTL:PT1H
BEGIN:VEVENT
UID:1540@keepkarlsruheboring.org
SUMMARY:DOUBLE TAKE | Künstlerinnengespräch Hanna Woll & Anika Hirt
DTSTAMP:20260423T174020Z
DTSTART:20260507T150000Z
DTEND:20260507T170000Z
DESCRIPTION:DOUBLE TAKE\nInstallation und Objekte | Inflatables und Glas\nK
	ünstlerinnengespräch mit Hanna Woll & Anika Hirt\n\nDatum: Donnerstag\, 07
	.05.2026\, 17 – 19 Uhr\nOrt: GEDOK Künstlerinnenforum\, Markgrafenstr. 14\
	, 76131 Karlsruhe\nAusstellungsdauer: Samstag\, 18.04. – Sonntag\, 17.05.2
	026\nÖffnungszeiten: Mi. – Fr. 17 – 19 Uhr\, Sa.\, So. und an Feiertagen 1
	4 – 16 Uhr\nEintritt frei\n\nMit „Double Take“ zeigen die Bildhauerin Hann
	a Woll und die Medienkünstlerin\nAnika Hirt eine gemeinsame\, ortsspezifis
	che Arbeit\, die den Ausstellungsraum\ntransformiert.\n\nBesucher:innen fi
	nden sich zwischen Inflatables und hängenden Glasobjekten\nwieder. Die Obj
	ekte stehen durch ihre Materialität gleichzeitig im Kontrast und\nim Einkl
	ang. Einerseits durch Gewicht und Volumen\, andererseits durch ihre\nOberf
	läche und Beweglichkeit. Alle Objekte agieren mit Licht\, reflektieren und
	\nspiegeln sich ineinander und schaffen so ein Zusammenspiel. Der Ursprung
	 und die\ngrundlegende Form sind Sphären. Das Material: Luft\, Folie\, Gla
	s und Licht. Das\nProdukt: eine Landschaft\, die erkundet werden kann\, ni
	cht nur im Objekt\, sondern\nauch im Tun.\n\n„Double Take“ lädt dazu ein\,
	 die Wahrnehmung als aktiven Prozess zu begreifen\nund den Ausstellungsrau
	m nicht nur zu betrachten\, sondern zu erleben. Durch\nwiederholtes Hinseh
	en eröffnen sich neue Bezüge zwischen und mit den Objekten.\n\nAusgehend v
	on ihrer jeweiligen Praxis entwickeln die Künstlerinnen zusammen\ndiese Ko
	nstellation aus Objekten\, Materialien und Strukturen. Die einzelnen\nArbe
	iten behalten ihre Eigenständigkeit\, werden jedoch bewusst miteinander\nv
	erschränkt. So entsteht ein komplexes Gefüge\, in dem sich formale\, mater
	ielle\nund inhaltliche Bezüge permanent verschieben. Im Zentrum der Ausste
	llung steht\nsomit nicht nur das einzelne Objekt\, sondern auch das Verhäl
	tnis zwischen den\nDingen: Abstände\, Überlagerungen\, Blickachsen und Dur
	chgänge strukturieren den\nRaum neu.\n\nPressefoto: DoubleTake\,Vernissage
	\, Inflatables\, Foto: Silvia Asshoff-Graeter\n\nMit freundlicher Unterstü
	tzung der Stadt Karlsruhe.\n\nGEDOK Künstlerinnenforum Karlsruhe\, Markgra
	fenstr.14 (Ecke Fritz-Erler-Str.)\,\n76131 Karlsruhe\, www.gedok-karlsruhe
	.de [http://www.gedok-karlsruhe.de] /\ngedok-karlsruhe@online.de / Fon: +4
	9 (0) 721 / 37 41 37
URL:https://keepkarlsruheboring.org/event/double-take-or-kunstlerinnengespr
	ach-hanna-woll-and-anika-hirt
GEO:49.0079;8.41049
LOCATION:GEDOK Künstlerinnenforum - Markgrafenstr. 14\, 76131 Karlsruhe
STATUS:CONFIRMED
CATEGORIES:Art
X-ALT-DESC;FMTTYPE=text/html:<p><strong>DOUBLE TAKE<br>Installation und Obj
	ekte | Inflatables und Glas<br>Künstlerinnengespräch mit Hanna Woll &amp; 
	Anika Hirt</strong></p><p><strong>Datum:</strong> Donnerstag, 07.05.2026, 
	17 – 19&nbsp;Uhr<br><strong>Ort:</strong> GEDOK Künstlerinnenforum, Markgr
	afenstr. 14, 76131 Karlsruhe<br><strong>Ausstellungsdauer:</strong> Samsta
	g, 18.04. – Sonntag, 17.05.2026<br><strong>Öffnungszeiten:</strong> Mi. – 
	Fr. 17 – 19 Uhr, Sa., So. und an Feiertagen 14 – 16 Uhr<br><strong>Eintrit
	t</strong> frei</p><p>Mit <strong>„Double Take“</strong> zeigen die Bildha
	uerin <strong>Hanna Woll</strong> und die Medienkünstlerin <strong>Anika H
	irt</strong> eine gemeinsame, ortsspezifische Arbeit, die den Ausstellungs
	raum transformiert.</p><p>Besucher:innen finden sich zwischen Inflatables 
	und hängenden Glasobjekten wieder. Die Objekte stehen durch ihre Materiali
	tät gleichzeitig im Kontrast und im Einklang. Einerseits durch Gewicht und
	 Volumen, andererseits durch ihre Oberfläche und Beweglichkeit. Alle Objek
	te agieren mit Licht, reflektieren und spiegeln sich ineinander und schaff
	en so ein Zusammenspiel. Der Ursprung und die grundlegende Form sind Sphär
	en. Das Material: Luft, Folie, Glas und Licht. Das Produkt: eine Landschaf
	t, die erkundet werden kann, nicht nur im Objekt, sondern auch im Tun.</p>
	<p><strong>„Double Take“</strong> lädt dazu ein, die Wahrnehmung als aktiv
	en Prozess zu begreifen und den Ausstellungsraum nicht nur zu betrachten, 
	sondern zu erleben. Durch wiederholtes Hinsehen eröffnen sich neue Bezüge 
	zwischen und mit den Objekten.</p><p>Ausgehend von ihrer jeweiligen Praxis
	 entwickeln die Künstlerinnen zusammen diese Konstellation aus Objekten, M
	aterialien und Strukturen. Die einzelnen Arbeiten behalten ihre Eigenständ
	igkeit, werden jedoch bewusst miteinander verschränkt. So entsteht ein kom
	plexes Gefüge, in dem sich formale, materielle und inhaltliche Bezüge perm
	anent verschieben. Im Zentrum der Ausstellung steht somit nicht nur das ei
	nzelne Objekt, sondern auch das Verhältnis zwischen den Dingen: Abstände, 
	Überlagerungen, Blickachsen und Durchgänge strukturieren den Raum neu.</p>
	<p>Pressefoto: DoubleTake,Vernissage, Inflatables, Foto: Silvia Asshoff-Gr
	aeter</p><p>Mit freundlicher Unterstützung der Stadt Karlsruhe.</p><p>GEDO
	K Künstlerinnenforum Karlsruhe, Markgrafenstr.14 (Ecke Fritz-Erler-Str.), 
	76131 Karlsruhe, <a href="http://www.gedok-karlsruhe.de" target="_blank">w
	ww.gedok-karlsruhe.de</a> / gedok-karlsruhe@online.de / Fon: +49 (0) 721 /
	 37 41 37</p>
BEGIN:VALARM
ACTION:DISPLAY
DESCRIPTION:DOUBLE TAKE | Künstlerinnengespräch Hanna Woll & Anika Hirt
TRIGGER:-PT1H
END:VALARM
END:VEVENT
END:VCALENDAR
