BEGIN:VCALENDAR
VERSION:2.0
CALSCALE:GREGORIAN
PRODID:adamgibbons/ics
METHOD:PUBLISH
X-PUBLISHED-TTL:PT1H
BEGIN:VEVENT
UID:1220@keepkarlsruheboring.org
SUMMARY:Drama-Dreieck: Deutschland-Israel-Palästina
DTSTAMP:20260423T104910Z
DTSTART:20260322T180000Z
DTEND:20260322T200000Z
DESCRIPTION:[↓↓ Deutsche Version unten ↓↓]\n\nGermany\, Israel\, and Palest
	ine: What happens next? Much is said about it\, but\ntaboos\, fears\, and 
	self-censorship leave much unspoken. Based on his experiences\non the grou
	nd – including in the West Bank\, Beer Sheva\, and at German schools –\nth
	e German-Israeli educator Eran Bar-Am explains the dynamics of the\nGerman
	y-Israel-Palestine triangle and invites open dialogue and the exploration\
	nof new perspectives.\n\nIn his presentation\, speaker Eran Bar-Am shares 
	personal experiences\,\ncontextualizes current developments\, and invites 
	open discussion about\nchallenges and developments. He aims to promote dia
	logue\, personal encounters\,\nand mutual understanding between people in 
	Germany\, Israel\, and Palestine.\n\nEran Bar-Am\, a German-Israeli\, is a
	n educator and peace activist. For many years\nhe has worked on projects t
	hat promote dialogue\, encounters\, and mutual\nunderstanding between peop
	le in Germany\, Israel\, and Palestine.\n\n/-/-/\n\nDeutschland\, Israel u
	nd Palästina:Wie geht es weiter? Darüber wird viel\ngesprochen\, doch Tabu
	s\, Ängste und Selbstzensur lassen vieles unausgesprochen.\nAnhand seiner 
	Erfahrungen vor Ort – unter anderem in der Westbank\, in Beer Sheva\nund a
	n deutsche Schulen – erläutert der deutsch-israelische Pädagoge Eran Bar-A
	m\ndie Dynamiken des Drama-Dreiecks Deutschland-Israel-Palästina und lädt 
	dazu ein\,\noffen ins Gespräch zu kommen und neue Perspektiven kennenzuler
	nen.\n\nIn seinem Vortrag berichtet der Referent Eran Bar-Am aus persönlic
	hen\nErfahrungen\, ordnet aktuelle Entwicklungen ein und lädt zu einem off
	enen\nGespräch über Herausforderungen und Entwicklungen. Förderung des Dia
	logs\, der\npersönlichen Begegnung im Gespräch\, und des gegenseitigen Ver
	ständnisses\nzwischen Menschen in Deutschland\, Israel und Palästina.\n\nD
	er Deutsch-Israeli Eran Bar-Am ist Pädagoge und Friedensaktivist. Seit vie
	len\nJahren arbeitet er in Projekten\, die Dialog\, Begegnung und gegensei
	tiges\nVerständnis zwischen Menschen in Deutschland\, Israel und Palästina
	 fördern.
URL:https://keepkarlsruheboring.org/event/drama-dreieck-deutschland-israel-
	palastina
GEO:48.9842;8.39812
LOCATION:Stadtkloster St. Franziskus - 28\, Rechts der Alb\, Dammerstock\, 
	Weiherfeld-Dammerstock\, Karlsruhe\, Baden-Württemberg\, 76199\, Deutschla
	nd
STATUS:CONFIRMED
CATEGORIES:Freedom of Speech,Internationalen Wochen gegen Rassismus,Palesti
	na
X-ALT-DESC;FMTTYPE=text/html:<p>[↓↓ Deutsche Version unten ↓↓]</p><p>German
	y, Israel, and Palestine: What happens next? Much is said about it, but ta
	boos, fears, and self-censorship leave much unspoken. Based on his experie
	nces on the ground – including in the West Bank, Beer Sheva, and at German
	 schools – the German-Israeli educator Eran Bar-Am explains the dynamics o
	f the Germany-Israel-Palestine triangle and invites open dialogue and the 
	exploration of new perspectives.</p><p>In his presentation, speaker Eran B
	ar-Am shares personal experiences, contextualizes current developments, an
	d invites open discussion about challenges and developments. He aims to pr
	omote dialogue, personal encounters, and mutual understanding between peop
	le in Germany, Israel, and Palestine.</p><p>Eran Bar-Am, a German-Israeli,
	 is an educator and peace activist. For many years he has worked on projec
	ts that promote dialogue, encounters, and mutual understanding between peo
	ple in Germany, Israel, and Palestine.</p><p>/-/-/</p><p>Deutschland, Isra
	el und Palästina:Wie geht es weiter?&nbsp;Darüber wird viel gesprochen, do
	ch Tabus, Ängste und Selbstzensur lassen vieles unausgesprochen. Anhand se
	iner Erfahrungen vor Ort – unter anderem in der Westbank, in Beer Sheva un
	d an deutsche Schulen – erläutert der deutsch-israelische Pädagoge Eran Ba
	r-Am die Dynamiken des Drama-Dreiecks Deutschland-Israel-Palästina und läd
	t dazu ein, offen ins Gespräch zu kommen und neue Perspektiven kennenzuler
	nen.</p><p>In seinem Vortrag berichtet der Referent Eran Bar-Am aus persön
	lichen Erfahrungen, ordnet aktuelle Entwicklungen ein und lädt zu einem of
	fenen Gespräch über Herausforderungen und Entwicklungen. Förderung des Dia
	logs, der persönlichen Begegnung im Gespräch, und des gegenseitigen Verstä
	ndnisses zwischen Menschen in Deutschland, Israel und Palästina.</p><p>Der
	 Deutsch-Israeli Eran Bar-Am ist Pädagoge und Friedensaktivist. Seit viele
	n Jahren arbeitet er in Projekten, die Dialog, Begegnung und gegenseitiges
	 Verständnis zwischen Menschen in Deutschland, Israel und Palästina förder
	n.</p>
BEGIN:VALARM
ACTION:DISPLAY
DESCRIPTION:Drama-Dreieck: Deutschland-Israel-Palästina
TRIGGER:-PT1H
END:VALARM
END:VEVENT
END:VCALENDAR
