BEGIN:VCALENDAR
VERSION:2.0
CALSCALE:GREGORIAN
PRODID:adamgibbons/ics
METHOD:PUBLISH
X-PUBLISHED-TTL:PT1H
BEGIN:VEVENT
UID:489@keepkarlsruheboring.org
SUMMARY:Dunia Dance Theatre (B/ZWE) "Reflections [on monsters]" [24\,80 €]
DTSTAMP:20260423T104519Z
DTSTART:20251121T190000Z
DESCRIPTION:Afro-zeitgenössischer Tanz erforscht die Grenzen der Wahrnehmun
	g.\n\nIn „Reflections“\, einem afro-zeitgenössischen Tanzstück\, erforsche
	n sechs\nKünstler mit unterschiedlichem kulturellem Hintergrund das Konzep
	t des\n„Monsters“ auf einer Reise durch Unterschiede und Identität. Versch
	iedene\nTanzstile verschmelzen zu einer reichen und einzigartigen choreogr
	afischen\nSprache\, die künstlerische Grenzen überschreitet. Unter der Reg
	ie von Harold\nGeorge erwecken die Tänzerinnen und Tänzer eine Mikrogesell
	schaft in Bewegung\nzum Leben und enthüllen ihre einzigartigen\n\nPersönli
	chkeiten und eine unerwartete Perspektive auf das Monster in jedem von\nun
	s.\nNach „Between the Lines“ und „Making Men“ (noch auf Tournee) setzt das
	 Dunia\nDance Theatre die Grenzen des zeitgenössischen Tanzes mit einem ti
	efgründigen\nWerk fort\, das uns zum Nachdenken über Vielfalt und Identitä
	t in der heutigen\nGesellschaft einlädt.\n\nDas Dunia Dance Theatre wurde 
	2001 von dem Choreographen Harold George aus\nSierra Leone gegründet und i
	st eine in Brüssel ansässige afro-zeitgenössische\nTanzkompanie.\nDie Arbe
	it ist in der Diaspora-Erfahrung verwurzelt und zeichnet sich durch eine\n
	transkulturelle Ästhetik aus\, die soziale Themen durch eine starke emotio
	nale\nchoreografische Sprache anspricht.\n\nDauer: 75 Minuten\n\nChoreogra
	phy: Harold George\nDancers: Ana Karina Castro\, Linda Zaniboni\, Yuri For
	tini\, Hamza Baroune\, Tatenda\nChabarwa\nCellist: Dasiel Forcade\nVideo\,
	 scenography: Antoine Panier\nLighting: Arnaud Lhoute\nExternal eye: Vince
	nt Kuentz\n\nPartners\nCoproduced by the Centre Culturel Espace Magh. In p
	artnership with Inge\nBrinkman\, African Studies\, Ghent University. With 
	the support of :Nancy Henderek\n(Dance Salad Festival)\, Studio Le Labeur 
	- Dame de Pic/Cie Karine Ponties\,\nCentre culturel Tour à Plomb\, Karys D
	ance Center\, Cirqu’Conflex asbl and OneTeam\nConsulting.\n\nBild: Antoine
	 Panier
URL:https://keepkarlsruheboring.org/event/dunia-dance-theatre-bzwe-reflecti
	ons-on-monsters
GEO:49.0135;8.35882
LOCATION:Kulturzentrum Tempel - Kulturverein Tempel e.V. im Kulturzentrum T
	empel Hardtstraße 37 A D-76185 Karlsruhe
STATUS:CONFIRMED
CATEGORIES:Dance,TANZ Karlsruhe 2025,Tanzfestival 2025,Ticket
X-ALT-DESC;FMTTYPE=text/html:<p><strong>Afro-zeitgenössischer Tanz erforsch
	t die Grenzen der Wahrnehmung.</strong></p><p>In „Reflections“, einem afro
	-zeitgenössischen Tanzstück, erforschen sechs Künstler mit unterschiedlich
	em kulturellem Hintergrund das Konzept des „Monsters“ auf einer Reise durc
	h Unterschiede und Identität. Verschiedene Tanzstile verschmelzen zu einer
	 reichen und einzigartigen choreografischen Sprache, die künstlerische Gre
	nzen überschreitet. Unter der Regie von Harold George erwecken die Tänzeri
	nnen und Tänzer eine Mikrogesellschaft in Bewegung zum Leben und enthüllen
	 ihre einzigartigen</p><p>Persönlichkeiten und eine unerwartete Perspektiv
	e auf das Monster in jedem von uns.<br>Nach „Between the Lines“ und „Makin
	g Men“ (noch auf Tournee) setzt das Dunia Dance Theatre die Grenzen des ze
	itgenössischen Tanzes mit einem tiefgründigen Werk fort, das uns zum Nachd
	enken über Vielfalt und Identität in der heutigen Gesellschaft einlädt.</p
	><p>Das Dunia Dance Theatre wurde 2001 von dem Choreographen Harold George
	 aus Sierra Leone gegründet und ist eine in Brüssel ansässige afro-zeitgen
	össische Tanzkompanie.<br>Die Arbeit ist in der Diaspora-Erfahrung verwurz
	elt und zeichnet sich durch eine transkulturelle Ästhetik aus, die soziale
	 Themen durch eine starke emotionale choreografische Sprache anspricht.</p
	><p>Dauer: 75 Minuten</p><p><strong>Choreography</strong>: Harold George<b
	r><strong>Dancers</strong>: Ana Karina Castro, Linda Zaniboni, Yuri Fortin
	i, Hamza Baroune, Tatenda Chabarwa<br><strong>Cellist</strong>: Dasiel For
	cade<br><strong>Video, scenography</strong>: Antoine Panier<br><strong>Lig
	hting</strong>: Arnaud Lhoute<br><strong>External eye</strong>: Vincent Ku
	entz</p><p><strong>Partners</strong><br>Coproduced by the Centre Culturel 
	Espace Magh. In partnership with Inge Brinkman, African Studies, Ghent Uni
	versity. With the support of :Nancy Henderek (Dance Salad Festival), Studi
	o Le Labeur - Dame de Pic/Cie Karine Ponties, Centre culturel Tour à Plomb
	, Karys Dance Center, Cirqu’Conflex asbl and OneTeam Consulting.</p><p>Bil
	d: Antoine Panier</p>
BEGIN:VALARM
ACTION:DISPLAY
DESCRIPTION:Dunia Dance Theatre (B/ZWE) "Reflections [on monsters]" [24,80 
	€]
TRIGGER:-PT1H
END:VALARM
END:VEVENT
END:VCALENDAR
