BEGIN:VCALENDAR
VERSION:2.0
CALSCALE:GREGORIAN
PRODID:adamgibbons/ics
METHOD:PUBLISH
X-PUBLISHED-TTL:PT1H
BEGIN:VEVENT
UID:226@keepkarlsruheboring.org
SUMMARY:Durlach Art: Kunst in Durlach
DTSTAMP:20260423T102405Z
DTSTART:20250912T140000Z
DTEND:20250913T215900Z
DESCRIPTION:Bildhauerin Andrea Kiesecker und Prof. Harald Eichsteller haben
	 sich\nentschlossen\, ehrenamtlich die Organisation zu übernehmen\, nachde
	m bei den\nletzten drei DURLACH-ART so viele kunstinteressierte und freund
	liche Menschen in\ndas Atelier von Andrea in die Mittelstrasse gekommen wa
	ren – und man sich nicht\nvorstellen wollte\, dass es die DURLACH-ART nich
	t mehr geben soll. \n\nUns motiviert die Stimmung und das inspirierende Am
	biente\, das durch uns als\nteilnehmende Künstler:innen Durlach einzigarti
	g in einem lebendigen Licht\nerleuchten lässt. Ebenso motiviert sind wir v
	on Alexandra Ries und ihrem\ngroßartigen Team im Rathaus\, die seit der er
	sten Minute an immer an unserer\nSeite stehen und uns in allen Belangen he
	lfen.\n\nNach den erfolgreichen Veranstaltungen 2019\, 2021 und 2023 konnt
	en wir auf der\nBasis\, die das Team um Samuel Degen und Karlheinz Raviol 
	gelegt hatte\, aufbauen\nund ab heute sind wir mit über 100 Artists\, ihre
	n Portraits und einer\ninnovativen digitalen Entdeckungstour der Kunstwerk
	e in 9 Kategorien online –\nfür Smartphones\, Tablets und Bildschirme jewe
	ils optimiert.\n\nPlakate\, Programmheft\, Flyer mit Stadtplan und Postkar
	ten sind ebenso kurz\ndavor\, in den Druck zu gehen – wir freuen uns sehr!
	\n\n19. Juli 2025\n\n\n\n🔗 Programm\n[https://durlach-art.de/wp-content/up
	loads/2025/07/Durlach-Art-Programmheft-zum-Druck-V2-30-07-2025.pdf]
URL:https://keepkarlsruheboring.org/event/durlach-art-kunst-in-durlach
GEO:48.9991;8.47097
LOCATION:Rathaus Durlach - 33\, Pfinztalstraße\, Alt-Durlach\, Durlach\, Ka
	rlsruhe\, Baden-Württemberg\, 76227\, Deutschland
STATUS:CONFIRMED
CATEGORIES:Art,Durlach,Fest,Opening
X-ALT-DESC;FMTTYPE=text/html:<p>Bildhauerin Andrea Kiesecker und Prof. Hara
	ld Eichsteller haben sich entschlossen, ehrenamtlich die Organisation zu ü
	bernehmen, nachdem bei den letzten drei DURLACH-ART so viele kunstinteress
	ierte und freundliche Menschen in das Atelier von Andrea in die Mittelstra
	sse gekommen waren – und man sich nicht vorstellen wollte, dass es die DUR
	LACH-ART nicht mehr geben soll.&nbsp;</p><p>Uns motiviert die Stimmung und
	 das inspirierende Ambiente, das durch uns als teilnehmende Künstler:innen
	 Durlach einzigartig in einem lebendigen Licht erleuchten lässt. Ebenso mo
	tiviert sind wir von Alexandra Ries und ihrem großartigen Team im Rathaus,
	 die seit der ersten Minute an immer an unserer Seite stehen und uns in al
	len Belangen helfen.</p><p>Nach den erfolgreichen Veranstaltungen 2019, 20
	21 und 2023 konnten wir auf der Basis, die das Team um Samuel Degen und Ka
	rlheinz Raviol gelegt hatte, aufbauen und ab heute sind wir mit über 100 A
	rtists, ihren Portraits und einer innovativen digitalen Entdeckungstour de
	r Kunstwerke in 9 Kategorien online – für Smartphones, Tablets und Bildsch
	irme jeweils optimiert.</p><p>Plakate, Programmheft, Flyer mit Stadtplan u
	nd Postkarten sind ebenso kurz davor, in den Druck zu gehen – wir freuen u
	ns sehr!</p><p>19. Juli 2025</p><p></p><p>🔗 <a href="https://durlach-art.d
	e/wp-content/uploads/2025/07/Durlach-Art-Programmheft-zum-Druck-V2-30-07-2
	025.pdf" target="_blank">Programm</a></p>
BEGIN:VALARM
ACTION:DISPLAY
DESCRIPTION:Durlach Art: Kunst in Durlach
TRIGGER:-PT1H
END:VALARM
END:VEVENT
END:VCALENDAR
