BEGIN:VCALENDAR
VERSION:2.0
CALSCALE:GREGORIAN
PRODID:adamgibbons/ics
METHOD:PUBLISH
X-PUBLISHED-TTL:PT1H
BEGIN:VEVENT
UID:420@keepkarlsruheboring.org
SUMMARY:Eilkundgebung: All Eyes On Global Sumud Flotilla!
DTSTAMP:20260423T104835Z
DTSTART:20251002T160000Z
DESCRIPTION:HÄNDE WEG VON DER FLOTILLA!\n\n\n\nAm 01. Oktober wurde die "Gl
	obal Sumud Flotilla" illegal interzeptiert!\n\n32 Bote sind noch auf dem W
	eg nach Gaza!\n\nUnsere Genoss*innen stellen sich Israels Interesse entgeg
	en.\n\nEs braucht mehr internationalen Druck und Unterstützung\, um auf da
	s aktive\nAushungern Gazas aufmerksam zu machen und einen aktiven Schutz d
	er zivilen\nHilfslotte zu fördern.\n\nNahrung ist kein Machtinstrument und
	 sollte erst recht nicht als Kriegswaffe\nnormalisiert werden!\n\nWir ford
	ern ein Ende der Blockaden\, ein Ende der Apartheid und ein freies\nPaläst
	ina!\n\nLasst uns für unsere Genoss*innen auf der Flotilla laut sein!\n\nA
	ll Eyes On Sumud Flotilla!
URL:https://keepkarlsruheboring.org/event/eilkundgebung-all-eyes-on-global-
	sumud-flotilla
GEO:49.0089;8.40388
LOCATION:Marktplatz - Innenstadt-Ost\, Karlsruhe\, Baden-Württemberg\, 7613
	3\, Deutschland
STATUS:CONFIRMED
CATEGORIES:Demonstration,International Solidarity,Politics
X-ALT-DESC;FMTTYPE=text/html:<h1>Hände weg von der Flotilla!</h1><p></p><p>
	Am 01. Oktober wurde die "Global Sumud Flotilla" illegal interzeptiert!</p
	><p>32 Bote sind noch auf dem Weg nach Gaza!</p><p>Unsere Genoss*innen ste
	llen sich Israels Interesse entgegen.</p><p>Es braucht mehr internationale
	n Druck und Unterstützung, um auf das aktive Aushungern Gazas aufmerksam z
	u machen und einen aktiven Schutz der zivilen Hilfslotte zu fördern.</p><p
	>Nahrung ist kein Machtinstrument und sollte erst recht nicht als Kriegswa
	ffe normalisiert werden!</p><p>Wir fordern ein Ende der Blockaden, ein End
	e der Apartheid und ein freies Palästina!</p><p>Lasst uns für unsere Genos
	s*innen auf der Flotilla laut sein!</p><p>All Eyes On Sumud Flotilla!</p>
BEGIN:VALARM
ACTION:DISPLAY
DESCRIPTION:Eilkundgebung: All Eyes On Global Sumud Flotilla!
TRIGGER:-PT1H
END:VALARM
END:VEVENT
END:VCALENDAR
