BEGIN:VCALENDAR
VERSION:2.0
CALSCALE:GREGORIAN
PRODID:adamgibbons/ics
METHOD:PUBLISH
X-PUBLISHED-TTL:PT1H
BEGIN:VEVENT
UID:1017@keepkarlsruheboring.org
SUMMARY:Einführung in die Glockengießerei
DTSTAMP:20260423T104722Z
DTSTART:20260221T190000Z
DTEND:20260221T200000Z
DESCRIPTION:Ulf ist gelernter Glockengießer und wird eine Rundum-Einführung
	 in die\nGlockenkunde und das Glockengießen geben. Seine größte Glocke fin
	det sich in der\nFrankfurter Paulskirche mit einer Masse von 12-13 Tonnen 
	und ist damit auch die\ngrößte Glocke der Kirche.\n\nMehr zu unserem Open 
	Sessions Format findet ihr hier:\nhttps://entropia.de/Open_Sessions [https
	://entropia.de/Open_Sessions]
URL:https://keepkarlsruheboring.org/event/einfuhrung-in-die-glockengiessere
	i
GEO:49.0063;8.40722
LOCATION:Entropia - Gewerbehof Steinstraße 23 76133 Karlsruhe
STATUS:CONFIRMED
CATEGORIES:Vortrag
X-ALT-DESC;FMTTYPE=text/html:<p>Ulf ist gelernter Glockengießer und wird ei
	ne Rundum-Einführung in die Glockenkunde und das Glockengießen geben. Sein
	e größte Glocke findet sich in der Frankfurter Paulskirche mit einer Masse
	 von 12-13 Tonnen und ist damit auch die größte Glocke der Kirche.</p><p>M
	ehr zu unserem Open Sessions Format findet ihr hier: <a href="https://entr
	opia.de/Open_Sessions" target="_blank">https://entropia.de/Open_Sessions</
	a></p>
BEGIN:VALARM
ACTION:DISPLAY
DESCRIPTION:Einführung in die Glockengießerei
TRIGGER:-PT1H
END:VALARM
END:VEVENT
END:VCALENDAR
