BEGIN:VCALENDAR
VERSION:2.0
CALSCALE:GREGORIAN
PRODID:adamgibbons/ics
METHOD:PUBLISH
X-PUBLISHED-TTL:PT1H
BEGIN:VEVENT
UID:1218@keepkarlsruheboring.org
SUMMARY:Eintritt frei Climbing
DTSTAMP:20260423T102324Z
DTSTART:20260320T130000Z
DTEND:20260320T170000Z
DESCRIPTION:Die Arbeit „Eintritt frei Solo“ in der Ausstellung „Ratatataa“ 
	von Özlem Günyol\n& Mustafa Kunt lädt freitags ab 14 Uhr das Publikum ein\
	, selbst Teil der\nInstallation zu werden. Die Kletterwand darf bestiegen 
	und erkundet werden.
URL:https://keepkarlsruheboring.org/event/eintritt-frei-climbing
GEO:49.0004;8.38349
LOCATION:Kunstmuseum Karlsruhe - 27\, Lorenzstraße\, Beiertheimer Feld\, Sü
	dweststadt\, Karlsruhe\, Baden-Württemberg\, 76135\, Deutschland
STATUS:CONFIRMED
CATEGORIES:Art,Climbing,Exhibition,Internationalen Wochen gegen Rassismus,K
	unstmuseum Karlsruhe,Sport
X-ALT-DESC;FMTTYPE=text/html:<p>Die Arbeit „Eintritt frei Solo“ in der Auss
	tellung „Ratatataa“ von Özlem Günyol &amp; Mustafa Kunt lädt freitags ab 1
	4 Uhr das Publikum ein, selbst Teil der Installation zu werden. Die Klette
	rwand darf bestiegen und erkundet werden.</p>
BEGIN:VALARM
ACTION:DISPLAY
DESCRIPTION:Eintritt frei Climbing
TRIGGER:-PT1H
END:VALARM
END:VEVENT
END:VCALENDAR
