BEGIN:VCALENDAR
VERSION:2.0
CALSCALE:GREGORIAN
PRODID:adamgibbons/ics
METHOD:PUBLISH
X-PUBLISHED-TTL:PT1H
BEGIN:VEVENT
UID:96@keepkarlsruheboring.org
SUMMARY:Encounter Trees – Modena x Karlsruhe
DTSTAMP:20260423T102326Z
DTSTART:20250627T160000Z
DTEND:20250705T215900Z
DESCRIPTION:[↓ German Version Below ↓]\n\nAs part of ArchitekturZeit [https
	://architekturzeit-ka.de/]\, the two UNESCO\nCreative Cities Modena and Ka
	rlsruhe engage in a creative dialogue. The\nexhibition Encounter Trees – M
	odena x Karlsruhe explores the fascinating\nrelationship between humans\, 
	nature\, and design. At the heart of the exhibition\nlies the visionary wo
	rk of Italian architect Cesare Leonardi (1935–2021)\, whose\npractice span
	s architecture\, urban planning\, photography\, design\, and art. His\nint
	erdisciplinary approach combines design research with artistic\nexperiment
	ation—an invitation to understand design not only as form\, but as a\ncult
	ural force.\n\nEncounter Trees highlights two central aspects of Leonardi’
	s work: his extensive\ntree drawings and his sustainable furniture design.
	 Together with Franca Stagi\n(1937–2008)\, he documented over 300 tree spe
	cies\, analyzing their shadow\npatterns and seasonal color changes to info
	rm the design of parks and shared\npublic spaces. Starting in the 1980s\, 
	he also developed the Solids\, a series of\nmodular\, handcrafted wooden f
	urniture pieces as a sustainable alternative to\nindustrial design.\n\nLeo
	nardi’s interdisciplinary approach is brought to life in the exhibition\nt
	hrough original drawings\, prototypes\, photographs\, and multimedia\ninst
	allations. Visitors are invited to freely explore different thematic areas
	\nand rediscover the interplay between design\, nature\, and urban landsca
	pes in the\nunique setting of the Fasanenschlösschen. The exhibition is co
	mplemented by\ninteractive workshops that encourage hands-on exploration o
	f design principles\nand direct engagement with the trees in the surroundi
	ng Fasanengarten.\n\n\n\n/-/-/\n\nIm Rahmen der ArchitekturZeit [https://a
	rchitekturzeit-ka.de/] treten die beiden\nUNESCO Creative Cities Modena un
	d Karlsruhe in einen kreativen Dialog. Die\nAusstellung Encounter Trees – 
	Modena x Karlsruhe erkundet die faszinierende\nBeziehung zwischen Mensch\,
	 Natur und Design. Im Mittelpunkt der Ausstellung\nsteht das visionäre Wer
	k des italienischen Architekten Cesare Leonardi\n(1935–2021)\, dessen Arbe
	it sich in der Schnittstelle zwischen Architektur\,\nStadtplanung\, Fotogr
	afie\, Design und Kunst bewegt. Seine interdisziplinäre\nPraxis vereint ge
	stalterische Forschung mit künstlerischem Experiment – Eine\nEinladung\, D
	esign nicht nur als Form\, sondern als kulturelle Kraft zu verstehen.\n\nE
	ncounter Trees beleuchtet zwei zentrale Aspekte von Leonardis Schaffen: Se
	ine\numfassenden Zeichnungen von Bäumen sowie sein nachhaltiges Möbeldesig
	n.\nGemeinsam mit Franca Stagi (1937-2008) dokumentierte er über 300 Bauma
	rten und\nuntersuchte ihre Schattenwirkung sowie jahreszeitlichen Farbverä
	nderungen für\ndie Gestaltung von Parks und kollektiven Räumen. Ab den 198
	0er-Jahren\nentwickelte er zudem die Solids\, eine Serie modularer\, handw
	erklich gefertigter\nHolzmöbel\, als nachhaltige Alternative zum industrie
	llen Design.\n\nLeonardis interdisziplinärer Ansatz wird in der Ausstellun
	g durch\nOriginalzeichnungen\, Prototypen\, Fotografien und multimediale I
	nstallationen\nerlebbar. Besucherinnen und Besucher können sich frei durch
	 die verschiedenen\nThemenbereiche bewegen und die Wechselwirkungen zwisch
	en Design\, Natur und\nStadtlandschaft im einzigartigen Umfeld des Fasanen
	schlösschens neu entdecken.\nErgänzt wird die Ausstellung durch interaktiv
	e Workshops\, die dazu einladen\, die\nDesign-Prinzipien praktisch zu erku
	nden und in Kontakt mit den Bäumen im\nunmittelbaren Umfeld des Fasanengar
	tens zu treten.\n\n
URL:https://keepkarlsruheboring.org/event/encounter-trees-modena-x-karlsruh
	e
GEO:49.0134;8.41286
LOCATION:Fasanenschlösschen - Fasanenschlösschen in the Fasanengarten
STATUS:CONFIRMED
CATEGORIES:Exhibition,Media Art
X-ALT-DESC;FMTTYPE=text/html:<p>[↓ German Version Below ↓]</p><p><strong>As
	 part of </strong><a href="https://architekturzeit-ka.de/" target="_blank"
	><strong>ArchitekturZeit</strong></a><strong>, the two UNESCO Creative Cit
	ies Modena and Karlsruhe engage in a creative dialogue. The exhibition <em
	>Encounter Trees – Modena x Karlsruhe</em> explores the fascinating relati
	onship between humans, nature, and design. At the heart of the exhibition 
	lies the visionary work of Italian architect Cesare Leonardi (1935–2021), 
	whose practice spans architecture, urban planning, photography, design, an
	d art. His interdisciplinary approach combines design research with artist
	ic experimentation—an invitation to understand design not only as form, bu
	t as a cultural force.</strong></p><p><em>Encounter Trees</em> highlights 
	two central aspects of Leonardi’s work: his extensive tree drawings and hi
	s sustainable furniture design. Together with Franca Stagi (1937–2008), he
	 documented over 300 tree species, analyzing their shadow patterns and sea
	sonal color changes to inform the design of parks and shared public spaces
	. Starting in the 1980s, he also developed the <em>Solids</em>, a series o
	f modular, handcrafted wooden furniture pieces as a sustainable alternativ
	e to industrial design.</p><p>Leonardi’s interdisciplinary approach is bro
	ught to life in the exhibition through original drawings, prototypes, phot
	ographs, and multimedia installations. Visitors are invited to freely expl
	ore different thematic areas and rediscover the interplay between design, 
	nature, and urban landscapes in the unique setting of the Fasanenschlössch
	en. The exhibition is complemented by interactive workshops that encourage
	 hands-on exploration of design principles and direct engagement with the 
	trees in the surrounding Fasanengarten.</p><p></p><p>/-/-/</p><p><strong>I
	m Rahmen der </strong><a href="https://architekturzeit-ka.de/" target="_bl
	ank"><strong>ArchitekturZeit</strong></a><strong> treten die beiden UNESCO
	 Creative Cities Modena und Karlsruhe in einen kreativen Dialog. Die Ausst
	ellung <em>Encounter Trees – Modena x Karlsruhe </em>erkundet die faszinie
	rende Beziehung zwischen Mensch, Natur und Design. Im Mittelpunkt der Auss
	tellung steht das visionäre Werk des italienischen Architekten Cesare Leon
	ardi (1935–2021), dessen Arbeit sich in der Schnittstelle zwischen Archite
	ktur, Stadtplanung, Fotografie, Design und Kunst bewegt. Seine interdiszip
	linäre Praxis vereint gestalterische Forschung mit künstlerischem Experime
	nt – Eine Einladung, Design nicht nur als Form, sondern als kulturelle Kra
	ft zu verstehen.</strong></p><p><em>Encounter Trees</em> beleuchtet zwei z
	entrale Aspekte von Leonardis Schaffen: Seine umfassenden Zeichnungen von 
	Bäumen sowie sein nachhaltiges Möbeldesign. Gemeinsam mit Franca Stagi (19
	37-2008) dokumentierte er über 300 Baumarten und untersuchte ihre Schatten
	wirkung sowie jahreszeitlichen Farbveränderungen für die Gestaltung von Pa
	rks und kollektiven Räumen. Ab den 1980er-Jahren entwickelte er zudem die 
	<em>Solids</em>, eine Serie modularer, handwerklich gefertigter Holzmöbel,
	 als nachhaltige Alternative zum industriellen Design.</p><p>Leonardis int
	erdisziplinärer Ansatz wird in der Ausstellung durch Originalzeichnungen, 
	Prototypen, Fotografien und multimediale Installationen erlebbar. Besucher
	innen und Besucher können sich frei durch die verschiedenen Themenbereiche
	 bewegen und die Wechselwirkungen zwischen Design, Natur und Stadtlandscha
	ft im einzigartigen Umfeld des Fasanenschlösschens neu entdecken. Ergänzt 
	wird die Ausstellung durch interaktive Workshops, die dazu einladen, die D
	esign-Prinzipien praktisch zu erkunden und in Kontakt mit den Bäumen im un
	mittelbaren Umfeld des Fasanengartens zu treten.</p><p></p>
BEGIN:VALARM
ACTION:DISPLAY
DESCRIPTION:Encounter Trees – Modena x Karlsruhe
TRIGGER:-PT1H
END:VALARM
END:VEVENT
END:VCALENDAR
