BEGIN:VCALENDAR
VERSION:2.0
CALSCALE:GREGORIAN
PRODID:adamgibbons/ics
METHOD:PUBLISH
X-PUBLISHED-TTL:PT1H
BEGIN:VEVENT
UID:3@keepkarlsruheboring.org
SUMMARY:Enführungsveranstaltung in die GPN-Orga
DTSTAMP:20260423T115257Z
DTSTART:20250412T130000Z
DESCRIPTION:EINFÜHRUNGSVERANSTALTUNG IN DIE GULASCHPROGRAMMIERNACHT-ORGA\n\
	nUm einen Einblick in die GPN-Organisation zu bieten und den Einstieg in d
	ie\nGPN-Orga leichter zu machen\, haben wir uns diese Jahr entschieden\, f
	ür\ninteressierte Menschen mehrere Einführung in die GPN-Orga in Form eine
	s Vortrags\n& Get-Togethers anzubieten. Wer also Interesse hat\, die Mensc
	hen hinter der GPN\nkennenzulernen und eventuell selbst mit zu Organisiere
	n\, ist herzlich\neingeladen\, teilzunehmen.\n\nEs wird zunächst einen Vor
	trag geben\, in dem wir erklären\, wie die Orga der\nGulaschprogrammiernac
	ht funktioniert\, welche Tools wir nutzen\, welche\nOrga-Bereiche es gibt 
	und wo ihr mitmachen könnt.\n\nIm Anschluss ist Raum für Fragen und ein ge
	mütliches Beisammensein in den Räumen\ndes Entropia e.V. bei kühler Mate u
	nd Snacks\, wo nochmal Raum für tiefergehenden\nAustausch und gegenseitige
	s Kennenlernen ist.\n\nWer? Alle\, die Interesse haben\, bei der GPN-Orga 
	mitzumachen\n\nWann?\n\n * 11. Januar 2025\, 15 Uhr (hat schon statt gefun
	den)\n\n * 12. April 2025\, 15 Uhr\n\nWo?\n\n * Im Entropia\n\n * Hybrid z
	um Zuschauen auf https://streaming.media.ccc.de/gpn23orga\n   [https://str
	eaming.media.ccc.de/gpn23orga]\n\n * Hybrid zum Fragen stellen unter https
	://meet.zkm.de/Einf\n   [https://meet.zkm.de/Einf]ührungsveranstaltung-GPN
	-Orga\n   [https://meet.zkm.de/Einf%C3%BChrungsveranstaltung-GPN-Orga]\n\n
	Was? Eine Einführung: Wie funktioniert die GPN-Orga? Welche Tools nutzen w
	ir?\nWelche Orga-Bereiche gibt es? Wo kann ich mitmachen? etc.\n\n\n\n\n\n
	ANDERE INFOQUELLEN\n\nWas gibt es zu tun? Wo kann ich mitmachen? GPN23:Org
	a\n[https://entropia.de/GPN23:Orga]\n\nBei der GPN Orga Mitmachen – GPN23:
	Orga-Einfuehrungsveranstaltung\n[https://entropia.de/GPN23:Orga-Einfuehrun
	gsveranstaltung]\n\nWie funktioniert die Orga? Welche Tools werden benutzt
	? GPN:Howto/Orga\n[https://entropia.de/GPN:Howto/Orga]
URL:https://keepkarlsruheboring.org/event/enfuhrungsveranstaltung-in-die-gp
	n-orga
GEO:49.0063;8.40722
LOCATION:Entropia - Gewerbehof Steinstraße 23 76133 Karlsruhe
STATUS:CONFIRMED
CATEGORIES:GPN
X-ALT-DESC;FMTTYPE=text/html:<h3>Einführungsveranstaltung in die Gulaschpro
	grammiernacht-Orga</h3><p>Um einen Einblick in die GPN-Organisation zu bie
	ten und den Einstieg in die GPN-Orga leichter zu machen, haben wir uns die
	se Jahr entschieden, für interessierte Menschen mehrere Einführung in die 
	GPN-Orga in Form eines Vortrags &amp; Get-Togethers anzubieten. Wer also I
	nteresse hat, die Menschen hinter der GPN kennenzulernen und eventuell sel
	bst mit zu Organisieren, ist herzlich eingeladen, teilzunehmen.</p><p>Es w
	ird zunächst einen Vortrag geben, in dem wir erklären, wie die Orga der Gu
	laschprogrammiernacht funktioniert, welche Tools wir nutzen, welche Orga-B
	ereiche es gibt und wo ihr mitmachen könnt.</p><p>Im Anschluss ist Raum fü
	r Fragen und ein gemütliches Beisammensein in den Räumen des Entropia e.V.
	 bei kühler Mate und Snacks, wo nochmal Raum für tiefergehenden Austausch 
	und gegenseitiges Kennenlernen ist.</p><p><strong>Wer?</strong> Alle, die 
	Interesse haben, bei der GPN-Orga mitzumachen</p><p><strong>Wann?</strong>
	</p><ul><li><p>11. Januar 2025, 15 Uhr <em>(hat schon statt gefunden)</em>
	</p></li><li><p><strong>12. April 2025, 15 Uhr</strong></p></li></ul><p><s
	trong>Wo?</strong></p><ul><li><p>Im Entropia</p></li><li><p>Hybrid zum Zus
	chauen auf <a target="_blank" href="https://streaming.media.ccc.de/gpn23or
	ga">https://streaming.media.ccc.de/gpn23orga</a></p></li><li><p>Hybrid zum
	 Fragen stellen unter <a target="_blank" href="https://meet.zkm.de/Einf">h
	ttps://meet.zkm.de/Einf</a><a target="_blank" href="https://meet.zkm.de/Ei
	nf%C3%BChrungsveranstaltung-GPN-Orga">ührungsveranstaltung-GPN-Orga</a></p
	></li></ul><p><strong>Was?</strong> Eine Einführung: Wie funktioniert die 
	GPN-Orga? Welche Tools nutzen wir? Welche Orga-Bereiche gibt es? Wo kann i
	ch mitmachen? etc.</p><p><br></p><h3>Andere Infoquellen</h3><p><strong>Was
	 gibt es zu tun? Wo kann ich mitmachen?</strong> <a target="_blank" href="
	https://entropia.de/GPN23:Orga">GPN23:Orga</a></p><p><strong>Bei der GPN O
	rga Mitmachen –</strong> <a target="_blank" href="https://entropia.de/GPN2
	3:Orga-Einfuehrungsveranstaltung">GPN23:Orga-Einfuehrungsveranstaltung</a>
	</p><p><strong>Wie funktioniert die Orga? Welche Tools werden benutzt?</st
	rong> <a target="_blank" href="https://entropia.de/GPN:Howto/Orga">GPN:How
	to/Orga</a></p>
BEGIN:VALARM
ACTION:DISPLAY
DESCRIPTION:Enführungsveranstaltung in die GPN-Orga
TRIGGER:-PT1H
END:VALARM
END:VEVENT
END:VCALENDAR
