BEGIN:VCALENDAR
VERSION:2.0
CALSCALE:GREGORIAN
PRODID:adamgibbons/ics
METHOD:PUBLISH
X-PUBLISHED-TTL:PT1H
BEGIN:VEVENT
UID:1463@keepkarlsruheboring.org
SUMMARY:ERSTES OFFENES PLENUM - Hauruck e.V. Karlsruhe
DTSTAMP:20260423T102421Z
DTSTART:20260415T170000Z
DESCRIPTION:Wir laden alle Neugierigen\, Altbekannten\, Veranstaltungsplane
	nden\, politisch\nFrustrierten und Interessierten\, zum solidarischen Mite
	inander offenen\,\nVorbeilaufenden und schon Mit-Mischenden herzlichst zu 
	unserem ersten offenen\nPlenum ein!\n\nAm Mittwoch\, den 15. April um 19 U
	hr\, kommen wir zusammen\, um euch vorzustellen\,\nwas wir bisher an Planu
	ng\, Ideen und Visionen für den neuen Raum erarbeiten\nkonnten. Auch soll 
	die Runde zum Eröffnen für Fragen\, Anregungen und Ideen zum\nMitwirken da
	 sein. 🫟\nCU!\n\n
URL:https://keepkarlsruheboring.org/event/erstes-offenes-plenum-hauruck-ev-
	karlsruhe
LOCATION:Kulturdose Karlsruhe - 5\, Schauenburgstraße\, Bulach\, Beiertheim
	-Bulach\, Karlsruhe\, Baden-Württemberg\, 76135\, Deutschland
STATUS:CONFIRMED
CATEGORIES:Hauruck e.V. Karlsruhe,Opening,Plenun,Politics
X-ALT-DESC;FMTTYPE=text/html:<p>Wir laden alle Neugierigen, Altbekannten, V
	eranstaltungsplanenden, politisch Frustrierten und Interessierten, zum sol
	idarischen Miteinander offenen, Vorbeilaufenden und schon Mit-Mischenden h
	erzlichst zu unserem ersten offenen Plenum ein!</p><p>Am Mittwoch, den 15.
	 April um 19 Uhr, kommen wir zusammen, um euch vorzustellen, was wir bishe
	r an Planung, Ideen und Visionen für den neuen Raum erarbeiten konnten. Au
	ch soll die Runde zum Eröffnen für Fragen, Anregungen und Ideen zum Mitwir
	ken da sein. 🫟<br>CU!</p><p></p>
BEGIN:VALARM
ACTION:DISPLAY
DESCRIPTION:ERSTES OFFENES PLENUM - Hauruck e.V. Karlsruhe
TRIGGER:-PT1H
END:VALARM
END:VEVENT
END:VCALENDAR
