BEGIN:VCALENDAR
VERSION:2.0
CALSCALE:GREGORIAN
PRODID:adamgibbons/ics
METHOD:PUBLISH
X-PUBLISHED-TTL:PT1H
BEGIN:VEVENT
UID:738@keepkarlsruheboring.org
SUMMARY:Esolangs as Hacker Folk-Art and Computational Resistance
DTSTAMP:20260423T090236Z
DTSTART:20260207T190000Z
DTEND:20260207T200000Z
DESCRIPTION:Building on the Friday night presentation of Forty-Four Esolang
	s at ZKM\n(https://zkm.de/en/2026/02/daniel-temkin-forty-four-esolangs\n[h
	ttps://zkm.de/en/2026/02/daniel-temkin-forty-four-esolangs])\, this is a d
	eeper\ndive into esolangs as a community-based form. We’ll look at esolang
	s as a\ndialogue between the esolangers who make them and the esoprogramme
	rs who expand\nhow they can be used\, and make their own discoveries about
	 the languages. In\nthis moment\, when AI tools reinforce a bland\, corpor
	atized monoculture of code\,\nesolangs remind us that we can create our ow
	n alternatives\, to address not only\nhow code reads but who it is for. Th
	ere will be opportunities to answer\nquestions about the technical side of
	 language design and to share ideas or\nworks-in-progress.\n\nFind informa
	tion on our weekly open sessions format:\nhttps://entropia.de/Open_Session
	s [https://entropia.de/Open_Sessions]
URL:https://keepkarlsruheboring.org/event/esolangs-as-hacker-folk-art-and-c
	omputational-resistance
GEO:49.0063;8.40722
LOCATION:Entropia - Gewerbehof Steinstraße 23 76133 Karlsruhe
STATUS:CONFIRMED
CATEGORIES:Art,Digital,Talk,Technology
X-ALT-DESC;FMTTYPE=text/html:<p>Building on the Friday night presentation o
	f Forty-Four Esolangs at ZKM (<a href="https://zkm.de/en/2026/02/daniel-te
	mkin-forty-four-esolangs" target="_blank">https://zkm.de/en/2026/02/daniel
	-temkin-forty-four-esolangs</a>), this is a deeper dive into esolangs as a
	 community-based form. We’ll look at esolangs as a dialogue between the es
	olangers who make them and the esoprogrammers who expand how they can be u
	sed, and make their own discoveries about the languages. In this moment, w
	hen AI tools reinforce a bland, corporatized monoculture of code, esolangs
	 remind us that we can create our own alternatives, to address not only ho
	w code reads but who it is for. There will be opportunities to answer ques
	tions about the technical side of language design and to share ideas or wo
	rks-in-progress.</p><p>Find information on our weekly open sessions format
	: <a href="https://entropia.de/Open_Sessions" target="_blank">https://entr
	opia.de/Open_Sessions</a></p>
BEGIN:VALARM
ACTION:DISPLAY
DESCRIPTION:Esolangs as Hacker Folk-Art and Computational Resistance
TRIGGER:-PT1H
END:VALARM
END:VEVENT
END:VCALENDAR
