BEGIN:VCALENDAR
VERSION:2.0
CALSCALE:GREGORIAN
PRODID:adamgibbons/ics
METHOD:PUBLISH
X-PUBLISHED-TTL:PT1H
BEGIN:VEVENT
UID:459@keepkarlsruheboring.org
SUMMARY:EXHIBITION Drucksache 6
DTSTAMP:20260423T102216Z
DTSTART:20251108T110000Z
DTEND:20251109T170000Z
DESCRIPTION:Wie in fast jeden Jahr im November findet auch dieses Jahr am 8
	. und 9. November\n2025 unsere große Gruppenausstellung mit vielen tollen\
	nSiebdruckarbeiten statt. Kommt vorbei! Es gibt viel zu entdecken...\n\n \
	n\nUnd weil wir in diesem Jahr auch unser 10 jähriges Atelier Jubiläum fei
	ern\,\nhaben wir uns noch ein paar Überraschungen für euch einfallen lasse
	n. Seit also\ndabei\, wenn wir am \n\nSa. 08. November von 12 - 20 Uhr\n\n
	und \n\nSo. 09. November von12 - 18 Uhr\n\n \n\nunsere Ausstellung öffnen.
	 Wir freuen uns auf euch!\n\n \n\n \n\nDRUCKEN AUF PAPIER\nWorkshop für Ei
	nsteiger\nmaximal 6 Teilnehmer \n\n \n\nSamstag 12.00 - 17.00 Uhr\n\n.....
	..............................115 €\n\ninklusive aller Materialien\, Farbe
	 und 10 Bögen Druckpapier A3.\n\nHier sind noch keine eigenen Motive mögli
	ch. Ihr bedient euch ganz einfach bei\nunseren fertig belichteten tollen M
	uster- und Motiv Sieben. Es stehen euch über\n20 Motive zur Auswahl! Das i
	st der perfekte und entspannte Einstieg für\nSiebdruck Neulinge! Hier lern
	t ihr alle Abläufe\, das Atelier\, Materialien und\nMöglichkeiten kennen. 
	 
URL:https://keepkarlsruheboring.org/event/exhibition-drucksache-6
GEO:48.9961;8.46048
LOCATION:Atelier und Galeriehaus Witte - Oberwaldstraße 19 76227 Durlach
STATUS:CONFIRMED
CATEGORIES:Cyanotype,Etching,Exhibition,Print,Screen printing,Woodcut
X-ALT-DESC;FMTTYPE=text/html:<p>Wie in fast jeden Jahr im November&nbsp;fin
	det auch dieses Jahr am 8. und 9. November 2025&nbsp;unsere große Gruppena
	usstellung mit vielen tollen Siebdruckarbeiten&nbsp;statt.&nbsp;Kommt vorb
	ei! Es gibt viel zu entdecken...</p><p>&nbsp;</p><p>Und weil wir in diesem
	 Jahr auch unser 10 jähriges Atelier Jubiläum feiern, haben wir uns noch e
	in paar Überraschungen für euch einfallen lassen. Seit also dabei, wenn wi
	r am&nbsp;</p><p><strong>Sa. 08. November von 12 - 20 Uhr</strong></p><p><
	strong>und&nbsp;</strong></p><p><strong>So. 09. November von12 - 18 Uhr</s
	trong></p><p>&nbsp;</p><p>unsere Ausstellung öffnen. Wir freuen uns auf eu
	ch!</p><p>&nbsp;</p><p>&nbsp;</p><p><strong>DRUCKEN AUF PAPIER<br>Workshop
	 für Einsteiger<br>maximal 6 Teilnehmer&nbsp;</strong></p><p>&nbsp;</p><p>
	<strong>Samstag&nbsp;</strong>12.00 - 17.00 Uhr</p><p><strong>............
	.......................115 €</strong></p><p>inklusive aller Materialien, F
	arbe und 10 Bögen Druckpapier A3.</p><p>Hier sind noch keine eigenen Motiv
	e möglich. Ihr bedient euch ganz einfach bei unseren fertig belichteten to
	llen Muster- und Motiv Sieben. Es stehen euch über 20 Motive zur Auswahl! 
	Das ist der perfekte und entspannte Einstieg für Siebdruck Neulinge! Hier 
	lernt ihr alle Abläufe, das Atelier, Materialien und Möglichkeiten kennen.
	&nbsp;&nbsp;</p>
BEGIN:VALARM
ACTION:DISPLAY
DESCRIPTION:EXHIBITION Drucksache 6
TRIGGER:-PT1H
END:VALARM
END:VEVENT
END:VCALENDAR
