BEGIN:VCALENDAR
VERSION:2.0
CALSCALE:GREGORIAN
PRODID:adamgibbons/ics
METHOD:PUBLISH
X-PUBLISHED-TTL:PT1H
BEGIN:VEVENT
UID:583@keepkarlsruheboring.org
SUMMARY:Exhibition: Wunderbaum
DTSTAMP:20260423T102134Z
DTSTART:20251206T150000Z
DTEND:20251206T180000Z
DESCRIPTION:WUNDERBAUM\n\nHerzlich Willkommen in die AHOI studios zur Eröff
	nung der Ausstellung\n“Wunderbaum” am Sonntag\, 30. November 2025. Von 10-
	18 Uhr können bei Punsch\,\nPlätzchen\, Suppe und Wein aktuelle Arbeiten d
	er Künstler in entspannter\nAtmosphäre betrachtet werden.\n\n\n\nWir präse
	ntieren erstmals die gesamte Produktion der Weltraum-Vasen\, deren\nEntwür
	fe\, sowie erste Ergebnisse eines Holzworkshops. Es gibt auch wieder klein
	e\nArbeiten\, die günstig erworben werden können - diesmal Baumschmuck. \n
	\n\n\nWeitere Öffnungszeiten:\n\nDienstag\, 2.12.\,  16-19 Uhr\n\nDonnerst
	ag\, 4.12.\, 16-19 Uhr\n\nSamstag\, 6.12.\, 16-19 Uhr\n\n\n\nAm Samstag\, 
	6.12. bieten wir um 17 Uhr eine Führung durch die Ausstellung.\n\n\n\nWir 
	freuen uns auf euren/Ihren Besuch!
URL:https://keepkarlsruheboring.org/event/exhibition-wunderbaum
GEO:49.0168;8.34545
LOCATION:AHOI studios - Nördliche Uferstraße 4
STATUS:CONFIRMED
CATEGORIES:Ahoi Studios,Art,Exhibition
X-ALT-DESC;FMTTYPE=text/html:<h2>Wunderbaum</h2><p>Herzlich Willkommen in d
	ie AHOI studios zur Eröffnung der Ausstellung “Wunderbaum”  am&nbsp;<stron
	g>Sonntag, 30. November 2025</strong>. Von 10-18 Uhr können bei Punsch, Pl
	ätzchen, Suppe und Wein  aktuelle Arbeiten der Künstler in entspannter Atm
	osphäre betrachtet werden.</p><p></p><p>Wir präsentieren erstmals die gesa
	mte Produktion der Weltraum-Vasen, deren Entwürfe, sowie erste Ergebnisse 
	eines Holzworkshops. Es gibt auch wieder kleine Arbeiten, die günstig erwo
	rben werden können - diesmal Baumschmuck.&nbsp;</p><p></p><p><strong>Weite
	re Öffnungszeiten:</strong></p><p>Dienstag, 2.12.,&nbsp; 16-19 Uhr</p><p>D
	onnerstag, 4.12., 16-19 Uhr</p><p>Samstag, 6.12., 16-19 Uhr</p><p></p><p>A
	m <strong>Samstag,</strong> <strong>6.12. bieten wir um 17 Uhr eine Führun
	g</strong> durch die Ausstellung.</p><p></p><p>Wir freuen uns auf euren/Ih
	ren Besuch!</p>
BEGIN:VALARM
ACTION:DISPLAY
DESCRIPTION:Exhibition: Wunderbaum
TRIGGER:-PT1H
END:VALARM
END:VEVENT
END:VCALENDAR
