BEGIN:VCALENDAR
VERSION:2.0
CALSCALE:GREGORIAN
PRODID:adamgibbons/ics
METHOD:PUBLISH
X-PUBLISHED-TTL:PT1H
BEGIN:VEVENT
UID:160@keepkarlsruheboring.org
SUMMARY:Fahrrad / teile Flohmarkt im Gewerbehof
DTSTAMP:20260423T103300Z
DTSTART:20250816T100000Z
DTEND:20250816T150000Z
DESCRIPTION:Wahrscheinlich\n\nBeim Schlechtetwetter 1 Woche verschoben!
URL:https://keepkarlsruheboring.org/event/fahrrad-teile-flohmarkt-im-gewerb
	ehof
GEO:49.0063;8.40722
LOCATION:Gewerbehof - Gewerbehof Steinstraße 23 76133 Karlsruhe
STATUS:CONFIRMED
CATEGORIES:Bike,Flohmarkt
X-ALT-DESC;FMTTYPE=text/html:<p>Wahrscheinlich</p><p>Beim Schlechtetwetter 
	1 Woche verschoben!</p>
BEGIN:VALARM
ACTION:DISPLAY
DESCRIPTION:Fahrrad / teile Flohmarkt im Gewerbehof
TRIGGER:-PT1H
END:VALARM
END:VEVENT
END:VCALENDAR
