BEGIN:VCALENDAR
VERSION:2.0
CALSCALE:GREGORIAN
PRODID:adamgibbons/ics
METHOD:PUBLISH
X-PUBLISHED-TTL:PT1H
BEGIN:VEVENT
UID:102@keepkarlsruheboring.org
SUMMARY:Fiesta Via Canale - Straßenfest im Kanalweg
DTSTAMP:20260423T104835Z
DTSTART:20250628T120000Z
DESCRIPTION:soziokulturell\, nachbarschaftlich\, unkommerziell\n\nAm 28. Ju
	ni 2025 wird endlich wieder ein großes Straßenfest im Kanalweg\ngefeiert!\
	n\nDiesmal haben sich das Kulturhaus MIKADO\, die MieterInneninitiative Ka
	rlsruhe\n(MiKa) und das Restaurant fünf zusammengetan.\n\nLangjährige Gäst
	e der Feste im Kanalweg werden so manches wiedererkennen\, aber\nfür diese
	s Jahr sind auch einige neue Überraschungen im Programm.\n\nDie Autos werd
	en von der Straße und den Parkplätzen verbannt\, um Platz zu\nschaffen für
	 die schönen Dinge im Leben. Ab 14 Uhr verwandelt sich so die Straße\nim W
	ohnprojekt zu einem Wohlfühlort für Groß und Klein. Freut euch auf\nLive-M
	usik\, internationale Küche an mehreren Essensständen\, Kaffee und Kuchen\
	,\nkühle Getränke und ein vielfältiges Rahmenprogramm.\n\nAm Nachmittag kö
	nnt ihr Neues ausprobieren und euch austoben: auf Bäume\nklettern\, Einrad
	 fahren und gemeinsam ein Kunstwerk auf die Straße malen. Auf\nder Wiese e
	rzählt euch der Bananenfuchs bei seiner interaktiven musikalischen\nKinder
	show von seinen Abenteuern.\n\nZwischendurch werden Akrobatikgruppen für S
	taunen im Puplikum sorgen und ihr\nkönnt Rettungshunde bei der Arbeit beob
	achten. Vielleicht findet ihr auch einen\nSchatz auf dem beliebten Flohmar
	kt.\n\nAm Abend werden wir gemeinsam vor der großen Bühne das Tanzbein sch
	wingen: Von\nChormusik über Rap\, Hip-Hop und Balkanbeats bis hin zu elekt
	ronischer Tanzmusik\nist für alle was dabei!\n\nWir freuen uns auf Euch!
URL:https://keepkarlsruheboring.org/event/fiesta-via-canale-strassenfest-im
	-kanalweg
GEO:49.0314;8.39296
LOCATION:MIKA - 44\, Kanalweg\, Amerikanersiedlung\, Nordstadt\, Karlsruhe\
	, Baden-Württemberg\, 76149\, Deutschland
STATUS:CONFIRMED
CATEGORIES:Flohmarkt,Gastronomie,Kids,Music,Party,Strßenfest
X-ALT-DESC;FMTTYPE=text/html:<p><em>soziokulturell, nachbarschaftlich, unko
	mmerziell</em></p><p>Am 28. Juni 2025 wird endlich wieder ein großes Straß
	enfest im Kanalweg gefeiert!</p><p>Diesmal haben sich das Kulturhaus MIKAD
	O, die MieterInneninitiative Karlsruhe (MiKa) und das Restaurant fünf zusa
	mmengetan.</p><p>Langjährige Gäste der Feste im Kanalweg werden so manches
	 wiedererkennen, aber für dieses Jahr sind auch einige neue Überraschungen
	 im Programm.</p><p>Die Autos werden von der Straße und den Parkplätzen ve
	rbannt, um Platz zu schaffen für die schönen Dinge im Leben. Ab 14 Uhr ver
	wandelt sich so die Straße im Wohnprojekt zu einem Wohlfühlort für Groß un
	d Klein. Freut euch auf <strong>Live-Musik, internationale Küche an mehrer
	en Essensständen, Kaffee und Kuchen, kühle Getränke und ein vielfältiges R
	ahmenprogramm</strong>.</p><p>Am Nachmittag könnt ihr Neues ausprobieren u
	nd euch austoben: <strong>auf Bäume klettern, Einrad fahren und gemeinsam 
	ein Kunstwerk auf die Straße malen</strong>. Auf der Wiese erzählt euch de
	r Bananenfuchs bei seiner interaktiven musikalischen Kindershow von seinen
	 Abenteuern.</p><p>Zwischendurch werden <strong>Akrobatikgruppen für Staun
	en im Puplikum sorgen</strong> und ihr könnt <strong>Rettungshunde bei der
	 Arbeit beobachten</strong>. Vielleicht findet ihr auch einen Schatz auf d
	em beliebten <strong>Flohmarkt</strong>.</p><p>Am Abend werden wir gemeins
	am vor der großen Bühne das Tanzbein schwingen: Von Chormusik über Rap, Hi
	p-Hop und Balkanbeats bis hin zu elektronischer Tanzmusik ist für alle was
	 dabei!</p><p>Wir freuen uns auf Euch!</p>
BEGIN:VALARM
ACTION:DISPLAY
DESCRIPTION:Fiesta Via Canale - Straßenfest im Kanalweg
TRIGGER:-PT1H
END:VALARM
END:VEVENT
END:VCALENDAR
