BEGIN:VCALENDAR
VERSION:2.0
CALSCALE:GREGORIAN
PRODID:adamgibbons/ics
METHOD:PUBLISH
X-PUBLISHED-TTL:PT1H
BEGIN:VEVENT
UID:735@keepkarlsruheboring.org
SUMMARY:Film: My Stolen Planet | Sayyareye dozdide shodeye man
DTSTAMP:20260423T090746Z
DTSTART:20260201T183000Z
DESCRIPTION:Wo Kultur Wurzeln schlägt\, wächst Stärke. Wo Stärke wächst\, g
	edeiht\nZusammenhalt. Zusammenhalt bringt Beständigkeit – und Kultur siegt
	 ewig.\n\nDer AWA Kulturverein der Iraner e. V. lädt alle Menschen\, die S
	olidarität mit\nder Situation im Iran zeigen\, zu einem Zusammenkommen in 
	der Kinemathek ein.\nGezeigt wird der Film My Stolen Planet.\n\n\n\nMy Sto
	len Planet erzählt in Tagebuchform von Farah\, einer Filmemacherin\, die\n
	1979\, nach der islamischen Revolution im Iran geboren wurde. In einer Sam
	mlung\nvon 8-mm-Filmen\, die sie von verschiedenen Menschen erworben hat\,
	 stellt sie\nMomente der Freude und des Widerstands zusammen und zeigt den
	 Kontrast zwischen\ninnerer Freiheit und äußerer Unterdrückung.\nIm Herbst
	 2022 wurde der „Frau – Leben – Freiheit“ Aufstand zu einem Wendepunkt\nim
	 Leben Farahs und vieler Iranerinnen und Iraner im In- und Ausland. Der Fi
	lm\nzeigt Momente des Friedens inmitten des Aufruhrs und beleuchtet die ko
	mplexen\nZusammenhänge zwischen persönlichem und politischem Leben im Iran
	.\nDer Film wurde im Panorama Dokumente der Berlinale 2024 gezeigt.\n\n\n\
	n«آنجا که فرهنگ ریشه می‌دواند، قدرت می‌روید.\n\nآنجا که قدرت می‌روید، همبس
	تگی شکوفا می‌شود.\n\nهمبستگی پایداری می‌آفریند — و فرهنگ برای همیشه پیروز 
	است.»\n\nانجمن فرهنگی «آوا»، با همکاری «کینماتک» و پخش فیلم مستند، از همه 
	علاقه‌مندان\nدعوت می‌کند تا در راستای همبستگی با مردم ایران در یک گردهمایی
	 ویژه در «کینماتک»\nشرکت کنند.\n\nدر این برنامه، فیلم مستند و تأثیرگذار «س
	یاره دزدیده شده من» به نمایش درخواهد\nآمد.\n\nOrt: Kinemathek Karlsruhe\n\
	nDatum: 01.02.2026\n\nUhrzeit: 19:30 Uhr\n\n
URL:https://keepkarlsruheboring.org/event/film-my-stolen-planet-or-sayyarey
	e-dozdide-shodeye-man
GEO:49.0105;8.39692
LOCATION:Kinemathek - 6\, Kaiserpassage\, Innenstadt-West Östlicher Teil\, 
	Innenstadt-West\, Karlsruhe\, Baden-Württemberg\, 76133\, Deutschland
STATUS:CONFIRMED
CATEGORIES:AWA Kulturverein der Iraner e. V.,Film,International Solidarity,
	Iran,Kinemathek
X-ALT-DESC;FMTTYPE=text/html:<p>Wo Kultur Wurzeln schlägt, wächst Stärke. W
	o Stärke wächst, gedeiht Zusammenhalt. Zusammenhalt bringt Beständigkeit –
	 und Kultur siegt ewig.</p><p>Der AWA Kulturverein der Iraner e. V. lädt a
	lle Menschen, die Solidarität mit der Situation im Iran zeigen, zu einem Z
	usammenkommen in der Kinemathek ein. Gezeigt wird der Film My Stolen Plane
	t.</p><p></p><p>My Stolen Planet erzählt in Tagebuchform von Farah, einer 
	Filmemacherin, die 1979, nach der islamischen Revolution im Iran geboren w
	urde. In einer Sammlung von 8-mm-Filmen, die sie von verschiedenen Mensche
	n erworben hat, stellt sie Momente der Freude und des Widerstands zusammen
	 und zeigt den Kontrast zwischen innerer Freiheit und äußerer Unterdrückun
	g. <br>Im Herbst 2022 wurde der „Frau – Leben – Freiheit“ Aufstand zu eine
	m Wendepunkt im Leben Farahs und vieler Iranerinnen und Iraner im In- und 
	Ausland. Der Film zeigt Momente des Friedens inmitten des Aufruhrs und bel
	euchtet die komplexen Zusammenhänge zwischen persönlichem und politischem 
	Leben im Iran. <br>Der Film wurde im Panorama Dokumente der Berlinale 2024
	 gezeigt.</p><p></p><p>«آنجا که فرهنگ ریشه می‌دواند، قدرت می‌روید.</p><p>آ
	نجا که قدرت می‌روید، همبستگی شکوفا می‌شود.</p><p>همبستگی پایداری می‌آفریند
	 — و فرهنگ برای همیشه پیروز است.»</p><p>انجمن فرهنگی «آوا»، با همکاری «کین
	ماتک» و پخش فیلم مستند، از همه علاقه‌مندان دعوت می‌کند تا در راستای همبستگ
	ی با مردم ایران در یک گردهمایی ویژه در «کینماتک» شرکت کنند.</p><p>در این ب
	رنامه، فیلم مستند و تأثیرگذار «سیاره دزدیده شده من» به نمایش درخواهد آمد.<
	/p><p>Ort: Kinemathek Karlsruhe</p><p>Datum: 01.02.2026</p><p>Uhrzeit: 19:
	30 Uhr</p><p></p>
BEGIN:VALARM
ACTION:DISPLAY
DESCRIPTION:Film: My Stolen Planet | Sayyareye dozdide shodeye man
TRIGGER:-PT1H
END:VALARM
END:VEVENT
END:VCALENDAR
