BEGIN:VCALENDAR
VERSION:2.0
CALSCALE:GREGORIAN
PRODID:adamgibbons/ics
METHOD:PUBLISH
X-PUBLISHED-TTL:PT1H
BEGIN:VEVENT
UID:439@keepkarlsruheboring.org
SUMMARY:Find your Fall Friends🍂
DTSTAMP:20260423T102210Z
DTSTART:20251017T160000Z
DTEND:20251017T180000Z
DESCRIPTION:🫂 Am 17. Oktober stellen wir um 20 Uhr Freund*innenschaft in de
	n Mittelpunkt.\nWir möchten einen Raum eröffnen\, der zum Ankommen\, Begeg
	nen und Austauschen\neinlädt. Lasst uns näher zusammenrücken\, neue Freund
	*innen finden und gemeinsam\nder kalten Jahreszeit trotzen! 🌬️💞 Wir freuen 
	uns auf euch!\n\n🫂 On 17 October at 8 p.m.\, we will be focusing on friend
	ship. We want to open\nup a space that invites you to arrive\, meet and ex
	change ideas. Let's move\ncloser together\, find new friends and brave the
	 cold season together! 🌬️💞 We\nlook forward to seeing you! 💜
URL:https://keepkarlsruheboring.org/event/find-your-fall-friends
GEO:48.989;8.37185
LOCATION:Café Noir - 5\, Schauenburgstraße\, Bulach\, Beiertheim-Bulach\, K
	arlsruhe\, Baden-Württemberg\, 76135\, Deutschland
STATUS:CONFIRMED
CATEGORIES:Care,Weiche Kanten
X-ALT-DESC;FMTTYPE=text/html:<p>🫂 Am 17. Oktober stellen wir um 20 Uhr Freu
	nd*innenschaft in den Mittelpunkt. Wir möchten einen Raum eröffnen, der zu
	m Ankommen, Begegnen und Austauschen einlädt. Lasst uns näher zusammenrück
	en, neue Freund*innen finden und gemeinsam der kalten Jahreszeit trotzen! 
	🌬️💞 Wir freuen uns auf euch!</p><p>🫂 On 17 October at 8 p.m., we will be fo
	cusing on friendship. We want to open up a space that invites you to arriv
	e, meet and exchange ideas. Let's move closer together, find new friends a
	nd brave the cold season together! 🌬️💞 We look forward to seeing you! 💜 </p
	>
BEGIN:VALARM
ACTION:DISPLAY
DESCRIPTION:Find your Fall Friends🍂
TRIGGER:-PT1H
END:VALARM
END:VEVENT
END:VCALENDAR
