BEGIN:VCALENDAR
VERSION:2.0
CALSCALE:GREGORIAN
PRODID:adamgibbons/ics
METHOD:PUBLISH
X-PUBLISHED-TTL:PT1H
BEGIN:VEVENT
UID:359@keepkarlsruheboring.org
SUMMARY:Calisthenics [FLINTA* Only]
DTSTAMP:20260423T102209Z
DTSTART:20250920T090000Z
DTEND:20250920T113000Z
DESCRIPTION:🤸🏻Hast du Lust\, dich draußen zu bewegen? Wolltest du schon imme
	r mal einen\nKlimmzug lernen? Oder hast du dich bisher nicht getraut\, all
	eine im Calisthenics\nPark zu trainieren?\n➡️ Dann komm zum FLINTA* Calisth
	enics Workshop in die Südstadt!\nHier lernst du die Calisthenics-Grundlage
	n kennen und kannst gemeinsam in der\nGruppe üben.\n🧚🏼 Der Workshop richtet
	 sich an FLINTA*-Personen\, egal ob mit oder ohne\nErfahrungen.\n🎒Mitbring
	en müsst ihr nichts außer etwas zum Trinken und sportlich entspannter\nKle
	idung.\n⛈️ Im Falle von strömendem Regen findet der Workshop nicht statt (w
	ir geben\nBescheid).
URL:https://keepkarlsruheboring.org/event/flinta-calisthenics
LOCATION:Calisthenics-Anlage Südstadt - Rankestraße Karlsruhe
STATUS:CONFIRMED
CATEGORIES:Queerfeminismus,Safe Space,Sport
X-ALT-DESC;FMTTYPE=text/html:<p>🤸🏻Hast du Lust, dich draußen zu bewegen? Wol
	ltest du schon immer mal einen Klimmzug lernen? Oder hast du dich bisher n
	icht getraut, alleine im Calisthenics Park zu trainieren? <br>➡️ Dann komm 
	zum <strong>FLINTA* Calisthenics</strong> Workshop in die Südstadt! <br>Hi
	er lernst du die Calisthenics-Grundlagen kennen und kannst gemeinsam in de
	r Gruppe üben.<br>🧚🏼 Der Workshop richtet sich an FLINTA*-Personen, egal ob
	 mit oder ohne Erfahrungen. <br>🎒Mitbringen müsst ihr nichts außer etwas z
	um Trinken und sportlich entspannter Kleidung. <br>⛈️ Im Falle von strömend
	em Regen findet der Workshop nicht statt (wir geben Bescheid).</p>
BEGIN:VALARM
ACTION:DISPLAY
DESCRIPTION:Calisthenics [FLINTA* Only]
TRIGGER:-PT1H
END:VALARM
END:VEVENT
END:VCALENDAR
