BEGIN:VCALENDAR
VERSION:2.0
CALSCALE:GREGORIAN
PRODID:adamgibbons/ics
METHOD:PUBLISH
X-PUBLISHED-TTL:PT1H
BEGIN:VEVENT
UID:373@keepkarlsruheboring.org
SUMMARY:Flohmarkt
DTSTAMP:20260423T101919Z
DTSTART:20250927T080000Z
DTEND:20250927T120000Z
DESCRIPTION:Großer Flohmarkt am 27. September! 🧺✨\n\n10-14 Uhr\n\nIhr wollt
	 mitmachen? Kein Problem!\n\n👉 Schreibt mir einfach eine Nachricht und mel
	det euren Stand an.\n\n📣 Macht gerne ein bisschen Werbung – auf Instagram 
	oder bei euren Freund*innen\n– denn jeder kann mitmachen!\n\n✨Anmeldung: g
	erne über Telegramm @Lxllly Oder Instagram @zwischengebaude\nTelegram http
	s://t.me/akazwischenraum [https://t.me/akazwischenraum]\n\n🕙 Flohmarktzeit
	: 10–14 Uhr\n\n🛠️ Aufbau: ab 9 Uhr\n\n🧹 Wichtig: Bitte nehmt danach alles w
	ieder mit\, was ihr mitgebracht habt –\ndamit unser Garten sauber bleibt.\
	n\n💸 Die (optionalen) 5 € Standgebühr spenden wir an eine Initiative\, die
	 sich\ngegen die Bezahlkarte in Karlsruhe einsetzt.\n\n👉 Link zur Organisa
	tion: Nein zur Bezahlkarte Karte.\nhttps://nein-zur-bezahlkarte-karlsruhe.
	de/blog/23a60b2f-59a0-8086-be97-e1873cf38154/\n[https://nein-zur-bezahlkar
	te-karlsruhe.de/blog/23a60b2f-59a0-8086-be97-e1873cf38154/]\nKommt vorbei 
	– ob zum Stöbern oder Verkaufen! 🪴🌞
URL:https://keepkarlsruheboring.org/event/flohmarkt
GEO:49.013;8.38736
LOCATION:Staatliche Akademie der Bildenden Künste Karlsruhe - 67\, Reinhold
	-Frank-Straße\, Innenstadt-West Westlicher Teil\, Innenstadt-West\, Karlsr
	uhe\, Baden-Württemberg\, 76133\, Deutschland
STATUS:CONFIRMED
CATEGORIES:Flohmarkt,Nein zur Bezahlkarte Karte
X-ALT-DESC;FMTTYPE=text/html:<p>Großer Flohmarkt am 27. September! 🧺✨ </p><
	p>10-14 Uhr </p><p>Ihr wollt mitmachen? Kein Problem!</p><p>👉 Schreibt mir
	 einfach eine Nachricht und meldet euren Stand an.</p><p>📣 Macht gerne ein
	 bisschen Werbung – auf Instagram oder bei euren Freund*innen – denn jeder
	 kann mitmachen! </p><p>✨Anmeldung: gerne über Telegramm @Lxllly Oder Inst
	agram @zwischengebaude Telegram <a href="https://t.me/akazwischenraum" tar
	get="_blank">https://t.me/akazwischenraum</a> </p><p>🕙 Flohmarktzeit: 10–1
	4 Uhr </p><p>🛠️ Aufbau: ab 9 Uhr </p><p>🧹 Wichtig: Bitte nehmt danach alles
	 wieder mit, was ihr mitgebracht habt – damit unser Garten sauber bleibt. 
	</p><p>💸 Die (optionalen) 5 € Standgebühr spenden wir an eine Initiative, 
	die sich gegen die Bezahlkarte in Karlsruhe einsetzt. </p><p>👉 Link zur Or
	ganisation: Nein zur Bezahlkarte Karte. <a href="https://nein-zur-bezahlka
	rte-karlsruhe.de/blog/23a60b2f-59a0-8086-be97-e1873cf38154/" target="_blan
	k">https://nein-zur-bezahlkarte-karlsruhe.de/blog/23a60b2f-59a0-8086-be97-
	e1873cf38154/</a> Kommt vorbei – ob zum Stöbern oder Verkaufen! 🪴🌞</p>
BEGIN:VALARM
ACTION:DISPLAY
DESCRIPTION:Flohmarkt
TRIGGER:-PT1H
END:VALARM
END:VEVENT
END:VCALENDAR
