BEGIN:VCALENDAR
VERSION:2.0
CALSCALE:GREGORIAN
PRODID:adamgibbons/ics
METHOD:PUBLISH
X-PUBLISHED-TTL:PT1H
BEGIN:VEVENT
UID:77@keepkarlsruheboring.org
SUMMARY:Fluid Frequencies (CSD Afterparty mit Tinitus) [10 €]
DTSTAMP:20260423T090118Z
DTSTART:20250607T180000Z
DTEND:20250608T030000Z
DESCRIPTION:Fluid Frequencies³: Konzert & Rave zum CSD Karlsruhe\n\nAm 7. J
	uni muss Karlsruhe hinschauen und zuhören\, denn der @csdkarlsruhe rollt\n
	durch die Straßen der Stadt! Doch nach der Demo ist noch längst nicht Schl
	uss\,\ndenn die P8² hostet in Kooperation mit dem Tinitus-Kollektiv wieder
	\, diesmal als\nTeil des CSD-Rahmenprogramms\, eine Afterparty: „Fluid Fre
	quencies“.\n\nVielfalt ist Programm: Von 20 – 5 Uhr bieten wir ein buntes 
	Programm\, bei dem\nfür alle etwas dabei sein wird. Los gehts um 20 Uhr im
	 legendären Rave-Bus und\nparallel auf der kleinen Bühne. Von 22-24 Uhr er
	wartet euch dann ein\nindie-rockiges und industrialgoth-poppiges Band-Inte
	rmezzo. Danach geht es mit\nvoller Fahrt im Boiler-Setup weiter bis um 5 U
	hr.\n\nDazu warten noch weitere Specials (tba) und für das leibliche Wohl 
	wird\nebenfalls gesorgt sein. Sichert euch für nur 10€ ein Ticket im Vvk.\
	n\nWir freuen uns schon euch alle zu sehen!
URL:https://keepkarlsruheboring.org/event/fluid-frequencies-csd-afterparty-
	mit-tinitus
GEO:48.989;8.37185
LOCATION:P8 - Schauenburgstraße 5\, 76135 Karlsruhe
STATUS:CONFIRMED
CATEGORIES:Party,Queer,Ticket
X-ALT-DESC;FMTTYPE=text/html:<p>Fluid Frequencies³: Konzert &amp; Rave zum 
	CSD Karlsruhe</p><p>Am 7. Juni muss Karlsruhe hinschauen und zuhören, denn
	 der @csdkarlsruhe rollt durch die Straßen der Stadt! Doch nach der Demo i
	st noch längst nicht Schluss, denn die P8² hostet in Kooperation mit dem T
	initus-Kollektiv wieder, diesmal als Teil des CSD-Rahmenprogramms, eine Af
	terparty: „Fluid Frequencies“.</p><p>Vielfalt ist Programm: Von 20 – 5 Uhr
	 bieten wir ein buntes Programm, bei dem für alle etwas dabei sein wird. L
	os gehts um 20 Uhr im legendären Rave-Bus und parallel auf der kleinen Büh
	ne. Von 22-24 Uhr erwartet euch dann ein indie-rockiges und industrialgoth
	-poppiges Band-Intermezzo. Danach geht es mit voller Fahrt im Boiler-Setup
	 weiter bis um 5 Uhr.</p><p>Dazu warten noch weitere Specials (tba) und fü
	r das leibliche Wohl wird ebenfalls gesorgt sein. Sichert euch für nur 10€
	 ein Ticket im Vvk.</p><p>Wir freuen uns schon euch alle zu sehen!</p>
BEGIN:VALARM
ACTION:DISPLAY
DESCRIPTION:Fluid Frequencies (CSD Afterparty mit Tinitus) [10 €]
TRIGGER:-PT1H
END:VALARM
END:VEVENT
END:VCALENDAR
