BEGIN:VCALENDAR
VERSION:2.0
CALSCALE:GREGORIAN
PRODID:adamgibbons/ics
METHOD:PUBLISH
X-PUBLISHED-TTL:PT1H
BEGIN:VEVENT
UID:153@keepkarlsruheboring.org
SUMMARY:Freiheit für Palästina | Stop den Genozid
DTSTAMP:20260423T090648Z
DTSTART:20250809T120000Z
DESCRIPTION:FREIHEIT FÜR PALESTINA STOPPT DEN GENOZID!\n\n\n\nSchluss mit d
	em Morden durch Beschuss und Hunger in Gaza! Kommt zur\nDemonstration am 9
	. August um 14:00 Uhr auf dem Freidrichplatz Karlsruhe!\n\nFast 60.000 Men
	schen wurden allein im Gazastreifen durch israelische Waffen\ngetötet\, da
	runter 20.000 Kinder — und das sind nur die namentlich bekannten.\nDazu ko
	mmt noch eine Dunkelziffer an Toten durch mangelnde Ernahrung und\nmedizin
	ische Versorgung. Schatzungen gehen dabei von etwa 200.000 Toten aus\, 80%
	\ndavon Zivilist:innen.\n\nSchon lange sprechen israelische Machthaber off
	en von ihrem Ziel der ethnischen\nSäuberung Gazas. Große Teile Gazas wurde
	n bereits dem Erdboden gleich gemacht.\nFür fast 90% der Fläche gibt es ei
	nen Evakuierungsbefehl seitens der\nisraelischen Armee.\n\nDie Vertriebene
	n verhungern und werden immer wieder an den viel zu wenigen\nEssensausgabe
	n erschossen. Stand 28. Juli sind 147 Menschen in Gaza an\nMangelernährung
	 gestorben\, 88 davon Kinder. Das Sterben an Hunger beschleunigt\nsich. Au
	ch fiir viele Menschen die noch leben\, wäre jede Hilfe die jetzt\nzugelas
	sen würde schon zu spät.\n\nIn den israelischen Verteilungszentren in Gaza
	\, die fälschlicherweise als\n“Humanitare Stadt” bezeichnet werden\, werde
	n bereits 600.000 Palästinenser:innen\nkonzentriert\, um sie besser kontro
	llieren\, teilweise ermorden und schließlich\naus Gaza vertreiben zu könne
	n.\n\nIn all dem stehen der deutsche Staat und die deutsche Wirtschaft fes
	t hinter den\nVölkermördern und machen sich mitschuldig. 30% der Waffenimp
	orte Israels stammen\naus Deutschland. Ohne die deutsche Unterstützung wär
	e der Genozid nicht möglich.\n\nUnterdessen wird die Solidarität mit Paläs
	tina in Deutschland kriminalisiert und\nverunglimpft. Besonders als migran
	tisch wahrgenommene Menschen und Menschen\nmuslimischen Glaubens werden un
	ter Generalverdacht gestellt und eingeschüchtert.\n\nAber wir dürfen uns n
	icht einschüchtern lassen. Wir können und dürfen diesem\nUnrecht nicht sch
	weigend zusehen. Wir stehen damit nicht allein. In der ganzen\nWelt solida
	risieren sich Millionen Menschen mit Palästina.\n\nÖFFNUNG DER GRENZEN FÜR
	 HILFSLIEFERUNGEN!\nSTOPP DER WAFFENLIEFERUNGEN AN ISRAEL!\nSCHLUSS MIT DE
	N REPRESSIONEN!\nFREIHEIT FÜR PALÄSTINA!\nSTOPPT DEN GENOZID!\n\n\n\n\nÜBE
	R DIE AUFRUFENDEN:\n\n\n\nWir kommen aus unterschiedlichen Bereichen der K
	arlsruher Stadtgesellschaft. Als\nAufrufende sind wir Teil muslimischer Gl
	aubensgemeinschaften\,\nPalästinenser:innen\, außerparlamentarische Linke 
	und Studierende. Wir sind\nGruppen\, NGOs und Einzelpersonen.\n\nUns eint 
	die Notwendigkeit\, etwas gegen das unbeschreibliche Leid der\nPalästinens
	er:innen und die deutsche Mittäterschaft zu tun. Rassismus\,\nAntisemitism
	us und andere Diskriminierungsformen haben auf unserer Veranstaltung\nkein
	en Platz.
URL:https://keepkarlsruheboring.org/event/freiheit-fur-palastina-or-stop-de
	n-genozid
GEO:49.0079;8.40076
LOCATION:Friedrichsplatz - Innenstadt-West\, Karlsruhe\, Baden-Württemberg\
	, 76133\, Deutschland
STATUS:CONFIRMED
CATEGORIES:Demonstration,International Solidarity,Politics
X-ALT-DESC;FMTTYPE=text/html:<h1>FREIHEIT FÜR PALESTINA STOPPT DEN GENOZID!
	</h1><p></p><p><strong>Schluss mit dem Morden durch Beschuss und Hunger in
	 Gaza! Kommt zur Demonstration am 9. August um 14:00 Uhr auf dem Freidrich
	platz Karlsruhe!</strong></p><p>Fast 60.000 Menschen wurden allein im Gaza
	streifen durch israelische Waffen getötet, darunter 20.000 Kinder — und da
	s sind nur die namentlich bekannten. Dazu kommt noch eine Dunkelziffer an 
	Toten durch mangelnde Ernahrung und medizinische Versorgung. Schatzungen g
	ehen dabei von etwa 200.000 Toten aus, 80% davon Zivilist:innen.</p><p>Sch
	on lange sprechen israelische Machthaber offen von ihrem Ziel der ethnisch
	en Säuberung Gazas. Große Teile Gazas wurden bereits dem Erdboden gleich g
	emacht. Für fast 90% der Fläche gibt es einen Evakuierungsbefehl seitens d
	er israelischen Armee.</p><p>Die Vertriebenen verhungern und werden immer 
	wieder an den viel zu wenigen Essensausgaben erschossen. Stand 28. Juli si
	nd 147 Menschen in Gaza an Mangelernährung gestorben, 88 davon Kinder. Das
	 Sterben an Hunger beschleunigt sich. Auch fiir viele Menschen die noch le
	ben, wäre jede Hilfe die jetzt zugelassen würde schon zu spät.</p><p>In de
	n israelischen Verteilungszentren in Gaza, die fälschlicherweise als “Huma
	nitare Stadt” bezeichnet werden, werden bereits 600.000 Palästinenser:inne
	n konzentriert, um sie besser kontrollieren, teilweise ermorden und schlie
	ßlich aus Gaza vertreiben zu können.</p><p>In all dem stehen der deutsche 
	Staat und die deutsche Wirtschaft fest hinter den Völkermördern und machen
	 sich mitschuldig. 30% der Waffenimporte Israels stammen aus Deutschland. 
	Ohne die deutsche Unterstützung wäre der Genozid nicht möglich.</p><p>Unte
	rdessen wird die Solidarität mit Palästina in Deutschland kriminalisiert u
	nd verunglimpft. Besonders als migrantisch wahrgenommene Menschen und Mens
	chen muslimischen Glaubens werden unter Generalverdacht gestellt und einge
	schüchtert.</p><p>Aber wir dürfen uns nicht einschüchtern lassen. Wir könn
	en und dürfen diesem Unrecht nicht schweigend zusehen. Wir stehen damit ni
	cht allein. In der ganzen Welt solidarisieren sich Millionen Menschen mit 
	Palästina.</p><p><strong>ÖFFNUNG DER GRENZEN FÜR HILFSLIEFERUNGEN!<br>STOP
	P DER WAFFENLIEFERUNGEN AN ISRAEL!<br>SCHLUSS MIT DEN REPRESSIONEN!<br>FRE
	IHEIT FÜR PALÄSTINA!<br>STOPPT DEN GENOZID!</strong></p><p></p><h2>Über di
	e Aufrufenden:</h2><p></p><p>Wir kommen aus unterschiedlichen Bereichen de
	r Karlsruher Stadtgesellschaft. Als Aufrufende sind wir Teil muslimischer 
	Glaubensgemeinschaften, Palästinenser:innen, außerparlamentarische Linke u
	nd Studierende. Wir sind Gruppen, NGOs und Einzelpersonen.</p><p>Uns eint 
	die Notwendigkeit, etwas gegen das unbeschreibliche Leid der Palästinenser
	:innen und die deutsche Mittäterschaft zu tun. Rassismus, Antisemitismus u
	nd andere Diskriminierungsformen haben auf unserer Veranstaltung keinen Pl
	atz.</p>
BEGIN:VALARM
ACTION:DISPLAY
DESCRIPTION:Freiheit für Palästina | Stop den Genozid
TRIGGER:-PT1H
END:VALARM
END:VEVENT
END:VCALENDAR
