BEGIN:VCALENDAR
VERSION:2.0
CALSCALE:GREGORIAN
PRODID:adamgibbons/ics
METHOD:PUBLISH
X-PUBLISHED-TTL:PT1H
BEGIN:VEVENT
UID:1078@keepkarlsruheboring.org
SUMMARY:Freundschaftslieder - Sinem und Nikos singen von beiden Ufern der Ä
	gäis
DTSTAMP:20260423T105012Z
DTSTART:20260426T170000Z
DESCRIPTION:Sinem Garnateo Weber aus Stuttgart und Nikos Hatziliadis aus Tü
	bingen stehen an\nden Ufern der Ägäis und vereinen ihre Stimmen in einer b
	ewegenden musikalischen\nZusammenarbeit. Die Ägäis\, als gemeinsames Meer 
	zwischen Türken und Griechen\,\ndient als Symbol für ihre kulturelle Verbu
	ndenheit und gemeinsame Geschichte.\n\nDie Musik hat schon immer als Brück
	enbauer zwischen den Nationen gedient\, trotz\npolitischer Spannungen und 
	historischer Konflikte. Über Jahrhunderte hinweg\nhaben sich die kulturell
	en Wurzeln beider Völker in der Musik vereint. Die\nRembetiko-Musik\, ein 
	Beispiel für diese gemeinsame Tradition\, das durch Musiker\nvor allem aus
	 Izmir und Istanbul in den 1920er Jahren in den Häfen und\nArbeiterviertel
	n von Athen entstand spiegelte die universellen Gefühle von\nLiebe\, Verlu
	st und Migration wider. Heute finden sich Einflüsse aus der\ntürkischen un
	d griechischen Musik auch in der modernen Popmusik wieder. \n\nSinem Garna
	teo Weber und Nikos Hatziliadis\, begleitet von dem Bassisten Nikos\nKonst
	antinidis und dem Gitarristen Enis Akmut\, setzen diese Tradition fort und
	\nzeigen\, dass kulturelle Verbundenheit stärker ist als politische Differ
	enzen.\n\nDie gemeinsame Musik von Sinem und Nikos ist ein Aufruf zur Vers
	öhnung und zur\nFeier der menschlichen Erfahrung. Ihre Lieder bringen Mens
	chen unterschiedlicher\nHerkunft zusammen\, um gemeinsam zu feiern\, zu tr
	auern und die Harmonie zwischen\nden Kulturen zu zelebrieren.\n\nhttps://f
	reundschaftslieder.de/ [https://freundschaftslieder.de/]
URL:https://keepkarlsruheboring.org/event/freundschaftslieder-sinem-und-nik
	os-singen-von-beiden-ufern-der-agais
GEO:49.0135;8.35882
LOCATION:Kulturzentrum Tempel - Kulturverein Tempel e.V. im Kulturzentrum T
	empel Hardtstraße 37 A D-76185 Karlsruhe
STATUS:CONFIRMED
CATEGORIES:
X-ALT-DESC;FMTTYPE=text/html:<p>Sinem Garnateo Weber aus Stuttgart und Niko
	s Hatziliadis aus Tübingen stehen an den Ufern der Ägäis und vereinen ihre
	 Stimmen in einer bewegenden musikalischen Zusammenarbeit. Die Ägäis, als 
	gemeinsames Meer zwischen Türken und Griechen, dient als Symbol für ihre k
	ulturelle Verbundenheit und gemeinsame Geschichte.</p><p>Die Musik hat sch
	on immer als Brückenbauer zwischen den Nationen gedient, trotz politischer
	 Spannungen und historischer Konflikte. Über Jahrhunderte hinweg haben sic
	h die kulturellen Wurzeln beider Völker in der Musik vereint. Die Rembetik
	o-Musik, ein Beispiel für diese gemeinsame Tradition, das durch Musiker vo
	r allem aus Izmir und Istanbul in den 1920er Jahren in den Häfen und Arbei
	tervierteln von Athen entstand spiegelte die universellen Gefühle von Lieb
	e, Verlust und Migration wider. Heute finden sich Einflüsse aus der türkis
	chen und griechischen Musik auch in der modernen Popmusik wieder.&nbsp;</p
	><p>Sinem Garnateo Weber und Nikos Hatziliadis, begleitet von dem Bassiste
	n Nikos Konstantinidis und dem Gitarristen Enis Akmut, setzen diese Tradit
	ion fort und zeigen, dass kulturelle Verbundenheit stärker ist als politis
	che Differenzen.</p><p>Die gemeinsame Musik von Sinem und Nikos ist ein Au
	fruf zur Versöhnung und zur Feier der menschlichen Erfahrung. Ihre Lieder 
	bringen Menschen unterschiedlicher Herkunft zusammen, um gemeinsam zu feie
	rn, zu trauern und die Harmonie zwischen den Kulturen zu zelebrieren.</p><
	p><a href="https://freundschaftslieder.de/" target="_blank">https://freund
	schaftslieder.de/</a></p>
BEGIN:VALARM
ACTION:DISPLAY
DESCRIPTION:Freundschaftslieder - Sinem und Nikos singen von beiden Ufern d
	er Ägäis
TRIGGER:-PT1H
END:VALARM
END:VEVENT
END:VCALENDAR
