BEGIN:VCALENDAR
VERSION:2.0
CALSCALE:GREGORIAN
PRODID:adamgibbons/ics
METHOD:PUBLISH
X-PUBLISHED-TTL:PT1H
BEGIN:VEVENT
UID:984@keepkarlsruheboring.org
SUMMARY:From Doom to Hallucinations: Why Graphics Processors are (Ab)Used O
	utside of Games
DTSTAMP:20260423T104857Z
DTSTART:20260214T190000Z
DTEND:20260214T200000Z
DESCRIPTION:Was als simpler 2D-Beschleuniger für Schriften und Sidescroller
	 begann\, sind\nheute Monsterchips mit mehreren Milliarden Transistoren un
	d genereller\nProgrammierbarkeit geworden. Aber wie kam es eigentlich dazu
	? Und warum werden\nGrafikkarten heute überall und nicht nur in Videospiel
	en eingesetzt\, und wie\nverändern die neuen Einsatzgebiete die Hardwarear
	chitektur von GPUs.\n\nMehr über unser Open-Sessions Format findet ihr hie
	r:\nhttps://entropia.de/Open_Sessions [https://entropia.de/Open_Sessions]
URL:https://keepkarlsruheboring.org/event/from-doom-to-hallucinations-why-g
	raphics-processors-are-abused-outside-of-games
GEO:49.0063;8.40722
LOCATION:Entropia - Gewerbehof Steinstraße 23 76133 Karlsruhe
STATUS:CONFIRMED
CATEGORIES:Hacker,Technology
X-ALT-DESC;FMTTYPE=text/html:<p>Was als simpler 2D-Beschleuniger für Schrif
	ten und Sidescroller begann, sind heute Monsterchips mit mehreren Milliard
	en Transistoren und genereller Programmierbarkeit geworden. Aber wie kam e
	s eigentlich dazu? Und warum werden Grafikkarten heute überall und nicht n
	ur in Videospielen eingesetzt, und wie verändern die neuen Einsatzgebiete 
	die Hardwarearchitektur von GPUs.</p><p>Mehr über unser Open-Sessions Form
	at findet ihr hier: <a href="https://entropia.de/Open_Sessions" target="_b
	lank"><u>https://entropia.de/Open_Sessions</u></a></p>
BEGIN:VALARM
ACTION:DISPLAY
DESCRIPTION:From Doom to Hallucinations: Why Graphics Processors are (Ab)Us
	ed Outside of Games
TRIGGER:-PT1H
END:VALARM
END:VEVENT
END:VCALENDAR
