BEGIN:VCALENDAR
VERSION:2.0
CALSCALE:GREGORIAN
PRODID:adamgibbons/ics
METHOD:PUBLISH
X-PUBLISHED-TTL:PT1H
BEGIN:VEVENT
UID:437@keepkarlsruheboring.org
SUMMARY:Fusion: Forum für Kunst und Wissenschaft - #1 Nachklang und Auftakt
DTSTAMP:20260423T104918Z
DTSTART:20251015T180000Z
DTEND:20251015T193000Z
DESCRIPTION:Fusion: Forum für Kunst und Wissenschaft - #1 Nachklang und Auf
	takt\n\nMittwoch 15.10.2025\, 20–21:30 Uhr\n\nßpace\, Fritz-Erler-Str. 7\,
	 Karlsruhe\n\n\n\nIm Februar 2025 haben Studierende und Lehrende der Staat
	lichen Akademie der\nBildenden Künste Karlsruhe sowie des IMWI | Institut 
	für Musikinformatik und\nMusikwissenschaft der Hochschule für Musik Karlsr
	uhe einen Rundgang am CERN\n(Europäische Organisation für Kernforschung\, 
	Large Hadron Collider) unternommen.\nDabei entstanden Eindrücke von wissen
	schaftlichen Experimenten\,\narchitektonischen und akustischen Räumen sowi
	e von sozial-kulturellen\nSpannungsfeldern – manchmal als „Kulturclash“ sp
	ürbar – zwischen Kunst\,\nWissenschaft und Innovationskultur.\n\nIm Anschl
	uss an diese Reise startet die Gruppe ein kleines Forum für Austausch\,\nI
	nput und neue Projektideen. Geplant sind Screening- und Listening-Sessions
	\,\nLesungen und Diskussionsrunden. Beim ersten Treffen wird Dr. Fabian Go
	ppelsröder\nEinblicke in sein Projekt „Ideologie des Feedback“ geben. Ansc
	hließend folgt\neine kurze Listening-Session mit Fieldrecordings vom CERN 
	sowie Hörstücken\, die\nwährend der Reise von Studierenden der Musikinform
	atik erstellt wurden. \n\nAlle Interessierten sind herzlich eingeladen.\n\
	n\n[en]\n\nAfter the visit to CERN (European Organization for Nuclear Rese
	arch) in February\n2025\, students and faculty from the State Academy of F
	ine Arts Karlsruhe and the\nIMWI | Institute for Music Informatics and Mus
	icology at the University of Music\nKarlsruhe initiated a new dialogue spa
	ce between art and science. Inspired by\nimpressions of scientific experim
	ents\, architectural and acoustic environments\,\nand socio-cultural dynam
	ics – at times felt as a “culture clash” – the group\nlaunches a forum for
	 exchange\, inspiration\, and collaborative projects.\n\nThe first session
	 features Dr. Fabian Goppelsröder\, presenting insights from his\nproject 
	“Ideology of Feedback”\, followed by a listening session with field\nrecor
	dings and sound pieces made by students of Music Informatics during the\nv
	isit.\n\nAll interested are warmly invited to join.
URL:https://keepkarlsruheboring.org/event/fusion-forum-fur-kunst-und-wissen
	schaft-1-nachklang-und-auftakt
GEO:49.0084;8.41046
LOCATION:ßpace - Fritz-Erler-Straße 7\, 76133 Karlsruhe
STATUS:CONFIRMED
CATEGORIES:Art,Discussion,Music,Science
X-ALT-DESC;FMTTYPE=text/html:<p><strong>Fusion: Forum für Kunst und Wissens
	chaft - #1 Nachklang und Auftakt</strong></p><p>Mittwoch 15.10.2025, 20–21
	:30 Uhr</p><p>ßpace, Fritz-Erler-Str. 7, Karlsruhe</p><p></p><p>Im Februar
	 2025 haben Studierende und Lehrende der Staatlichen Akademie der Bildende
	n Künste Karlsruhe sowie des IMWI | Institut für Musikinformatik und Musik
	wissenschaft der Hochschule für Musik Karlsruhe einen Rundgang am CERN (Eu
	ropäische Organisation für Kernforschung, Large Hadron Collider) unternomm
	en. Dabei entstanden Eindrücke von wissenschaftlichen Experimenten, archit
	ektonischen und akustischen Räumen sowie von sozial-kulturellen Spannungsf
	eldern – manchmal als „Kulturclash“ spürbar – zwischen Kunst, Wissenschaft
	 und Innovationskultur.</p><p>Im Anschluss an diese Reise startet die Grup
	pe ein kleines Forum für Austausch, Input und neue Projektideen. Geplant s
	ind Screening- und Listening-Sessions, Lesungen und Diskussionsrunden. Bei
	m ersten Treffen wird Dr. Fabian Goppelsröder Einblicke in sein Projekt „I
	deologie des Feedback“ geben. Anschließend folgt eine kurze Listening-Sess
	ion mit Fieldrecordings vom CERN sowie Hörstücken, die während der Reise v
	on Studierenden der Musikinformatik erstellt wurden.&nbsp;</p><p>Alle Inte
	ressierten sind herzlich eingeladen.<br><br><br>[en]</p><p>After the visit
	 to CERN (European Organization for Nuclear Research) in February 2025, st
	udents and faculty from the State Academy of Fine Arts Karlsruhe and the I
	MWI | Institute for Music Informatics and Musicology at the University of 
	Music Karlsruhe initiated a new dialogue space between art and science. In
	spired by impressions of scientific experiments, architectural and acousti
	c environments, and socio-cultural dynamics – at times felt as a “culture 
	clash” – the group launches a forum for exchange, inspiration, and collabo
	rative projects.</p><p>The first session features Dr. Fabian Goppelsröder,
	 presenting insights from his project “Ideology of Feedback”, followed by 
	a listening session with field recordings and sound pieces made by student
	s of Music Informatics during the visit.</p><p>All interested are warmly i
	nvited to join.</p>
BEGIN:VALARM
ACTION:DISPLAY
DESCRIPTION:Fusion: Forum für Kunst und Wissenschaft - #1 Nachklang und Auf
	takt
TRIGGER:-PT1H
END:VALARM
END:VEVENT
END:VCALENDAR
