BEGIN:VCALENDAR
VERSION:2.0
CALSCALE:GREGORIAN
PRODID:adamgibbons/ics
METHOD:PUBLISH
X-PUBLISHED-TTL:PT1H
BEGIN:VEVENT
UID:84@keepkarlsruheboring.org
SUMMARY:Gaza-Mahnwache: Vertreibung und Hungersnot stoppen
DTSTAMP:20260423T104913Z
DTSTART:20250602T170000Z
DESCRIPTION:In Gaza sterben täglich Menschen. Die israelische Armee zerstör
	t gezielt\nWohnhäuser\, Krankenhäuser\, Schulen\, Flüchtlingslager. Millio
	nen wurden\nvertrieben\, die Versorgung mit Wasser\, Lebensmitteln und Med
	ikamenten ist\nzusammengebrochen. Das ist kein „Versehen“\, das ist system
	atische Vernichtung.\n\nUN-Gremien und Menschenrechtsorganisationen sprech
	en längst von Völkermord. Die\nBundesregierung schweigt – oder liefert wei
	ter Waffen.\n\nWir sagen: Nicht in unserem Namen!\n\nKommt am Montag\, 2. 
	Juni\, um 19 Uhr zur Mahnwache auf dem Marktplatz Karlsruhe.\n\nWir trauer
	n um die Ermordeten und fordern:\n– ein Ende der Bombardierungen\n– ein En
	de der Blockade\n– ein Ende der Waffenexporte\n– Gerechtigkeit und Selbstb
	estimmung für Palästina.\nSchweigen heißt Mittragen.\nAuch die deutsche Li
	nke hat viel zu lange geschwiegen. Wir müssen endlich das\nSchweigen brech
	en und ins Handeln kommen.\nMenschenrechte sind nicht verhandelbar!\n\nDie
	 Mahnwache wird durchgeführt von Die Linke\, IL Karlsruhe\, Krankenhaus st
	att\nFabrik\, linksjugend ['solid]\, Seebrücke
URL:https://keepkarlsruheboring.org/event/gaza-mahnwache-vertreibung-und-hu
	ngersnot-stoppen
GEO:49.0089;8.40388
LOCATION:Marktplatz - Innenstadt-Ost\, Karlsruhe\, Baden-Württemberg\, 7613
	3\, Deutschland
STATUS:CONFIRMED
CATEGORIES:Demonstration,Gaza,Politics
X-ALT-DESC;FMTTYPE=text/html:<p>In Gaza sterben täglich Menschen. Die israe
	lische Armee zerstört gezielt Wohnhäuser, Krankenhäuser, Schulen, Flüchtli
	ngslager. Millionen wurden vertrieben, die Versorgung mit Wasser, Lebensmi
	tteln und Medikamenten ist zusammengebrochen. Das ist kein „Versehen“, das
	 ist systematische Vernichtung.</p><p>UN-Gremien und Menschenrechtsorganis
	ationen sprechen längst von Völkermord. Die Bundesregierung schweigt – ode
	r liefert weiter Waffen.</p><p>Wir sagen: Nicht in unserem Namen!<br><br><
	strong>Kommt am Montag, 2. Juni, um 19 Uhr zur Mahnwache auf dem Marktplat
	z Karlsruhe.</strong></p><p>Wir trauern um die Ermordeten und fordern:<br>
	– ein Ende der Bombardierungen<br>– ein Ende der Blockade<br>– ein Ende de
	r Waffenexporte<br>– Gerechtigkeit und Selbstbestimmung für Palästina.<br>
	Schweigen heißt Mittragen.<br>Auch die deutsche Linke hat viel zu lange ge
	schwiegen. Wir müssen endlich das Schweigen brechen und ins Handeln kommen
	.<br>Menschenrechte sind nicht verhandelbar!</p><p>Die Mahnwache wird durc
	hgeführt von Die Linke, IL Karlsruhe, Krankenhaus statt Fabrik, linksjugen
	d ['solid], Seebrücke</p>
BEGIN:VALARM
ACTION:DISPLAY
DESCRIPTION:Gaza-Mahnwache: Vertreibung und Hungersnot stoppen
TRIGGER:-PT1H
END:VALARM
END:VEVENT
END:VCALENDAR
