BEGIN:VCALENDAR
VERSION:2.0
CALSCALE:GREGORIAN
PRODID:adamgibbons/ics
METHOD:PUBLISH
X-PUBLISHED-TTL:PT1H
BEGIN:VEVENT
UID:805@keepkarlsruheboring.org
SUMMARY:Geburtsvorbereitungswochenende für queers* [160 €]
DTSTAMP:20260423T102543Z
DTSTART:20260221T090000Z
DTEND:20260222T170000Z
DESCRIPTION:Am 05. und 06. Dezember findet im Queeren Zentrum Karlsruhe jew
	eils von 10 – 18\nUhr das nächste Geburtsvorbereitungswochenende für queer
	s* statt.\n\nDieses Kursangebot richtet sich explizit an werdende Eltern u
	nd schwangere\nPersonen und deren Begleitpersonen\, die sich als queer* bz
	w. Teil der\nLGBTQIA-Community verstehen.\n\nKURSINHALTE\n\nEs ist unser A
	nliegen\, einen Safe(r) Space für queere werdende Eltern zu\nschaffen\, in
	 dem wir uns außerhalb binärer und normativer Strukturen und\nVorstellunge
	n von Körpern\, Familie und Elternsein mit der Vorbereitung auf die\nGebur
	t eures Kindes beschäftigen können.\n\nDabei sind alle Inhalte eines klass
	ischen Geburtsvorbereitungskurses vertreten –\nwir besprechen die verschie
	denen Phasen einer Geburt und klären euch über\nmögliche Interventionen au
	f. Wir beschäftigen uns mit Atem- und\nEntspannungstechniken\, damit ihr g
	ut auf die Geburtsarbeit vorbereitet seid.\nVorbereitung auf das Wochenbet
	t und den Start ins Elternsein werden genauso\nThema sein\, wie die Ernähr
	ung eures Kindes und – falls du Stillen möchtest –\nalles Wichtige für ein
	en gelungenen Stillstart. Wir sind im Kontakt mit dem\nJugendamt Karlsruhe
	\, um auch einen Input zur Stiefkindadoption und zu\nrechtlichen Fragen ge
	ben zu können.\n\nDarüber hinaus bietet der Kurs eine Möglichkeit zur Vern
	etzung und zum Austausch\nmit anderen queeren Familien aus der Region. Uns
	er Ziel ist es\, euch zu empowern\nfür eine selbstbestimmte Geburt und euc
	h Wissen und Sicherheit für eure\naufregende Reise ins Elternsein mitzugeb
	en.\n\nVERANSTALTUNGSDETAILS\n\nDie Kurse finden 4 mal jährlich als Wochen
	endkurs in den Räumen von queerKAstle\nstatt. Dabei sind an beiden Tagen l
	ange Mittagspausen mit gemeinsamem Essen und\nRaum für ein Kennenlernen vo
	rgesehen.\n\nKOSTEN\n\nDu kannst sowohl als schwangere Einzelperson\, als 
	auch mit Partner*in(nen) oder\nBegleitperson teilnehmen. Die Kosten für di
	e schwangere Person werden von der\nKrankenversicherung übernommen. Die Ko
	sten je Begleitperson liegen bei rund 160\n€\, richten sich aber im Rahmen
	 einer Selbsteinschätzung nach euren finanziellen\nMöglichkeiten. Genaue d
	azu erfahrt ihr bei der Anmeldung. Kosten für eine\nBegleitperson können z
	um Teil von einigen Krankenkassen rückerstattet werden.\n\nDer Kurs findet
	 in deutscher Lautsprache statt und mit verschiedenen Medien\nergänzt. Der
	 Kurs beinhaltet verschiedene Körper- und Atemübungen. Alle\nKörperübungen
	 werden von der schwangeren Person nur mit einer eigenen\nBegleitperson(en
	) durchgeführt.\n\nDER KURS WIRD GELEITET VON:\n\n * Mari Lenn Pauli (kein
	e Pronomen) ist seit 2021 Hebamme und arbeitet in\n   verschiedenen Bereic
	hen mit diskriminierungs- und queersensiblen\n   Schwerpunkten. Aktuell is
	t Mari in Teilzeit angestellt im Kreißsaal und\n   begleitet freiberuflich
	 Familien in Karlsruhe-Stadt. Zusätzlich ist Mari\n   Antidiskriminierungs
	trainer*in und Host des Hebammenpodcasts praegnant. Mari\n   ist Elterntei
	l eines Kindes in einer queeren Co-parenting-Mehrelternfamilie\n   und leb
	t mit Partnerin und Kind in der Oststadt. Website und\n   Kontakt: www.mar
	ilennpauli.de [http://www.marilennpauli.de]\n\n * Mika Graf (keine Pronome
	n) ist seit Anfang 2025 Hebamme mit Studium in\n   Karlsruhe und begleitet
	 aktuell freiberuflich Familien in Schwangerschaft und\n   Wochenbett. Mik
	a lebt zusammen mit deren Partnerin in der Karlsruher\n   Südstadt. Außer 
	der gelebten queeren Erfahrung bringt Mika folgendes mit:\n   Bachelorarbe
	it zur Betreuung von trans* Personen im Wochenbett\; Fortbildung\n   „Quee
	rsensible Geburtshilfe“\, ehrenamtliche queere Workshops an Schulen.\n   N
	eben der Arbeit liebt Mika Handarbeiten und Friedhofspaziergänge.\n\nANMEL
	DUNG\n\nAnmeldung und Rückfragen gerne über: queere.geburtsvorbereitung@gm
	ail.com\n[queere.geburtsvorbereitung@gmail.com]
URL:https://keepkarlsruheboring.org/event/geburtsvorbereitungswochenende-fu
	r-queers-1
LOCATION:queerKAstle - Karlsruher Zentrum für queere Vielfalt - Liebigstraß
	e 10-12\, 76135 Karlsruhe
STATUS:CONFIRMED
CATEGORIES:Queer,Registration required
X-ALT-DESC;FMTTYPE=text/html:<p>Am <strong>05. und 06. Dezember</strong> fi
	ndet im Queeren Zentrum Karlsruhe jeweils von <strong>10 – 18 Uhr</strong>
	 das nächste <strong>Geburtsvorbereitungswochenende für queers*</strong> s
	tatt.</p><p>Dieses Kursangebot richtet sich explizit an werdende Eltern un
	d schwangere Personen und deren Begleitpersonen, die sich als <strong>quee
	r*</strong> bzw. Teil der <strong>LGBTQIA-Community</strong> verstehen.</p
	><h4><strong>Kursinhalte</strong></h4><p>Es ist unser Anliegen, einen Safe
	(r) Space für queere werdende Eltern zu schaffen, in dem wir uns außerhalb
	 binärer und normativer Strukturen und Vorstellungen von Körpern, Familie 
	und Elternsein mit der Vorbereitung auf die Geburt eures Kindes beschäftig
	en können.</p><p>Dabei sind alle Inhalte eines klassischen Geburtsvorberei
	tungskurses vertreten – wir besprechen die verschiedenen Phasen einer Gebu
	rt und klären euch über mögliche Interventionen auf. Wir beschäftigen uns 
	mit Atem- und Entspannungstechniken, damit ihr gut auf die Geburtsarbeit v
	orbereitet seid. Vorbereitung auf das Wochenbett und den Start ins Elterns
	ein werden genauso Thema sein, wie die Ernährung eures Kindes und – falls 
	du Stillen möchtest – alles Wichtige für einen gelungenen Stillstart. Wir 
	sind im Kontakt mit dem Jugendamt Karlsruhe, um auch einen Input zur Stief
	kindadoption und zu rechtlichen Fragen geben zu können.</p><p>Darüber hina
	us bietet der Kurs eine Möglichkeit zur Vernetzung und zum Austausch mit a
	nderen queeren Familien aus der Region. Unser Ziel ist es, euch zu empower
	n für eine selbstbestimmte Geburt und euch Wissen und Sicherheit für eure 
	aufregende Reise ins Elternsein mitzugeben.</p><h4><strong>Veranstaltungsd
	etails</strong></h4><p>Die Kurse finden 4 mal jährlich als Wochenendkurs i
	n den Räumen von queerKAstle statt. Dabei sind an beiden Tagen lange Mitta
	gspausen mit gemeinsamem Essen und Raum für ein Kennenlernen vorgesehen.</
	p><h4><strong>Kosten</strong></h4><p>Du kannst sowohl als schwangere Einze
	lperson, als auch mit Partner*in(nen) oder Begleitperson teilnehmen. Die K
	osten für die schwangere Person <strong>werden von der Krankenversicherung
	 übernommen</strong>. Die Kosten je Begleitperson liegen bei rund <strong>
	160 €</strong>, richten sich aber im Rahmen einer Selbsteinschätzung nach 
	euren finanziellen Möglichkeiten. Genaue dazu erfahrt ihr bei der Anmeldun
	g. Kosten für eine Begleitperson können zum Teil von einigen Krankenkassen
	 rückerstattet werden.</p><p>Der Kurs findet in deutscher Lautsprache stat
	t und mit verschiedenen Medien ergänzt. Der Kurs beinhaltet verschiedene K
	örper- und Atemübungen. Alle Körperübungen werden von der schwangeren Pers
	on nur mit einer eigenen Begleitperson(en) durchgeführt.</p><h4><strong>De
	r Kurs wird geleitet von:</strong></h4><ul><li><p><strong>Mari Lenn Pauli<
	/strong> <em>(keine Pronomen)</em> ist seit 2021 Hebamme und arbeitet in v
	erschiedenen Bereichen mit diskriminierungs- und queersensiblen Schwerpunk
	ten. Aktuell ist Mari in Teilzeit angestellt im Kreißsaal und begleitet fr
	eiberuflich Familien in Karlsruhe-Stadt. Zusätzlich ist Mari Antidiskrimin
	ierungstrainer*in und Host des Hebammenpodcasts praegnant. Mari ist Eltern
	teil eines Kindes in einer queeren Co-parenting-Mehrelternfamilie und lebt
	 mit Partnerin und Kind in der Oststadt. <strong>Website und Kontakt</stro
	ng>:&nbsp;<a href="http://www.marilennpauli.de" target="_blank">www.marile
	nnpauli.de</a></p></li><li><p><strong>Mika Graf</strong> <em>(keine Pronom
	en)</em> ist seit Anfang 2025 Hebamme mit Studium in Karlsruhe und begleit
	et aktuell freiberuflich Familien in Schwangerschaft und Wochenbett. Mika 
	lebt zusammen mit deren Partnerin in der Karlsruher Südstadt. Außer der ge
	lebten queeren Erfahrung bringt Mika folgendes mit: Bachelorarbeit zur Bet
	reuung von trans* Personen im Wochenbett; Fortbildung „Queersensible Gebur
	tshilfe“, ehrenamtliche queere Workshops an Schulen. Neben der Arbeit lieb
	t Mika Handarbeiten und Friedhofspaziergänge.</p></li></ul><h4><strong>Anm
	eldung</strong></h4><p>Anmeldung und Rückfragen gerne über: <a href="mailt
	o:queere.geburtsvorbereitung@gmail.com" target="_blank">queere.geburtsvorb
	ereitung@gmail.com</a></p>
BEGIN:VALARM
ACTION:DISPLAY
DESCRIPTION:Geburtsvorbereitungswochenende für queers* [160 €]
TRIGGER:-PT1H
END:VALARM
END:VEVENT
END:VCALENDAR
