BEGIN:VCALENDAR
VERSION:2.0
CALSCALE:GREGORIAN
PRODID:adamgibbons/ics
METHOD:PUBLISH
X-PUBLISHED-TTL:PT1H
BEGIN:VEVENT
UID:198@keepkarlsruheboring.org
SUMMARY:Geburtsvorbereitungswochenende für queers* [0 - 120 €]
DTSTAMP:20260423T102452Z
DTSTART:20251004T080000Z
DTEND:20251005T160000Z
DESCRIPTION:Am 04. und 05. Oktober organisieren Sarah Wittmann (sie/ihr) un
	d Mari Pauli (-)\ngemeinsam mit uns und ilse*\n[https://ba-wue.lsvd.de/lsv
	d-bawu/gruppen/ilse-karlsruhe/] einen\nGeburtsvorbereitungskurs für queere
	 Menschen.\n\nDer Kurs findet an beiden Tagen jeweils von 10-18 Uhr im Que
	eren Zentrum statt.\n\nDie Kosten für schwangere Personen werden von der K
	rankenkasse übernommen. Je\nBegleitperson kostet der Kurs 120€. Es sind au
	ch individuelle Regelungen\nmöglich.\n\nAnmeldungen sind ab sofort unter q
	ueere-geburtsvorbereitung-karlsruhe@posteo.de\n[queere-geburtsvorbereitung
	-karlsruhe@posteo.de] möglich.\n\nhttps://queerkastle.de/veranstaltung/geb
	urtsvorbereitungswochenende-fuer-queers-4/\n[https://queerkastle.de/verans
	taltung/geburtsvorbereitungswochenende-fuer-queers-4/]
URL:https://keepkarlsruheboring.org/event/geburtsvorbereitungswochenende-fu
	r-queers
GEO:49.0042;8.37001
LOCATION:Queeres Zentrum Karlsruhe - Liebigstraße 10-12     Karlsruhe\, 761
	35
STATUS:CONFIRMED
CATEGORIES:Queer,Registration required,Ticket,Workshop
X-ALT-DESC;FMTTYPE=text/html:<p>Am <strong>04. und 05. Oktober</strong> org
	anisieren <strong>Sarah Wittmann</strong> (sie/ihr) und <strong>Mari Pauli
	</strong> (-) gemeinsam mit uns und<a href="https://ba-wue.lsvd.de/lsvd-ba
	wu/gruppen/ilse-karlsruhe/" target="_blank"><strong> ilse*</strong></a> ei
	nen <strong>Geburtsvorbereitungskurs</strong> für queere Menschen.</p><br>
	<p>Der Kurs findet an beiden Tagen jeweils von <strong>10-18 Uhr im Queere
	n Zentrum</strong> statt.</p><br><p>Die <strong>Kosten für schwangere Pers
	onen</strong> werden von der <strong>Krankenkasse</strong> übernommen. Je 
	<strong>Begleitperson</strong> kostet der Kurs <strong>120€</strong>. Es s
	ind auch individuelle Regelungen möglich.</p><br><p><strong>Anmeldungen</s
	trong> sind ab sofort unter <strong><a href="mailto:queere-geburtsvorberei
	tung-karlsruhe@posteo.de" target="_blank">queere-geburtsvorbereitung-karls
	ruhe@posteo.de</a></strong> möglich.</p><br><a href="https://queerkastle.d
	e/veranstaltung/geburtsvorbereitungswochenende-fuer-queers-4/" target="_bl
	ank">https://queerkastle.de/veranstaltung/geburtsvorbereitungswochenende-f
	uer-queers-4/</a>
BEGIN:VALARM
ACTION:DISPLAY
DESCRIPTION:Geburtsvorbereitungswochenende für queers* [0 - 120 €]
TRIGGER:-PT1H
END:VALARM
END:VEVENT
END:VCALENDAR
