BEGIN:VCALENDAR
VERSION:2.0
CALSCALE:GREGORIAN
PRODID:adamgibbons/ics
METHOD:PUBLISH
X-PUBLISHED-TTL:PT1H
BEGIN:VEVENT
UID:559@keepkarlsruheboring.org
SUMMARY:GEDOK: ABOUT – Eine Ausstellung der Fachgruppe Fotografie und Medie
	nkunst
DTSTAMP:20260423T105017Z
DTSTART:20251205T180000Z
DTEND:20251205T200000Z
DESCRIPTION:ABOUT\n\nMedienkunst\, Lichtkunst\, Fotografie\, Malerei\, Inst
	allation\, Videokunst\n\nSinje Dillenkofer\, Christine Dohms\, Michaela va
	n den Driesch\,\nUlrike Gabriel\, Anika Hirt\, Gabi Kaiser\, Lucile Schwör
	er-Merz\,\nTina Tahir\, Ulli Wicke\n\nEine Ausstellung der Fachgruppe Foto
	grafie und Medienkunst\nWerke neuer Mitglieder der Jahre 2024/2025\n\nVern
	issage: Freitag\, 05.12.2025\, 19 Uhr\nEinführung: Norina Quinte\, M. A.\,
	 Kunstwissenschaftlerin\n\nAusstellungsort: GEDOK Künstlerinnenforum\, Mar
	kgrafenstr. 14\, 76131 Karlsruhe\nAusstellungsdauer: Samstag\, 06.12. – So
	nntag\, 21.12.2025\nÖffnungszeiten: Mi. – Fr. 17 – 19 Uhr\, Sa. + So. 14 –
	 16 Uhr\n\nFinissage: Sonntag\, 21.12.2025\, 14 Uhr\n\nEintritt frei\n\nWi
	e spiegeln sich Mensch\, Natur und Technologie in zeitgenössischer Kunst? 
	Die\nAusstellung ABOUT der Fachgruppe Fotografie und Medienkunst der GEDOK
	 Karlsruhe\ngeht dieser Frage in einem ebenso vielfältigen wie sinnlich er
	fahrbaren Dialog\nnach.\n\nSo thematisiert Sinje Dillenkofer in ihrem Film
	 Mirror of Nature das Verhältnis\nvon Mensch und Natur anhand von Archivbi
	ldern und wissenschaftlichen Sammlungen\,\nwährend Christine Dohms mit ihr
	en Lightscapes „mit Licht malt“ und Fotografien\ndurch Lasurtechnik in abs
	trakte Lichtgemälde verwandelt. Anika Hirts\nInstallation sein lädt in ein
	en atmenden\, goldenen Erfahrungsraum ein\; Lucile\nSchwörer-Merz’ interak
	tive Arbeit fluid field reagiert mit Licht und Klang auf\ndie Bewegung der
	 Besucher:innen. Auch die Werke von Tina Tahir und Ulli Wicke\nspielen mit
	 Wahrnehmung\, Identität und den Grenzen zwischen Sichtbarem und\nVerborge
	nem. Fotogramme von Gabi Kaiser\, Malerei von Ulrike Gabriel und\nNeonlich
	tkunst von Michaela van den Driesch komplettieren das vielfältige\nSpektru
	m zeitgenössischer ästhetischer Ansätze\, die in der Ausstellung zu\nerleb
	en sind.\n\nAusstellungskonzept\, Organisation: Sabine Schäfer und Ruth Ka
	sper\,\nFachbeirätinnen Fotografie/Medienkunst. Assistenz: Melanie Allgaie
	r\n\nPressefoto: Anika Hirt: sein\, interaktives Objekt\, 2016/2022\, © Fo
	to: Heinke Rau\n\nMit freundlicher Unterstützung der Stadt Karlsruhe.\n\nG
	EDOK Künstlerinnenforum Karlsruhe\, Markgrafenstr.14 (Ecke Fritz-Erler-Str
	.)\,\n76131 Karlsruhe\, www.gedok-karlsruhe.de [http://www.gedok-karlsruhe
	.de]  / \ngedok-karlsruhe@online.de / Fon: +49 (0) 721 / 37 41 37
URL:https://keepkarlsruheboring.org/event/gedok-about-eine-ausstellung-der-
	fachgruppe-fotografie-und-medienkunst
GEO:49.0079;8.41049
LOCATION:GEDOK Künstlerinnenforum - Markgrafenstr. 14\, 76131 Karlsruhe
STATUS:CONFIRMED
CATEGORIES:Art
X-ALT-DESC;FMTTYPE=text/html:<p><strong>ABOUT</strong></p><p>Medienkunst, L
	ichtkunst, Fotografie, Malerei, Installation, Videokunst</p><p>Sinje Dille
	nkofer, Christine Dohms, Michaela van den Driesch,<br>Ulrike Gabriel, Anik
	a Hirt, Gabi Kaiser, Lucile Schwörer-Merz,<br>Tina Tahir, Ulli Wicke</p><p
	>Eine Ausstellung der Fachgruppe Fotografie und Medienkunst<br>Werke neuer
	 Mitglieder der Jahre 2024/2025</p><p><strong>Vernissage</strong>: Freitag
	, 05.12.2025, 19&nbsp;Uhr<br><strong>Einführung</strong>: Norina Quinte, M
	.&nbsp;A., Kunstwissenschaftlerin</p><p><strong>Ausstellungsort:</strong> 
	GEDOK Künstlerinnenforum, Markgrafenstr. 14, 76131 Karlsruhe<br><strong>Au
	sstellungsdauer:</strong> Samstag, 06.12. – Sonntag, 21.12.2025<br><strong
	>Öffnungszeiten:</strong> Mi. – Fr. 17 – 19&nbsp;Uhr, Sa. + So. 14 – 16&nb
	sp;Uhr</p><p><strong>Finissage:</strong> Sonntag, 21.12.2025, 14&nbsp;Uhr<
	/p><p><strong>Eintritt</strong> frei</p><p>Wie spiegeln sich Mensch, Natur
	 und Technologie in zeitgenössischer Kunst? Die Ausstellung ABOUT der Fach
	gruppe Fotografie und Medienkunst der GEDOK Karlsruhe geht dieser Frage in
	 einem ebenso vielfältigen wie sinnlich erfahrbaren Dialog nach.</p><p>So 
	thematisiert Sinje Dillenkofer in ihrem Film <em>Mirror of Nature</em> das
	 Verhältnis von Mensch und Natur anhand von Archivbildern und wissenschaft
	lichen Sammlungen, während Christine Dohms mit ihren <em>Lightscapes</em> 
	„mit Licht malt“ und Fotografien durch Lasurtechnik in abstrakte Lichtgemä
	lde verwandelt. Anika Hirts Installation <em>sein</em> lädt in einen atmen
	den, goldenen Erfahrungsraum ein; Lucile Schwörer-Merz’ interaktive Arbeit
	 <em>fluid field</em> reagiert mit Licht und Klang auf die Bewegung der Be
	sucher:innen. Auch die Werke von Tina Tahir und Ulli Wicke spielen mit Wah
	rnehmung, Identität und den Grenzen zwischen Sichtbarem und Verborgenem. F
	otogramme von Gabi Kaiser, Malerei von Ulrike Gabriel und Neonlichtkunst v
	on Michaela van den Driesch komplettieren das vielfältige Spektrum zeitgen
	össischer ästhetischer Ansätze, die in der Ausstellung zu erleben sind.</p
	><p>Ausstellungskonzept, Organisation: Sabine Schäfer und Ruth Kasper, Fac
	hbeirätinnen Fotografie/Medienkunst. Assistenz: Melanie Allgaier</p><p>Pre
	ssefoto: Anika Hirt: sein, interaktives Objekt, 2016/2022,  © Foto: Heinke
	 Rau</p><p>Mit freundlicher Unterstützung der Stadt Karlsruhe.</p><p>GEDOK
	 Künstlerinnenforum Karlsruhe, Markgrafenstr.14 (Ecke Fritz-Erler-Str.), 7
	6131 Karlsruhe, <a href="http://www.gedok-karlsruhe.de" target="_blank">ww
	w.gedok-karlsruhe.de</a>&nbsp; /&nbsp; gedok-karlsruhe@online.de / Fon: +4
	9 (0) 721 / 37 41 37</p>
BEGIN:VALARM
ACTION:DISPLAY
DESCRIPTION:GEDOK: ABOUT – Eine Ausstellung der Fachgruppe Fotografie und M
	edienkunst
TRIGGER:-PT1H
END:VALARM
END:VEVENT
END:VCALENDAR
