BEGIN:VCALENDAR
VERSION:2.0
CALSCALE:GREGORIAN
PRODID:adamgibbons/ics
METHOD:PUBLISH
X-PUBLISHED-TTL:PT1H
BEGIN:VEVENT
UID:1134@keepkarlsruheboring.org
SUMMARY:GEDOK: BLAU-GRÜNE STILLE – VEROK GNOS / HELGA ESSERT-LEHN
DTSTAMP:20260423T105012Z
DTSTART:20260313T180000Z
DTEND:20260313T200000Z
DESCRIPTION:BLAU-GRÜNE STILLE\nVEROK GNOS / MALEREI\nHELGA ESSERT-LEHN / OB
	JEKTE\n\nVernissage: Freitag\, 13.03.2026\, 19 Uhr\nEinführung: Sabine Adl
	er M. A.\, Kunsthistorikerin\n\nAusstellungsort: GEDOK Künstlerinnenforum\
	, Markgrafenstr.14\, 76131 Karlsruhe\nAusstellungsdauer: Samstag\, 14.03. 
	– Sonntag\, 12.04.2026\nÖffnungszeiten: Mi. – Fr.  17 – 19 Uhr\, Sa. + So.
	 14 – 16 Uhr\n\nFinissage: Sonntag\, 12.04.2026\,14 Uhr. Beide Künstlerinn
	en sind anwesend.\nEintritt frei\n\nBLAU-GRÜNE STILLE vereint die Malerei 
	von Verok Gnos und die Objekte von Helga\nEssert-Lehn zu einem leisen\, zu
	gleich kraftvollen Dialog zwischen Natur\, Körper\nund Raum. In der Begegn
	ung von Farbe und Form entsteht ein atmosphärischer\nBildraum\, in dem Bla
	u und Grün zu Trägern von Tiefe\, Erinnerung und innerer\nBewegung werden.
	\n\nDie Malereien von Verok Gnos entspringen unmittelbar der Kraft der Far
	be. Ihre\nLandschaften entstehen aus dem Erleben der Natur. Sie sind inspi
	riert von den\nLichtphänomenen des Himmels und den grünen und blauen Relie
	fs der Landschaft.\nIhre Werke machen sichtbar\, was zwischen Licht und Du
	nkelheit\, Wahrnehmung und\nGefühl liegt.\n\nHelga Essert-Lehn nähert sich
	 in ihren plastischen Werken dem Zwischenraum von\nFigur und Natur. Ihre S
	erie „Zwischen Wesen und Weite“ folgt einer organischen\nBewegung\, die an
	 Pflanzenwachstum erinnert. Dabei vermischen sich menschliche\,\ntierische
	 und pflanzliche Formgebung. Aus Beton\, Metall oder Textilien entstehen\n
	taktile\, feinsinnige Formen\, die Geschichten von Wandel und stillem Wach
	stum\nerzählen.\n\nGemeinsam schaffen die beiden Künstlerinnen einen Ort d
	es Innehaltens.\nBLAU-GRÜNE STILLE lädt dazu ein\, den Blick zu verlangsam
	en\, sich berühren zu\nlassen und der eigenen inneren Melodie nachzuspüren
	.\n\nVerok Gnos – Malerei\, www.gnosverok.fr [http://www.gnosverok.fr]\n\n
	Helga Essert-Lehn – Skulpturen/Objekte\, www.essert-lehn.de\n[http://www.e
	ssert-lehn.de]\, Instagram: @helgaessertlehn\n\nMit freundlicher Unterstüt
	zung der Stadt Karlsruhe.\n\nGEDOK Künstlerinnenforum Karlsruhe\, Markgraf
	enstr.14 (Ecke Fritz-Erler-Str.)\,\n76131 Karlsruhe\, www.gedok-karlsruhe.
	de [http://www.gedok-karlsruhe.de]  / \ngedok-karlsruhe@online.de / Fon: +
	49 (0) 721 / 37 41 37\n\nFoto: Verok Gnos\, Fée Verte II\, 2025\, 90x70cm\
	, Lackmalerei auf Alu-Dibond
URL:https://keepkarlsruheboring.org/event/gedok-blau-grune-stille-verok-gno
	s-helga-essert-lehn
GEO:49.0079;8.41049
LOCATION:GEDOK Künstlerinnenforum - Markgrafenstr. 14\, 76131 Karlsruhe
STATUS:CONFIRMED
CATEGORIES:Art
X-ALT-DESC;FMTTYPE=text/html:<p><strong>BLAU-GRÜNE STILLE<br>VEROK GNOS / M
	ALEREI<br>HELGA ESSERT-LEHN / OBJEKTE</strong></p><p><strong>Vernissage</s
	trong>: Freitag, 13.03.2026, 19&nbsp;Uhr<br><strong>Einführung:</strong> S
	abine Adler M.&nbsp;A., Kunsthistorikerin</p><p><strong>Ausstellungsort:</
	strong> GEDOK Künstlerinnenforum, Markgrafenstr.14, 76131 Karlsruhe<br><st
	rong>Ausstellungsdauer:</strong> Samstag, 14.03. – Sonntag, 12.04.2026<br>
	<strong>Öffnungszeiten:</strong> Mi. – Fr.&nbsp; 17 – 19 Uhr, Sa. + So. 14
	 – 16&nbsp;Uhr</p><p><strong>Finissage:</strong> Sonntag, 12.04.2026,14&nb
	sp;Uhr. Beide Künstlerinnen sind anwesend.<br><strong>Eintritt</strong> fr
	ei</p><p>BLAU-GRÜNE STILLE vereint die Malerei von <strong>Verok Gnos</str
	ong> und die Objekte von <strong>Helga Essert-Lehn</strong> zu einem leise
	n, zugleich kraftvollen Dialog zwischen Natur, Körper und Raum. In der Beg
	egnung von Farbe und Form entsteht ein atmosphärischer Bildraum, in dem Bl
	au und Grün zu Trägern von Tiefe, Erinnerung und innerer Bewegung werden.<
	/p><p>Die Malereien von <strong>Verok Gnos</strong> entspringen unmittelba
	r der Kraft der Farbe. Ihre Landschaften entstehen aus dem Erleben der Nat
	ur. Sie sind inspiriert von den Lichtphänomenen des Himmels und den grünen
	 und blauen Reliefs der Landschaft. Ihre Werke machen sichtbar, was zwisch
	en Licht und Dunkelheit, Wahrnehmung und Gefühl liegt.</p><p><strong>Helga
	 Essert-Lehn</strong> nähert sich in ihren plastischen Werken dem Zwischen
	raum von Figur und Natur. Ihre Serie „Zwischen Wesen und Weite“ folgt eine
	r organischen Bewegung, die an Pflanzenwachstum erinnert. Dabei vermischen
	 sich menschliche, tierische und pflanzliche Formgebung. Aus Beton, Metall
	 oder Textilien entstehen taktile, feinsinnige Formen, die Geschichten von
	 Wandel und stillem Wachstum erzählen.</p><p>Gemeinsam schaffen die beiden
	 Künstlerinnen einen Ort des Innehaltens. BLAU-GRÜNE STILLE lädt dazu ein,
	 den Blick zu verlangsamen, sich berühren zu lassen und der eigenen innere
	n Melodie nachzuspüren.</p><p>Verok Gnos – Malerei, <a href="http://www.gn
	osverok.fr" target="_blank">www.gnosverok.fr</a></p><p>Helga Essert-Lehn –
	 Skulpturen/Objekte, <a href="http://www.essert-lehn.de" target="_blank">w
	ww.essert-lehn.de</a>, Instagram: @helgaessertlehn</p><p>Mit freundlicher 
	Unterstützung der Stadt Karlsruhe.</p><p>GEDOK Künstlerinnenforum Karlsruh
	e, Markgrafenstr.14 (Ecke Fritz-Erler-Str.), 76131 Karlsruhe, <a href="htt
	p://www.gedok-karlsruhe.de" target="_blank">www.gedok-karlsruhe.de</a>&nbs
	p; /&nbsp; gedok-karlsruhe@online.de / Fon: +49 (0) 721 / 37 41 37</p><p>F
	oto: Verok Gnos, Fée Verte II, 2025, 90x70cm, Lackmalerei auf Alu-Dibond</
	p>
BEGIN:VALARM
ACTION:DISPLAY
DESCRIPTION:GEDOK: BLAU-GRÜNE STILLE – VEROK GNOS / HELGA ESSERT-LEHN
TRIGGER:-PT1H
END:VALARM
END:VEVENT
END:VCALENDAR
