BEGIN:VCALENDAR
VERSION:2.0
CALSCALE:GREGORIAN
PRODID:adamgibbons/ics
METHOD:PUBLISH
X-PUBLISHED-TTL:PT1H
BEGIN:VEVENT
UID:660@keepkarlsruheboring.org
SUMMARY:GEDOK: Die Neuen – Neue Mitglieder der FG BK stellen aus
DTSTAMP:20260423T090745Z
DTSTART:20260206T180000Z
DTEND:20260206T200000Z
DESCRIPTION:Die Neuen\n\nNeue Mitglieder der Fachgruppe Bildende Kunst der 
	GEDOK Karlsruhe stellen aus:\n\nBritta Braun\, Malerei\nNicole Daudert\, M
	alerei\nZoe Edgecomb\, Zeichnung\nGodela Erhard\, Malerei\nIuliia Frantsev
	a\, Malerei\nNathalie Franz\, Malerei\, Objektkunst\nVerena Mayer-Kolbinge
	r\, Mixed Media\nMargarete Stern\, Malerei\nEvelyn Taylor Kopp\, Mixed Med
	ia\n\nVernissage: Freitag\, 06.02.2026\, 19 Uhr\nEinführung: Simone Maria 
	Dietz\, M. A.\n\nAusstellungsort: GEDOK Künstlerinnenforum\, Markgrafenstr
	.14\, 76131 Karlsruhe\nAusstellungsdauer: Samstag\, 07.02. – Sonntag\, 08.
	03.2026\nÖffnungszeiten: Mi. – Fr.  17 – 19 Uhr\, Sa. + So. 14 – 16 Uhr\n\
	nFinissage: Sonntag\, 08.03.2026\, 15 Uhr\, Künstlerinnen sind anwesend\nE
	intritt frei\n\nDie GEDOK Karlsruhe lädt herzlich zur Ausstellung „Die Neu
	en“ ein! Vom 7.\nFebruar bis 8. März 2026 präsentieren neun neu aufgenomme
	ne Künstlerinnen der\nFachgruppe Bildende Kunst ihre Arbeiten – ein spanne
	nder Einblick in aktuelle\nkünstlerische Positionen zwischen Malerei\, Zei
	chnung\, Mixed Media und\nObjektkunst.\n\nMit dieser Ausstellung bietet di
	e GEDOK neuen Mitgliedern einen Raum\, um ihre\nkünstlerische Handschrift 
	vorzustellen und miteinander in Austausch zu treten.\nDenn eine Mitgliedsc
	haft fördert den Dialog zwischen Künstlerinnen über\nGenerationen und Spar
	ten hinweg – durch Ausstellungen\, Kooperationen und\ngemeinsames Schaffen
	.\n\nMit freundlicher Unterstützung der Stadt Karlsruhe.\n\nGEDOK Künstler
	innenforum\, Markgrafenstr.14 (Ecke Fritz-Erler-Str.)\, 76131\nKarlsruhe\,
	 www.gedok-karlsruhe.de [http://www.gedok-karlsruhe.de]  / \ngedok-karlsru
	he@online.de / Fon: +49 (0) 721 / 37 41 37\n\nPressefoto: Nicole Daudert\,
	 self 02\, 2020\, Acryl\, 80x80 (Copyright Nicole\nDaudert)
URL:https://keepkarlsruheboring.org/event/gedok-die-neuen-neue-mitglieder-d
	er-fg-bk-stellen-aus
GEO:49.0079;8.41049
LOCATION:GEDOK Künstlerinnenforum - Markgrafenstr. 14\, 76131 Karlsruhe
STATUS:CONFIRMED
CATEGORIES:Art
X-ALT-DESC;FMTTYPE=text/html:<p><strong>Die Neuen</strong></p><p>Neue Mitgl
	ieder der Fachgruppe Bildende Kunst der GEDOK Karlsruhe stellen aus:</p><p
	>Britta Braun, Malerei<br>Nicole Daudert, Malerei<br>Zoe Edgecomb, Zeichnu
	ng<br>Godela Erhard, Malerei<br>Iuliia Frantseva, Malerei<br>Nathalie Fran
	z, Malerei, Objektkunst<br>Verena Mayer-Kolbinger, Mixed Media<br>Margaret
	e Stern, Malerei<br>Evelyn Taylor Kopp, Mixed Media</p><p><strong>Vernissa
	ge</strong>: Freitag, 06.02.2026, 19&nbsp;Uhr<br><strong>Einführung:</stro
	ng> Simone Maria Dietz, M.&nbsp;A.</p><p><strong>Ausstellungsort:</strong>
	 GEDOK Künstlerinnenforum, Markgrafenstr.14, 76131 Karlsruhe<br><strong>Au
	sstellungsdauer:</strong> Samstag, 07.02. – Sonntag, 08.03.2026<br><strong
	>Öffnungszeiten:</strong> Mi. – Fr.&nbsp; 17 – 19 Uhr, Sa. + So. 14 – 16 U
	hr</p><p><strong>Finissage:</strong> Sonntag, 08.03.2026, 15&nbsp;Uhr, Kün
	stlerinnen sind anwesend<br><strong>Eintritt</strong> frei</p><p>Die GEDOK
	 Karlsruhe lädt herzlich zur Ausstellung „Die Neuen“ ein! Vom 7. Februar b
	is 8. März 2026 präsentieren neun neu aufgenommene Künstlerinnen der Fachg
	ruppe Bildende Kunst ihre Arbeiten – ein spannender Einblick in aktuelle k
	ünstlerische Positionen zwischen Malerei, Zeichnung, Mixed Media und Objek
	tkunst.</p><p>Mit dieser Ausstellung bietet die GEDOK neuen Mitgliedern ei
	nen Raum, um ihre künstlerische Handschrift vorzustellen und miteinander i
	n Austausch zu treten. Denn eine Mitgliedschaft fördert den Dialog zwische
	n Künstlerinnen über Generationen und Sparten hinweg – durch Ausstellungen
	, Kooperationen und gemeinsames Schaffen.</p><p>Mit freundlicher Unterstüt
	zung der Stadt Karlsruhe.</p><p>GEDOK Künstlerinnenforum, Markgrafenstr.14
	 (Ecke Fritz-Erler-Str.), 76131 Karlsruhe, <a href="http://www.gedok-karls
	ruhe.de" target="_blank">www.gedok-karlsruhe.de</a>&nbsp; /&nbsp; gedok-ka
	rlsruhe@online.de / Fon: +49 (0) 721 / 37 41 37</p><p>Pressefoto: Nicole D
	audert, self 02, 2020, Acryl, 80x80 (Copyright Nicole Daudert)</p>
BEGIN:VALARM
ACTION:DISPLAY
DESCRIPTION:GEDOK: Die Neuen – Neue Mitglieder der FG BK stellen aus
TRIGGER:-PT1H
END:VALARM
END:VEVENT
END:VCALENDAR
