BEGIN:VCALENDAR
VERSION:2.0
CALSCALE:GREGORIAN
PRODID:adamgibbons/ics
METHOD:PUBLISH
X-PUBLISHED-TTL:PT1H
BEGIN:VEVENT
UID:527@keepkarlsruheboring.org
SUMMARY:GEDOK: Skye Möller\, Aber was kommt dann? Einblicke in postmigranti
	sches (Er)Leben / Spoken Word
DTSTAMP:20260423T105010Z
DTSTART:20251119T183000Z
DTEND:20251119T200000Z
DESCRIPTION:Skye Möller\nAber was kommt dann?\nEinblicke in postmigrantisch
	es (Er)Leben\nLesung / Spoken Word\n\nim Rahmen der Ausstellung Migration 
	– Verlust oder Freiheit?\nZeitgenössische Druckgrafik von 11 polnischen Kü
	nstler:innen\n\nDatum: Mittwoch\, 19.11.2025\, 19:30 Uhr\nVeranstaltungsor
	t: GEDOK Künstlerinnenforum\, Markgrafenstr.14\, 76131 Karlsruhe\nEintritt
	 frei\, Spenden willkommen\n\nSkye Möller ist post-migrantische*r Künstler
	*in aus Hamburg. Teile der eigenen\nFamilie migrierten ab den 90er-Jahren 
	von Polen nach Deutschland. Skye ist aktiv\nin der queeren und migrantisch
	en Communityarbeit und kreiert lyrische Einblicke\nin die eigenen Erfahrun
	gen\, welche auf Bühnen und in Zeitschriften geteilt\nwerden. Viele der Te
	xte befassen sich mit dem Aufwachsen zwischen zwei Welten\,\nder Suche nac
	h Zugehörigkeit und den Tragiken des Lebens.\n\nSie gehört zu den Organisi
	erenden des PostOst Get-Together Hamburg\, eines\nregelmäßigen Treffens fü
	r Menschen aus dem PostOst-Raum* mit Kreativimpulsen zum\nSchreiben oder Z
	eichnen.\n*‚PostOst‘ ist eine Selbstbezeichnung von Menschen mit Migration
	sgeschichte aus\nLändern in Europa und Asien\, die entweder ‚Osteuropa‘ zu
	geordnet oder als\npostsowjetisch benannt werden.\n\nSkye Möller ist außer
	dem ehrenamtlich beim Jugendnetzwerk Lambda e. V. tätig\,\ndas sich für ju
	nge Queers und die Verbesserung ihrer Lebenssituation einsetzt.\nIm Jugend
	magazin ‚out!‘ sind regelmäßig Beiträge von ihr veröffentlicht\, u. a.\nin
	 Nr. 67/Sommer 2024 („Was siehst du?“) und Nr. 70/Frühling 2025\n(„Migrant
	innenkinder“): https://lambda-online.de/out/\n[https://lambda-online.de/ou
	t/]\n\nVor allem aber tritt sie auf verschiedensten Bühnen im Land mit\nSp
	oken-Word-Performances auf\, zuletzt bei Queeren Poetry-Slams\, Lesebühnen
	 und\nanderen Performance-Formaten in Hamburg\, Braunschweig und München.\
	n\nDie Ausstellung ‚Migration – Verlust oder Freiheit?‘ kann dank finanzie
	ller\nUnterstützung der Stiftung für deutsch-polnische Zusammenarbeit (Sdp
	Z) sowie der\nStadt Karlsruhe gezeigt werden. \n\nGEDOK Künstlerinnenforum
	 Karlsruhe\, Markgrafenstr.14 (Ecke Fritz-Erler-Str.)\,\n76131 Karlsruhe\,
	 www.gedok-karlsruhe.de [http://www.gedok-karlsruhe.de]  / \ngedok-karlsru
	he@online.de / Fon: +49 (0) 721 / 37 41 37\n\nFoto: GEDOK Künstlerinnenfor
	um Karlsruhe\, Galerieräume außen\, Foto: GEDOK
URL:https://keepkarlsruheboring.org/event/gedok-skye-moller-aber-was-kommt-
	dann-einblicke-in-postmigrantisches-erleben-spoken-word
GEO:49.0079;8.41049
LOCATION:GEDOK Künstlerinnenforum - Markgrafenstr. 14\, 76131 Karlsruhe
STATUS:CONFIRMED
CATEGORIES:Art,Migration
X-ALT-DESC;FMTTYPE=text/html:<p><strong>Skye Möller<br>Aber was kommt dann?
	 <br>Einblicke in postmigrantisches (Er)Leben<br></strong>Lesung / Spoken 
	Word</p><p>im Rahmen der Ausstellung <strong>Migration – Verlust oder Frei
	heit?<br></strong>Zeitgenössische Druckgrafik von 11 polnischen Künstler:i
	nnen</p><p><strong>Datum:</strong> Mittwoch, 19.11.2025, 19:30&nbsp;Uhr<br
	><strong>Veranstaltungsort:</strong> GEDOK Künstlerinnenforum, Markgrafens
	tr.14, 76131 Karlsruhe<br><strong>Eintritt</strong> frei, Spenden willkomm
	en</p><p>Skye Möller ist post-migrantische*r<em> </em>Künstler*in aus Hamb
	urg. Teile der eigenen Familie migrierten ab den 90er-Jahren von Polen nac
	h Deutschland. Skye ist aktiv in der queeren und migrantischen Communityar
	beit und kreiert lyrische Einblicke in die eigenen Erfahrungen, welche auf
	 Bühnen und in Zeitschriften geteilt werden. Viele der Texte befassen sich
	 mit dem Aufwachsen zwischen zwei Welten, der Suche nach Zugehörigkeit und
	 den Tragiken des Lebens.</p><p>Sie gehört zu den Organisierenden des Post
	Ost Get-Together Hamburg, eines regelmäßigen Treffens für Menschen aus dem
	 PostOst-Raum* mit Kreativimpulsen zum Schreiben oder Zeichnen.<br>*‚PostO
	st‘ ist eine Selbstbezeichnung von Menschen mit Migrationsgeschichte aus L
	ändern in Europa und Asien, die entweder ‚Osteuropa‘ zugeordnet oder als p
	ostsowjetisch benannt werden.</p><p>Skye Möller ist außerdem ehrenamtlich 
	beim Jugendnetzwerk Lambda e.&nbsp;V. tätig, das sich für junge Queers und
	 die Verbesserung ihrer Lebenssituation einsetzt. Im Jugendmagazin ‚out!‘ 
	sind regelmäßig Beiträge von ihr veröffentlicht, u.&nbsp;a. in Nr. 67/Somm
	er 2024 („Was siehst du?“) und Nr. 70/Frühling 2025 („Migrantinnenkinder“)
	: <a href="https://lambda-online.de/out/" target="_blank">https://lambda-o
	nline.de/out/</a></p><p>Vor allem aber tritt sie auf verschiedensten Bühne
	n im Land mit Spoken-Word-Performances auf, zuletzt bei Queeren Poetry-Sla
	ms, Lesebühnen und anderen Performance-Formaten in Hamburg, Braunschweig u
	nd München.</p><p>Die Ausstellung ‚Migration – Verlust oder Freiheit?‘ kan
	n dank finanzieller Unterstützung der Stiftung für deutsch-polnische Zusam
	menarbeit (SdpZ) sowie der Stadt Karlsruhe gezeigt werden.&nbsp;</p><p>GED
	OK Künstlerinnenforum Karlsruhe, Markgrafenstr.14 (Ecke Fritz-Erler-Str.),
	 76131 Karlsruhe, <a href="http://www.gedok-karlsruhe.de" target="_blank">
	www.gedok-karlsruhe.de</a>&nbsp; /&nbsp; gedok-karlsruhe@online.de / Fon: 
	+49 (0) 721 / 37 41 37</p><p>Foto: GEDOK Künstlerinnenforum Karlsruhe, Gal
	erieräume außen, Foto: GEDOK</p>
BEGIN:VALARM
ACTION:DISPLAY
DESCRIPTION:GEDOK: Skye Möller, Aber was kommt dann? Einblicke in postmigra
	ntisches (Er)Leben / Spoken Word
TRIGGER:-PT1H
END:VALARM
END:VEVENT
END:VCALENDAR
