BEGIN:VCALENDAR
VERSION:2.0
CALSCALE:GREGORIAN
PRODID:adamgibbons/ics
METHOD:PUBLISH
X-PUBLISHED-TTL:PT1H
BEGIN:VEVENT
UID:480@keepkarlsruheboring.org
SUMMARY:GEDOK / VHS: Die Stimme – Instrument des Jahres 2025 / Workshop und
	 Konzert [23 €]
DTSTAMP:20260423T105012Z
DTSTART:20251116T100000Z
DTEND:20251116T120000Z
DESCRIPTION:Die Stimme – Instrument des Jahres 2025\nWorkshop und Konzert\n
	GEDOK Karlsruhe in Kooperation mit der VHS Karlsruhe\n\nWorkshop Stimmbild
	ung: Samstag\, 15.11.2025\, 14 – 16:30 Uhr\nKursgebühr: 23 EUR\, Anmeldung
	: VHS\, Kursnummer: 253-32318\nKonzert: Sonntag\, 16.11.2025\, 11 Uhr\nEin
	tritt Konzert frei\, Spenden willkommen\nVeranstaltungsort: Bernays-Saal d
	er VHS Karlsruhe\, Kaiserallee 112 E\, 76133\nKarlsruhe\n\nFast alle haben
	 eine. Schon gleich nach der Geburt ist sie zu hören. Zunächst\nnoch unstr
	ukturiert und unartikuliert\, entwickeln sich schon bald Laute\,\nSprache\
	, Klang\, Tonhöhen. Die Stimme ermöglicht uns\, zusammen mit der Mimik und
	\nGestik zu kommunizieren.\n\nIm Laufe der Geschichte entwickelte sich das
	 Singen zur Kunstform: Aus dem\nmodulierten Rezitieren eines Textes entwic
	kelte sich das – zunächst einstimmige\n– Psalmodieren von Liturgietexten\,
	 dann verschiedene Arten von Mehrstimmigkeit.\n\nAber auch die Stimmen/Mel
	odien selbst wurden immer komplexer: Koloraturen in\natemberaubender Gesch
	windigkeit bis hin zu atonaler Musik. Im 20. Jahrhundert\nbegann dann ein 
	neues Kapitel in der Beziehung von Sprache\, Ton und\nEmotionsäußerung. Au
	sgehend von der reinen Silbenlyrik bei den Dadaisten\nemanzipierten sich S
	prachlaute\, später auch emotionale Stimmäußerungen wie\nLachen\, Weinen\,
	 Stöhnen neben gesungenen Tönen als gestaltende Elemente in der\nMusik.\n\
	nNicht zuletzt rückt die Stimme als „heilende Stimme“ ins Bewusstsein. Das
	\nurtümliche Strömen des Klangs\, die Übertragung von Schwingungen hilft\,
	 sich zu\nspüren\, Verspannungen zu lösen und sich ganzheitlich zu erleben
	. Diese große\nVielfalt soll im Workshop erarbeitet werden.\n\nIm Konzert 
	treffen zwei erfahrene Sängerinnen\, eine einfühlsame Pianistin und\nengag
	ierte Laien aufeinander. Gemeinsam präsentieren sie ein abwechslungsreiche
	s\nProgramm – von Klassik bis Chanson\, von Jazz bis zeitgenössischer Musi
	k. Die\nMischung aus unterschiedlichen Stimmen\, Stilen und Persönlichkeit
	en macht diese\nMatinee zu einem lebendigen musikalischen Erlebnis.\n\nMit
	wirkende: singende Laien\, Rita Huber-Süß (Stimme und Konzept)\, Denise Se
	yhan\n(Stimme)\, Jeanette Chao (Klavier\, Stimme)\n\nGEDOK Künstlerinnenfo
	rum Karlsruhe\, Markgrafenstr.14 (Ecke Fritz-Erler-Str.)\,\n76131 Karlsruh
	e\, www.gedok-karlsruhe.de [http://www.gedok-karlsruhe.de]  / \ngedok-karl
	sruhe@online.de / Fon: +49 (0) 721 / 37 41 37\n\nFoto: Denise Seyhan\, Jea
	nette Chao\, Rita Huber-Süßhoch\, Foto: Anne Kup
URL:https://keepkarlsruheboring.org/event/gedok-vhs-die-stimme-instrument-d
	es-jahres-2025-workshop-und-konzert
GEO:49.0113;8.37594
LOCATION:VHS Karlsruhe - Kaiserallee 112 E\, 76133 Karlsruhe
STATUS:CONFIRMED
CATEGORIES:Music,Registration required,Ticket,Workshop
X-ALT-DESC;FMTTYPE=text/html:<p><strong>Die Stimme – Instrument des Jahres 
	2025<br>Workshop und Konzert<br></strong>GEDOK Karlsruhe in Kooperation mi
	t der VHS Karlsruhe</p><p><strong>Workshop Stimmbildung:</strong> Samstag,
	 15.11.2025, 14 – 16:30&nbsp;Uhr<br>Kursgebühr: 23&nbsp;EUR, Anmeldung: VH
	S, Kursnummer: 253-32318<br><strong>Konzert</strong>: Sonntag, 16.11.2025,
	 11&nbsp;Uhr<br>Eintritt Konzert frei, Spenden willkommen<br><strong>Veran
	staltungsort:</strong> Bernays-Saal der VHS Karlsruhe, Kaiserallee 112 E, 
	76133 Karlsruhe</p><p>Fast alle haben eine. Schon gleich nach der Geburt i
	st sie zu hören. Zunächst noch unstrukturiert und unartikuliert, entwickel
	n sich schon bald Laute, Sprache, Klang, Tonhöhen. Die Stimme ermöglicht u
	ns, zusammen mit der Mimik und Gestik zu kommunizieren.</p><p>Im Laufe der
	 Geschichte entwickelte sich das Singen zur Kunstform: Aus dem modulierten
	 Rezitieren eines Textes entwickelte sich das – zunächst einstimmige – Psa
	lmodieren von Liturgietexten, dann verschiedene Arten von Mehrstimmigkeit.
	</p><p>Aber auch die Stimmen/Melodien selbst wurden immer komplexer: Kolor
	aturen in atemberaubender Geschwindigkeit bis hin zu atonaler Musik. Im 20
	. Jahrhundert begann dann ein neues Kapitel in der Beziehung von Sprache, 
	Ton und Emotionsäußerung. Ausgehend von der reinen Silbenlyrik bei den Dad
	aisten emanzipierten sich Sprachlaute, später auch emotionale Stimmäußerun
	gen wie Lachen, Weinen, Stöhnen neben gesungenen Tönen als gestaltende Ele
	mente in der Musik.</p><p>Nicht zuletzt rückt die Stimme als „heilende Sti
	mme“ ins Bewusstsein. Das urtümliche Strömen des Klangs, die Übertragung v
	on Schwingungen hilft, sich zu spüren, Verspannungen zu lösen und sich gan
	zheitlich zu erleben. Diese große Vielfalt soll im <strong>Workshop</stron
	g> erarbeitet werden.</p><p>Im <strong>Konzert</strong> treffen zwei erfah
	rene Sängerinnen, eine einfühlsame Pianistin und engagierte Laien aufeinan
	der. Gemeinsam präsentieren sie ein abwechslungsreiches Programm – von Kla
	ssik bis Chanson, von Jazz bis zeitgenössischer Musik. Die Mischung aus un
	terschiedlichen Stimmen, Stilen und Persönlichkeiten macht diese Matinee z
	u einem lebendigen musikalischen Erlebnis.</p><p>Mitwirkende: singende Lai
	en, Rita Huber-Süß (Stimme und Konzept), Denise Seyhan (Stimme), Jeanette 
	Chao (Klavier, Stimme)</p><p>GEDOK Künstlerinnenforum Karlsruhe, Markgrafe
	nstr.14 (Ecke Fritz-Erler-Str.), 76131 Karlsruhe, <a href="http://www.gedo
	k-karlsruhe.de" target="_blank">www.gedok-karlsruhe.de</a>&nbsp; /&nbsp; g
	edok-karlsruhe@online.de / Fon: +49 (0) 721 / 37 41 37</p><p>Foto: Denise 
	Seyhan, Jeanette Chao, Rita Huber-Süßhoch, Foto: Anne Kup</p>
BEGIN:VALARM
ACTION:DISPLAY
DESCRIPTION:GEDOK / VHS: Die Stimme – Instrument des Jahres 2025 / Workshop
	 und Konzert [23 €]
TRIGGER:-PT1H
END:VALARM
END:VEVENT
END:VCALENDAR
