BEGIN:VCALENDAR
VERSION:2.0
CALSCALE:GREGORIAN
PRODID:adamgibbons/ics
METHOD:PUBLISH
X-PUBLISHED-TTL:PT1H
BEGIN:VEVENT
UID:535@keepkarlsruheboring.org
SUMMARY:GEDOK/HfM: Eine Klangreise der Posaune\, Preisträgerkonzert Martyna
	 Mišeikytė
DTSTAMP:20260423T104913Z
DTSTART:20251127T183000Z
DTEND:20251127T200000Z
DESCRIPTION:2. Preisträgerkonzert GEDOK und Hochschule für Musik Karlsruhe\
	n\nMartyna Mišeikytė\, Posaune\n\nDatum: Donnerstag\, 27.11.2025\, 19:30 U
	hr\nVeranstaltungsort: Hochschule für Musik (HfM)\, CampusOne – Schloss Go
	ttesaue\,\nVelte-Saal\, Am Schloss Gottesaue 7\, 76131 Karlsruhe\nEintritt
	 frei\n\nPreisträgerkonzert mit Vergabe des 2. GEDOK Musikpreises in Koope
	ration mit der\nHochschule für Musik Karlsruhe an ein:e herausragende Stud
	ent:in der Hochschule\nfür Musik. Die GEDOK widmet sich damit verstärkt de
	r Nachwuchsförderung auch im\nBereich der Musik. Auf Vorschlag der HfM erh
	ält den Preis 2025 Martyna\nMišeikytė\, Posaune.\n\nMartyna Mišeikytė (*20
	01) lernte ab dem Alter von 6 Jahren an der Musik-und\nKunstschule in Trak
	ai (Litauen) Klavier und verschiedene Blechblasinstrumente.\n2014 wechselt
	e sie an das Musikgymnasium M.K. Čiurlionis in Vilnius\, wo die\nPosaune z
	u ihrem Hauptinstrument wurde. 2020 kam sie nach Deutschland und setzt\nse
	ither ihre musikalische Ausbildung an der HfM Karlsruhe bei Prof. Brandt\n
	Attema und Sándor Szabó fort.\n\nSie ist Preisträgerin zahlreicher Wettbew
	erbe und hat an verschiedenen\nMeisterkursen mit großen Posaunisten teilge
	nommen. 2023 wurde sie Stipendiatin\ndes Deutschlandstipendiums\, 2024 erh
	ielt sie eine Akademiestelle beim\nSinfonieorchester Wuppertal. Seit März 
	2025 ist Martyna Mišeikytė als\nSolo-Posaunistin im Philharmonischen Orche
	ster Bremerhaven engagiert.\n\nEine Klangreise der Posaune\nWerke von Bria
	n Lynn\, Henri Tomasi\, Robert Schumann\, Fanny Hensel\, Astor\nPiazzolla 
	und Veronika Reutz Drobnić\n\nMitwirkende:\nMartyna Mišeikytė\, Posaune\nJ
	hih-Ting Wong\, Klavier\n\nMit freundlicher Unterstützung der Stadt Karlsr
	uhe.\n\nGEDOK Künstlerinnenforum Karlsruhe\, Markgrafenstr.14 (Ecke Fritz-
	Erler-Str.)\,\n76131 Karlsruhe\, www.gedok-karlsruhe.de [http://www.gedok-
	karlsruhe.de]  / \ngedok-karlsruhe@online.de / Fon: +49 (0) 721 / 37 41 37
	\n\nFoto: Martyna Miseikyte\, Foto: Simona Mockeviciene
URL:https://keepkarlsruheboring.org/event/gedokhfm-eine-klangreise-der-posa
	une-preistragerkonzert-martyna-miseikyte
GEO:49.0049;8.42659
LOCATION:Hochschule für Musik (HfM) - Am Schloss Gottesaue 7\, 76131 Karlsr
	uhe
STATUS:CONFIRMED
CATEGORIES:Music
X-ALT-DESC;FMTTYPE=text/html:<p><strong>2. Preisträgerkonzert GEDOK und Hoc
	hschule für Musik Karlsruhe</strong></p><p><strong>Martyna Mišeikytė, Posa
	une</strong></p><p><strong>Datum:</strong> Donnerstag, 27.11.2025, 19:30&n
	bsp;Uhr<br><strong>Veranstaltungsort:</strong> Hochschule für Musik (HfM),
	 CampusOne – Schloss Gottesaue, Velte-Saal, Am Schloss Gottesaue 7, 76131 
	Karlsruhe<br><strong>Eintritt </strong>frei</p><p>Preisträgerkonzert mit V
	ergabe des 2. GEDOK Musikpreises in Kooperation mit der Hochschule für Mus
	ik Karlsruhe an ein:e herausragende Student:in der Hochschule für Musik. D
	ie GEDOK widmet sich damit verstärkt der Nachwuchsförderung auch im Bereic
	h der Musik. Auf Vorschlag der HfM erhält den Preis 2025 Martyna Mišeikytė
	, Posaune.</p><p><strong>Martyna Mišeikytė</strong> (*2001) lernte ab dem 
	Alter von 6 Jahren an der Musik-und Kunstschule in Trakai (Litauen) Klavie
	r und verschiedene Blechblasinstrumente. 2014 wechselte sie an das Musikgy
	mnasium M.K. Čiurlionis in Vilnius, wo die Posaune zu ihrem Hauptinstrumen
	t wurde. 2020 kam sie nach Deutschland und setzt seither ihre musikalische
	 Ausbildung an der HfM Karlsruhe bei Prof. Brandt Attema und Sándor Szabó 
	fort.</p><p>Sie ist Preisträgerin zahlreicher Wettbewerbe und hat an versc
	hiedenen Meisterkursen mit großen Posaunisten teilgenommen. 2023 wurde sie
	 Stipendiatin des Deutschlandstipendiums, 2024 erhielt sie eine Akademiest
	elle beim Sinfonieorchester Wuppertal. Seit März 2025 ist Martyna Mišeikyt
	ė als Solo-Posaunistin im Philharmonischen Orchester Bremerhaven engagiert
	.</p><p><strong>Eine Klangreise der Posaune<br></strong>Werke von Brian Ly
	nn, Henri Tomasi, Robert Schumann, Fanny Hensel, Astor Piazzolla und Veron
	ika Reutz Drobnić</p><p>Mitwirkende:<br>Martyna Mišeikytė, Posaune<br>Jhih
	-Ting Wong, Klavier</p><p>Mit freundlicher Unterstützung der Stadt Karlsru
	he.</p><p>GEDOK Künstlerinnenforum Karlsruhe, Markgrafenstr.14 (Ecke Fritz
	-Erler-Str.), 76131 Karlsruhe, <a href="http://www.gedok-karlsruhe.de" tar
	get="_blank">www.gedok-karlsruhe.de</a>&nbsp; /&nbsp; gedok-karlsruhe@onli
	ne.de / Fon: +49 (0) 721 / 37 41 37</p><p>Foto: Martyna Miseikyte<em>, </e
	m>Foto: Simona Mockeviciene</p>
BEGIN:VALARM
ACTION:DISPLAY
DESCRIPTION:GEDOK/HfM: Eine Klangreise der Posaune, Preisträgerkonzert Mart
	yna Mišeikytė
TRIGGER:-PT1H
END:VALARM
END:VEVENT
END:VCALENDAR
